Workbook

Sheet RTS28_R_Equity_Derivates
A1: Trading volumes of top five execution venues 2021
A3: Retail clients
A7: Class of Instrument | B7: Equity derivates
A8: Notification if <1 average trade per business day in the previous year | B8: =IF([1]RTS28_R_Aktienderivate!B8="Ja","Yes","No") -> Yes
A10: Top five execution venues ranked in terms of trading volumes (descending order) | B10: Proportion of volume traded as a percentage of total in that class | C10: Proportion of orders executed as percentage of total in that class | D10: Percentage of passive orders | E10: Percentage of aggressive orders | F10: Percentage of directed orders
A11: =IF(ISBLANK([1]RTS28_R_Aktienderivate!A11),"",[1]RTS28_R_Aktienderivate!A11) -> Eurex Deutschland (XEUR) | B11: =IF(ISBLANK([1]RTS28_R_Aktienderivate!B11),"",[1]RTS28_R_Aktienderivate!B11) -> 0.13664088 | C11: =IF(ISBLANK([1]RTS28_R_Aktienderivate!C11),"",[1]RTS28_R_Aktienderivate!C11) -> 0.19666667 | D11: =IF(ISBLANK([1]RTS28_R_Aktienderivate!D11),"",[1]RTS28_R_Aktienderivate!D11) -> 0.0035737627 | E11: =IF(ISBLANK([1]RTS28_R_Aktienderivate!E11),"",[1]RTS28_R_Aktienderivate!E11) -> 0.13306712 | F11: =IF(ISBLANK([1]RTS28_R_Aktienderivate!F11),"",[1]RTS28_R_Aktienderivate!F11) -> 0
A12: =IF(ISBLANK([1]RTS28_R_Aktienderivate!A12),"",[1]RTS28_R_Aktienderivate!A12) -> Options Price Reporting Authority (OPRA) | B12: =IF(ISBLANK([1]RTS28_R_Aktienderivate!B12),"",[1]RTS28_R_Aktienderivate!B12) -> 0.019122391 | C12: =IF(ISBLANK([1]RTS28_R_Aktienderivate!C12),"",[1]RTS28_R_Aktienderivate!C12) -> 0.023333333 | D12: =IF(ISBLANK([1]RTS28_R_Aktienderivate!D12),"",[1]RTS28_R_Aktienderivate!D12) -> 0 | E12: =IF(ISBLANK([1]RTS28_R_Aktienderivate!E12),"",[1]RTS28_R_Aktienderivate!E12) -> 0.019122391 | F12: =IF(ISBLANK([1]RTS28_R_Aktienderivate!F12),"",[1]RTS28_R_Aktienderivate!F12) -> 0
A13: =IF(ISBLANK([1]RTS28_R_Aktienderivate!A13),"",[1]RTS28_R_Aktienderivate!A13) -> Euronext Paris MONEP, Equity and Index Derivatives (XMON) | B13: =IF(ISBLANK([1]RTS28_R_Aktienderivate!B13),"",[1]RTS28_R_Aktienderivate!B13) -> 0.0026640991 | C13: =IF(ISBLANK([1]RTS28_R_Aktienderivate!C13),"",[1]RTS28_R_Aktienderivate!C13) -> 0.013333333 | D13: =IF(ISBLANK([1]RTS28_R_Aktienderivate!D13),"",[1]RTS28_R_Aktienderivate!D13) -> 0.0004583601 | E13: =IF(ISBLANK([1]RTS28_R_Aktienderivate!E13),"",[1]RTS28_R_Aktienderivate!E13) -> 0.002205739 | F13: =IF(ISBLANK([1]RTS28_R_Aktienderivate!F13),"",[1]RTS28_R_Aktienderivate!F13) -> 0
A14: =IF(ISBLANK([1]RTS28_R_Aktienderivate!A14),"",[1]RTS28_R_Aktienderivate!A14) -> Italian Derivatives Market (XDMI) | B14: =IF(ISBLANK([1]RTS28_R_Aktienderivate!B14),"",[1]RTS28_R_Aktienderivate!B14) -> 0.000304799 | C14: =IF(ISBLANK([1]RTS28_R_Aktienderivate!C14),"",[1]RTS28_R_Aktienderivate!C14) -> 0.0033333333 | D14: =IF(ISBLANK([1]RTS28_R_Aktienderivate!D14),"",[1]RTS28_R_Aktienderivate!D14) -> 0 | E14: =IF(ISBLANK([1]RTS28_R_Aktienderivate!E14),"",[1]RTS28_R_Aktienderivate!E14) -> 7.3682391e-05 | F14: =IF(ISBLANK([1]RTS28_R_Aktienderivate!F14),"",[1]RTS28_R_Aktienderivate!F14) -> 0
A15: =IF(ISBLANK([1]RTS28_R_Aktienderivate!A15),"",[1]RTS28_R_Aktienderivate!A15) | B15: =IF(ISBLANK([1]RTS28_R_Aktienderivate!B15),"",[1]RTS28_R_Aktienderivate!B15) | C15: =IF(ISBLANK([1]RTS28_R_Aktienderivate!C15),"",[1]RTS28_R_Aktienderivate!C15) | D15: =IF(ISBLANK([1]RTS28_R_Aktienderivate!D15),"",[1]RTS28_R_Aktienderivate!D15) | E15: =IF(ISBLANK([1]RTS28_R_Aktienderivate!E15),"",[1]RTS28_R_Aktienderivate!E15) | F15: =IF(ISBLANK([1]RTS28_R_Aktienderivate!F15),"",[1]RTS28_R_Aktienderivate!F15)

Sheet RTS28_R_Equities_Shares
A1: =RTS28_R_Equity_Derivates!A1 -> Trading volumes of top five execution venues 2021
A3: Retail clients
A7: Class of Instrument | B7: Equities - Shares & Depository receipts
A8: Notification if <1 average trade per business day in the previous year | B8: =IF([1]RTS28_R_Eigenkapitalinstrumente!B8="Ja","Yes","No") -> No
A10: Top five execution venues ranked in terms of trading volumes (descending order) | B10: Proportion of volume traded as a percentage of total in that class | C10: Proportion of orders executed as percentage of total in that class | D10: Percentage of passive orders | E10: Percentage of aggressive orders | F10: Percentage of directed orders
A11: =IF(ISBLANK([1]RTS28_R_Eigenkapitalinstrumente!A11),"",[1]RTS28_R_Eigenkapitalinstrumente!A11) -> SIX Swiss Exchange (XSWX) | B11: =IF(ISBLANK([1]RTS28_R_Eigenkapitalinstrumente!B11),"",[1]RTS28_R_Eigenkapitalinstrumente!B11) -> 0.17783394 | C11: =IF(ISBLANK([1]RTS28_R_Eigenkapitalinstrumente!C11),"",[1]RTS28_R_Eigenkapitalinstrumente!C11) -> 0.23678325 | D11: =IF(ISBLANK([1]RTS28_R_Eigenkapitalinstrumente!D11),"",[1]RTS28_R_Eigenkapitalinstrumente!D11) -> 0.0053186864 | E11: =IF(ISBLANK([1]RTS28_R_Eigenkapitalinstrumente!E11),"",[1]RTS28_R_Eigenkapitalinstrumente!E11) -> 0.17251525 | F11: =IF(ISBLANK([1]RTS28_R_Eigenkapitalinstrumente!F11),"",[1]RTS28_R_Eigenkapitalinstrumente!F11) -> 0
A12: =IF(ISBLANK([1]RTS28_R_Eigenkapitalinstrumente!A12),"",[1]RTS28_R_Eigenkapitalinstrumente!A12) -> New York Stock Exchange, Inc (XNYS) | B12: =IF(ISBLANK([1]RTS28_R_Eigenkapitalinstrumente!B12),"",[1]RTS28_R_Eigenkapitalinstrumente!B12) -> 0.16399812 | C12: =IF(ISBLANK([1]RTS28_R_Eigenkapitalinstrumente!C12),"",[1]RTS28_R_Eigenkapitalinstrumente!C12) -> 0.21585115 | D12: =IF(ISBLANK([1]RTS28_R_Eigenkapitalinstrumente!D12),"",[1]RTS28_R_Eigenkapitalinstrumente!D12) -> 0.029116123 | E12: =IF(ISBLANK([1]RTS28_R_Eigenkapitalinstrumente!E12),"",[1]RTS28_R_Eigenkapitalinstrumente!E12) -> 0.134882 | F12: =IF(ISBLANK([1]RTS28_R_Eigenkapitalinstrumente!F12),"",[1]RTS28_R_Eigenkapitalinstrumente!F12) -> 0
A13: =IF(ISBLANK([1]RTS28_R_Eigenkapitalinstrumente!A13),"",[1]RTS28_R_Eigenkapitalinstrumente!A13) -> NASDAQ (XNAS) | B13: =IF(ISBLANK([1]RTS28_R_Eigenkapitalinstrumente!B13),"",[1]RTS28_R_Eigenkapitalinstrumente!B13) -> 0.14052392 | C13: =IF(ISBLANK([1]RTS28_R_Eigenkapitalinstrumente!C13),"",[1]RTS28_R_Eigenkapitalinstrumente!C13) -> 0.17541819 | D13: =IF(ISBLANK([1]RTS28_R_Eigenkapitalinstrumente!D13),"",[1]RTS28_R_Eigenkapitalinstrumente!D13) -> 0.014739765 | E13: =IF(ISBLANK([1]RTS28_R_Eigenkapitalinstrumente!E13),"",[1]RTS28_R_Eigenkapitalinstrumente!E13) -> 0.12578416 | F13: =IF(ISBLANK([1]RTS28_R_Eigenkapitalinstrumente!F13),"",[1]RTS28_R_Eigenkapitalinstrumente!F13) -> 0
A14: =IF(ISBLANK([1]RTS28_R_Eigenkapitalinstrumente!A14),"",[1]RTS28_R_Eigenkapitalinstrumente!A14) -> SIX Swiss Exchange, SwissAtMid (XSWM) | B14: =IF(ISBLANK([1]RTS28_R_Eigenkapitalinstrumente!B14),"",[1]RTS28_R_Eigenkapitalinstrumente!B14) -> 0.035340213 | C14: =IF(ISBLANK([1]RTS28_R_Eigenkapitalinstrumente!C14),"",[1]RTS28_R_Eigenkapitalinstrumente!C14) -> 0.038286072 | D14: =IF(ISBLANK([1]RTS28_R_Eigenkapitalinstrumente!D14),"",[1]RTS28_R_Eigenkapitalinstrumente!D14) -> 0.001602952 | E14: =IF(ISBLANK([1]RTS28_R_Eigenkapitalinstrumente!E14),"",[1]RTS28_R_Eigenkapitalinstrumente!E14) -> 0.033737261 | F14: =IF(ISBLANK([1]RTS28_R_Eigenkapitalinstrumente!F14),"",[1]RTS28_R_Eigenkapitalinstrumente!F14) -> 0
A15: =IF(ISBLANK([1]RTS28_R_Eigenkapitalinstrumente!A15),"",[1]RTS28_R_Eigenkapitalinstrumente!A15) -> Aquis SAS Alternate Currencies (AQEU) | B15: =IF(ISBLANK([1]RTS28_R_Eigenkapitalinstrumente!B15),"",[1]RTS28_R_Eigenkapitalinstrumente!B15) -> 0.023117148 | C15: =IF(ISBLANK([1]RTS28_R_Eigenkapitalinstrumente!C15),"",[1]RTS28_R_Eigenkapitalinstrumente!C15) -> 0.027641113 | D15: =IF(ISBLANK([1]RTS28_R_Eigenkapitalinstrumente!D15),"",[1]RTS28_R_Eigenkapitalinstrumente!D15) -> 0.00035475598 | E15: =IF(ISBLANK([1]RTS28_R_Eigenkapitalinstrumente!E15),"",[1]RTS28_R_Eigenkapitalinstrumente!E15) -> 0.022762392 | F15: =IF(ISBLANK([1]RTS28_R_Eigenkapitalinstrumente!F15),"",[1]RTS28_R_Eigenkapitalinstrumente!F15) -> 0

Sheet RTS28_R_Commodities_derivate
A1: =RTS28_R_Equity_Derivates!A1 -> Trading volumes of top five execution venues 2021
A3: Retail clients
A7: Class of Instrument | B7: Commodities derivate
A8: Notification if <1 average trade per business day in the previous year | B8: =IF([1]RTS28_R_Rohstoffderivate!B8="Ja","Yes","No") -> Yes
A10: Top five execution venues ranked in terms of trading volumes (descending order) | B10: Proportion of volume traded as a percentage of total in that class | C10: Proportion of orders executed as percentage of total in that class | D10: Percentage of passive orders | E10: Percentage of aggressive orders | F10: Percentage of directed orders
A11: =IF(ISBLANK([1]RTS28_R_Rohstoffderivate!A11),"",[1]RTS28_R_Rohstoffderivate!A11) -> Commodities Exchange Center (XCEC) | B11: =IF(ISBLANK([1]RTS28_R_Rohstoffderivate!B11),"",[1]RTS28_R_Rohstoffderivate!B11) -> 0.91164137 | C11: =IF(ISBLANK([1]RTS28_R_Rohstoffderivate!C11),"",[1]RTS28_R_Rohstoffderivate!C11) -> 0.85185185 | D11: =IF(ISBLANK([1]RTS28_R_Rohstoffderivate!D11),"",[1]RTS28_R_Rohstoffderivate!D11) -> 0.085002746 | E11: =IF(ISBLANK([1]RTS28_R_Rohstoffderivate!E11),"",[1]RTS28_R_Rohstoffderivate!E11) -> 0.82663862 | F11: =IF(ISBLANK([1]RTS28_R_Rohstoffderivate!F11),"",[1]RTS28_R_Rohstoffderivate!F11) -> 0
A12: =IF(ISBLANK([1]RTS28_R_Rohstoffderivate!A12),"",[1]RTS28_R_Rohstoffderivate!A12) -> New York Mercantile Exchange, Globex (XNYM) | B12: =IF(ISBLANK([1]RTS28_R_Rohstoffderivate!B12),"",[1]RTS28_R_Rohstoffderivate!B12) -> 0.088358634 | C12: =IF(ISBLANK([1]RTS28_R_Rohstoffderivate!C12),"",[1]RTS28_R_Rohstoffderivate!C12) -> 0.14814815 | D12: =IF(ISBLANK([1]RTS28_R_Rohstoffderivate!D12),"",[1]RTS28_R_Rohstoffderivate!D12) -> 0 | E12: =IF(ISBLANK([1]RTS28_R_Rohstoffderivate!E12),"",[1]RTS28_R_Rohstoffderivate!E12) -> 0.088358634 | F12: =IF(ISBLANK([1]RTS28_R_Rohstoffderivate!F12),"",[1]RTS28_R_Rohstoffderivate!F12) -> 0
A13: =IF(ISBLANK([1]RTS28_R_Rohstoffderivate!A13),"",[1]RTS28_R_Rohstoffderivate!A13) | B13: =IF(ISBLANK([1]RTS28_R_Rohstoffderivate!B13),"",[1]RTS28_R_Rohstoffderivate!B13) | C13: =IF(ISBLANK([1]RTS28_R_Rohstoffderivate!C13),"",[1]RTS28_R_Rohstoffderivate!C13) | D13: =IF(ISBLANK([1]RTS28_R_Rohstoffderivate!D13),"",[1]RTS28_R_Rohstoffderivate!D13) | E13: =IF(ISBLANK([1]RTS28_R_Rohstoffderivate!E13),"",[1]RTS28_R_Rohstoffderivate!E13) | F13: =IF(ISBLANK([1]RTS28_R_Rohstoffderivate!F13),"",[1]RTS28_R_Rohstoffderivate!F13)
A14: =IF(ISBLANK([1]RTS28_R_Rohstoffderivate!A14),"",[1]RTS28_R_Rohstoffderivate!A14) | B14: =IF(ISBLANK([1]RTS28_R_Rohstoffderivate!B14),"",[1]RTS28_R_Rohstoffderivate!B14) | C14: =IF(ISBLANK([1]RTS28_R_Rohstoffderivate!C14),"",[1]RTS28_R_Rohstoffderivate!C14) | D14: =IF(ISBLANK([1]RTS28_R_Rohstoffderivate!D14),"",[1]RTS28_R_Rohstoffderivate!D14) | E14: =IF(ISBLANK([1]RTS28_R_Rohstoffderivate!E14),"",[1]RTS28_R_Rohstoffderivate!E14) | F14: =IF(ISBLANK([1]RTS28_R_Rohstoffderivate!F14),"",[1]RTS28_R_Rohstoffderivate!F14)
A15: =IF(ISBLANK([1]RTS28_R_Rohstoffderivate!A15),"",[1]RTS28_R_Rohstoffderivate!A15) | B15: =IF(ISBLANK([1]RTS28_R_Rohstoffderivate!B15),"",[1]RTS28_R_Rohstoffderivate!B15) | C15: =IF(ISBLANK([1]RTS28_R_Rohstoffderivate!C15),"",[1]RTS28_R_Rohstoffderivate!C15) | D15: =IF(ISBLANK([1]RTS28_R_Rohstoffderivate!D15),"",[1]RTS28_R_Rohstoffderivate!D15) | E15: =IF(ISBLANK([1]RTS28_R_Rohstoffderivate!E15),"",[1]RTS28_R_Rohstoffderivate!E15) | F15: =IF(ISBLANK([1]RTS28_R_Rohstoffderivate!F15),"",[1]RTS28_R_Rohstoffderivate!F15)

Sheet RTS28_R_Debt_instruments
A1: =RTS28_R_Equity_Derivates!A1 -> Trading volumes of top five execution venues 2021
A3: Retail clients
A7: Class of Instrument | B7: Debt instruments
A8: Notification if <1 average trade per business day in the previous year | B8: =IF([1]RTS28_R_Schuldtitel!B8="Ja","Yes","No") -> No
A10: Top five execution venues ranked in terms of trading volumes (descending order) | B10: Proportion of volume traded as a percentage of total in that class | C10: Proportion of orders executed as percentage of total in that class | D10: Percentage of passive orders | E10: Percentage of aggressive orders | F10: Percentage of directed orders
A11: =IF(ISBLANK([1]RTS28_R_Schuldtitel!A11),"",[1]RTS28_R_Schuldtitel!A11) -> TRAX (XCOR) | B11: =IF(ISBLANK([1]RTS28_R_Schuldtitel!B11),"",[1]RTS28_R_Schuldtitel!B11) -> 0.26025043 | C11: =IF(ISBLANK([1]RTS28_R_Schuldtitel!C11),"",[1]RTS28_R_Schuldtitel!C11) -> 0.47648262 | D11: =IF(ISBLANK([1]RTS28_R_Schuldtitel!D11),"",[1]RTS28_R_Schuldtitel!D11) -> 0.15369602 | E11: =IF(ISBLANK([1]RTS28_R_Schuldtitel!E11),"",[1]RTS28_R_Schuldtitel!E11) -> 0.10655441 | F11: =IF(ISBLANK([1]RTS28_R_Schuldtitel!F11),"",[1]RTS28_R_Schuldtitel!F11) -> 0
A12: =IF(ISBLANK([1]RTS28_R_Schuldtitel!A12),"",[1]RTS28_R_Schuldtitel!A12) -> SIX Swiss Exchange (XSWX) | B12: =IF(ISBLANK([1]RTS28_R_Schuldtitel!B12),"",[1]RTS28_R_Schuldtitel!B12) -> 0.17951847 | C12: =IF(ISBLANK([1]RTS28_R_Schuldtitel!C12),"",[1]RTS28_R_Schuldtitel!C12) -> 0.11997273 | D12: =IF(ISBLANK([1]RTS28_R_Schuldtitel!D12),"",[1]RTS28_R_Schuldtitel!D12) -> 0.010039052 | E12: =IF(ISBLANK([1]RTS28_R_Schuldtitel!E12),"",[1]RTS28_R_Schuldtitel!E12) -> 0.16947942 | F12: =IF(ISBLANK([1]RTS28_R_Schuldtitel!F12),"",[1]RTS28_R_Schuldtitel!F12) -> 0
A13: =IF(ISBLANK([1]RTS28_R_Schuldtitel!A13),"",[1]RTS28_R_Schuldtitel!A13) -> GovPX (BTEC) | B13: =IF(ISBLANK([1]RTS28_R_Schuldtitel!B13),"",[1]RTS28_R_Schuldtitel!B13) -> 0.10231131 | C13: =IF(ISBLANK([1]RTS28_R_Schuldtitel!C13),"",[1]RTS28_R_Schuldtitel!C13) -> 0.014996592 | D13: =IF(ISBLANK([1]RTS28_R_Schuldtitel!D13),"",[1]RTS28_R_Schuldtitel!D13) -> 0.0011014426 | E13: =IF(ISBLANK([1]RTS28_R_Schuldtitel!E13),"",[1]RTS28_R_Schuldtitel!E13) -> 0.10120987 | F13: =IF(ISBLANK([1]RTS28_R_Schuldtitel!F13),"",[1]RTS28_R_Schuldtitel!F13) -> 0
A14: =IF(ISBLANK([1]RTS28_R_Schuldtitel!A14),"",[1]RTS28_R_Schuldtitel!A14) -> New York Stock Exchange, Inc (XNYS) | B14: =IF(ISBLANK([1]RTS28_R_Schuldtitel!B14),"",[1]RTS28_R_Schuldtitel!B14) -> 0.052479356 | C14: =IF(ISBLANK([1]RTS28_R_Schuldtitel!C14),"",[1]RTS28_R_Schuldtitel!C14) -> 0.18268575 | D14: =IF(ISBLANK([1]RTS28_R_Schuldtitel!D14),"",[1]RTS28_R_Schuldtitel!D14) -> 0 | E14: =IF(ISBLANK([1]RTS28_R_Schuldtitel!E14),"",[1]RTS28_R_Schuldtitel!E14) -> 0.052479356 | F14: =IF(ISBLANK([1]RTS28_R_Schuldtitel!F14),"",[1]RTS28_R_Schuldtitel!F14) -> 0
A15: =IF(ISBLANK([1]RTS28_R_Schuldtitel!A15),"",[1]RTS28_R_Schuldtitel!A15) -> Over the Counter (XOFF) | B15: =IF(ISBLANK([1]RTS28_R_Schuldtitel!B15),"",[1]RTS28_R_Schuldtitel!B15) -> 0.03833092 | C15: =IF(ISBLANK([1]RTS28_R_Schuldtitel!C15),"",[1]RTS28_R_Schuldtitel!C15) -> 0.042263122 | D15: =IF(ISBLANK([1]RTS28_R_Schuldtitel!D15),"",[1]RTS28_R_Schuldtitel!D15) -> 0.021897013 | E15: =IF(ISBLANK([1]RTS28_R_Schuldtitel!E15),"",[1]RTS28_R_Schuldtitel!E15) -> 0.016433906 | F15: =IF(ISBLANK([1]RTS28_R_Schuldtitel!F15),"",[1]RTS28_R_Schuldtitel!F15) -> 0

Sheet RTS28_R_Other
A1: =RTS28_R_Equity_Derivates!A1 -> Trading volumes of top five execution venues 2021
A3: Retail clients
A7: Class of Instrument | B7: Other instruments
A8: Notification if <1 average trade per business day in the previous year | B8: =IF([1]RTS28_R_Sonstige!B8="Ja","Yes","No") -> No
A10: Top five execution venues ranked in terms of trading volumes (descending order) | B10: Proportion of volume traded as a percentage of total in that class | C10: Proportion of orders executed as percentage of total in that class | D10: Percentage of passive orders | E10: Percentage of aggressive orders | F10: Percentage of directed orders
A11: =IF(ISBLANK([1]RTS28_R_Sonstige!A11),"",[1]RTS28_R_Sonstige!A11) -> NASDAQ (XNAS) | B11: =IF(ISBLANK([1]RTS28_R_Sonstige!B11),"",[1]RTS28_R_Sonstige!B11) -> 0.062075454 | C11: =IF(ISBLANK([1]RTS28_R_Sonstige!C11),"",[1]RTS28_R_Sonstige!C11) -> 0.11066012 | D11: =IF(ISBLANK([1]RTS28_R_Sonstige!D11),"",[1]RTS28_R_Sonstige!D11) -> 0 | E11: =IF(ISBLANK([1]RTS28_R_Sonstige!E11),"",[1]RTS28_R_Sonstige!E11) -> 0.062067098 | F11: =IF(ISBLANK([1]RTS28_R_Sonstige!F11),"",[1]RTS28_R_Sonstige!F11) -> 0
A12: =IF(ISBLANK([1]RTS28_R_Sonstige!A12),"",[1]RTS28_R_Sonstige!A12) -> NYSE Arca (ARCX) | B12: =IF(ISBLANK([1]RTS28_R_Sonstige!B12),"",[1]RTS28_R_Sonstige!B12) -> 0.061416552 | C12: =IF(ISBLANK([1]RTS28_R_Sonstige!C12),"",[1]RTS28_R_Sonstige!C12) -> 0.13010041 | D12: =IF(ISBLANK([1]RTS28_R_Sonstige!D12),"",[1]RTS28_R_Sonstige!D12) -> 8.9384291e-05 | E12: =IF(ISBLANK([1]RTS28_R_Sonstige!E12),"",[1]RTS28_R_Sonstige!E12) -> 0.061327168 | F12: =IF(ISBLANK([1]RTS28_R_Sonstige!F12),"",[1]RTS28_R_Sonstige!F12) -> 0
A13: =IF(ISBLANK([1]RTS28_R_Sonstige!A13),"",[1]RTS28_R_Sonstige!A13) -> London Stock Exchange Domestic/UK Market 1st Currency (XLON) | B13: =IF(ISBLANK([1]RTS28_R_Sonstige!B13),"",[1]RTS28_R_Sonstige!B13) -> 0.045956745 | C13: =IF(ISBLANK([1]RTS28_R_Sonstige!C13),"",[1]RTS28_R_Sonstige!C13) -> 0.16599017 | D13: =IF(ISBLANK([1]RTS28_R_Sonstige!D13),"",[1]RTS28_R_Sonstige!D13) -> 0.00058881569 | E13: =IF(ISBLANK([1]RTS28_R_Sonstige!E13),"",[1]RTS28_R_Sonstige!E13) -> 0.045367929 | F13: =IF(ISBLANK([1]RTS28_R_Sonstige!F13),"",[1]RTS28_R_Sonstige!F13) -> 0
A14: =IF(ISBLANK([1]RTS28_R_Sonstige!A14),"",[1]RTS28_R_Sonstige!A14) -> SIX Swiss Exchange (XSWX) | B14: =IF(ISBLANK([1]RTS28_R_Sonstige!B14),"",[1]RTS28_R_Sonstige!B14) -> 0.030068829 | C14: =IF(ISBLANK([1]RTS28_R_Sonstige!C14),"",[1]RTS28_R_Sonstige!C14) -> 0.12518693 | D14: =IF(ISBLANK([1]RTS28_R_Sonstige!D14),"",[1]RTS28_R_Sonstige!D14) -> 0.0012563039 | E14: =IF(ISBLANK([1]RTS28_R_Sonstige!E14),"",[1]RTS28_R_Sonstige!E14) -> 0.028812525 | F14: =IF(ISBLANK([1]RTS28_R_Sonstige!F14),"",[1]RTS28_R_Sonstige!F14) -> 0
A15: =IF(ISBLANK([1]RTS28_R_Sonstige!A15),"",[1]RTS28_R_Sonstige!A15) -> NYSE Arca, Listed Bonds (ARCX) | B15: =IF(ISBLANK([1]RTS28_R_Sonstige!B15),"",[1]RTS28_R_Sonstige!B15) -> 0.020497604 | C15: =IF(ISBLANK([1]RTS28_R_Sonstige!C15),"",[1]RTS28_R_Sonstige!C15) -> 0.060457167 | D15: =IF(ISBLANK([1]RTS28_R_Sonstige!D15),"",[1]RTS28_R_Sonstige!D15) -> 0.00014996225 | E15: =IF(ISBLANK([1]RTS28_R_Sonstige!E15),"",[1]RTS28_R_Sonstige!E15) -> 0.020347642 | F15: =IF(ISBLANK([1]RTS28_R_Sonstige!F15),"",[1]RTS28_R_Sonstige!F15) -> 0

Sheet RTS28_R_Securitized_derivates
A1: =RTS28_R_Equity_Derivates!A1 -> Trading volumes of top five execution venues 2021
A3: Retail clients
A7: Class of Instrument | B7: Securitized derivates
A8: Notification if <1 average trade per business day in the previous year | B8: =IF([1]RTS28_R_VerbriefteDerivate!B8="Ja","Yes","No") -> Yes
A10: Top five execution venues ranked in terms of trading volumes (descending order) | B10: Proportion of volume traded as a percentage of total in that class | C10: Proportion of orders executed as percentage of total in that class | D10: Percentage of passive orders | E10: Percentage of aggressive orders | F10: Percentage of directed orders
A11: =IF(ISBLANK([1]RTS28_R_VerbriefteDerivate!A11),"",[1]RTS28_R_VerbriefteDerivate!A11) -> Over the Counter (XOFF) | B11: =IF(ISBLANK([1]RTS28_R_VerbriefteDerivate!B11),"",[1]RTS28_R_VerbriefteDerivate!B11) -> 0.51478464 | C11: =IF(ISBLANK([1]RTS28_R_VerbriefteDerivate!C11),"",[1]RTS28_R_VerbriefteDerivate!C11) -> 0.35294118 | D11: =IF(ISBLANK([1]RTS28_R_VerbriefteDerivate!D11),"",[1]RTS28_R_VerbriefteDerivate!D11) -> 0.260708 | E11: =IF(ISBLANK([1]RTS28_R_VerbriefteDerivate!E11),"",[1]RTS28_R_VerbriefteDerivate!E11) -> 0.25407665 | F11: =IF(ISBLANK([1]RTS28_R_VerbriefteDerivate!F11),"",[1]RTS28_R_VerbriefteDerivate!F11) -> 0
A12: =IF(ISBLANK([1]RTS28_R_VerbriefteDerivate!A12),"",[1]RTS28_R_VerbriefteDerivate!A12) -> Options Price Reporting Authority (OPRA) | B12: =IF(ISBLANK([1]RTS28_R_VerbriefteDerivate!B12),"",[1]RTS28_R_VerbriefteDerivate!B12) -> 0.48520321 | C12: =IF(ISBLANK([1]RTS28_R_VerbriefteDerivate!C12),"",[1]RTS28_R_VerbriefteDerivate!C12) -> 0.62745098 | D12: =IF(ISBLANK([1]RTS28_R_VerbriefteDerivate!D12),"",[1]RTS28_R_VerbriefteDerivate!D12) -> 0 | E12: =IF(ISBLANK([1]RTS28_R_VerbriefteDerivate!E12),"",[1]RTS28_R_VerbriefteDerivate!E12) -> 0.48520321 | F12: =IF(ISBLANK([1]RTS28_R_VerbriefteDerivate!F12),"",[1]RTS28_R_VerbriefteDerivate!F12) -> 0
A13: =IF(ISBLANK([1]RTS28_R_VerbriefteDerivate!A13),"",[1]RTS28_R_VerbriefteDerivate!A13) -> Toronto Stock Exchange (XTSE) | B13: =IF(ISBLANK([1]RTS28_R_VerbriefteDerivate!B13),"",[1]RTS28_R_VerbriefteDerivate!B13) -> 1.2141569e-05 | C13: =IF(ISBLANK([1]RTS28_R_VerbriefteDerivate!C13),"",[1]RTS28_R_VerbriefteDerivate!C13) -> 0.019607843 | D13: =IF(ISBLANK([1]RTS28_R_VerbriefteDerivate!D13),"",[1]RTS28_R_VerbriefteDerivate!D13) -> 0 | E13: =IF(ISBLANK([1]RTS28_R_VerbriefteDerivate!E13),"",[1]RTS28_R_VerbriefteDerivate!E13) -> 1.2141569e-05 | F13: =IF(ISBLANK([1]RTS28_R_VerbriefteDerivate!F13),"",[1]RTS28_R_VerbriefteDerivate!F13) -> 0
A14: =IF(ISBLANK([1]RTS28_R_VerbriefteDerivate!A14),"",[1]RTS28_R_VerbriefteDerivate!A14) | B14: =IF(ISBLANK([1]RTS28_R_VerbriefteDerivate!B14),"",[1]RTS28_R_VerbriefteDerivate!B14) | C14: =IF(ISBLANK([1]RTS28_R_VerbriefteDerivate!C14),"",[1]RTS28_R_VerbriefteDerivate!C14) | D14: =IF(ISBLANK([1]RTS28_R_VerbriefteDerivate!D14),"",[1]RTS28_R_VerbriefteDerivate!D14) | E14: =IF(ISBLANK([1]RTS28_R_VerbriefteDerivate!E14),"",[1]RTS28_R_VerbriefteDerivate!E14) | F14: =IF(ISBLANK([1]RTS28_R_VerbriefteDerivate!F14),"",[1]RTS28_R_VerbriefteDerivate!F14)
A15: =IF(ISBLANK([1]RTS28_R_VerbriefteDerivate!A15),"",[1]RTS28_R_VerbriefteDerivate!A15) | B15: =IF(ISBLANK([1]RTS28_R_VerbriefteDerivate!B15),"",[1]RTS28_R_VerbriefteDerivate!B15) | C15: =IF(ISBLANK([1]RTS28_R_VerbriefteDerivate!C15),"",[1]RTS28_R_VerbriefteDerivate!C15) | D15: =IF(ISBLANK([1]RTS28_R_VerbriefteDerivate!D15),"",[1]RTS28_R_VerbriefteDerivate!D15) | E15: =IF(ISBLANK([1]RTS28_R_VerbriefteDerivate!E15),"",[1]RTS28_R_VerbriefteDerivate!E15) | F15: =IF(ISBLANK([1]RTS28_R_VerbriefteDerivate!F15),"",[1]RTS28_R_VerbriefteDerivate!F15)

Sheet RTS28_R_Structured
A1: =RTS28_R_Equity_Derivates!A1 -> Trading volumes of top five execution venues 2021
A3: Retail clients
A7: Class of Instrument | B7: Structured finance instruments
A8: Notification if <1 average trade per business day in the previous year | B8: =IF([1]RTS28_R_StrukturierteProdukte!B8="Ja","Yes","No") -> No
A10: Top five execution venues ranked in terms of trading volumes (descending order) | B10: Proportion of volume traded as a percentage of total in that class | C10: Proportion of orders executed as percentage of total in that class | D10: Percentage of passive orders | E10: Percentage of aggressive orders | F10: Percentage of directed orders
A11: =IF(ISBLANK([1]RTS28_R_StrukturierteProdukte!A11),"",[1]RTS28_R_StrukturierteProdukte!A11) -> SIX Swiss Exchange (XSWX) | B11: =IF(ISBLANK([1]RTS28_R_StrukturierteProdukte!B11),"",[1]RTS28_R_StrukturierteProdukte!B11) -> 0.44836982 | C11: =IF(ISBLANK([1]RTS28_R_StrukturierteProdukte!C11),"",[1]RTS28_R_StrukturierteProdukte!C11) -> 0.24613221 | D11: =IF(ISBLANK([1]RTS28_R_StrukturierteProdukte!D11),"",[1]RTS28_R_StrukturierteProdukte!D11) -> 0 | E11: =IF(ISBLANK([1]RTS28_R_StrukturierteProdukte!E11),"",[1]RTS28_R_StrukturierteProdukte!E11) -> 0.44836982 | F11: =IF(ISBLANK([1]RTS28_R_StrukturierteProdukte!F11),"",[1]RTS28_R_StrukturierteProdukte!F11) -> 0
A12: =IF(ISBLANK([1]RTS28_R_StrukturierteProdukte!A12),"",[1]RTS28_R_StrukturierteProdukte!A12) -> Over the Counter (XOFF) | B12: =IF(ISBLANK([1]RTS28_R_StrukturierteProdukte!B12),"",[1]RTS28_R_StrukturierteProdukte!B12) -> 0.25511096 | C12: =IF(ISBLANK([1]RTS28_R_StrukturierteProdukte!C12),"",[1]RTS28_R_StrukturierteProdukte!C12) -> 0.27285513 | D12: =IF(ISBLANK([1]RTS28_R_StrukturierteProdukte!D12),"",[1]RTS28_R_StrukturierteProdukte!D12) -> 0.0028239398 | E12: =IF(ISBLANK([1]RTS28_R_StrukturierteProdukte!E12),"",[1]RTS28_R_StrukturierteProdukte!E12) -> 0.25228702 | F12: =IF(ISBLANK([1]RTS28_R_StrukturierteProdukte!F12),"",[1]RTS28_R_StrukturierteProdukte!F12) -> 0
A13: =IF(ISBLANK([1]RTS28_R_StrukturierteProdukte!A13),"",[1]RTS28_R_StrukturierteProdukte!A13) -> TRAX (XCOR) | B13: =IF(ISBLANK([1]RTS28_R_StrukturierteProdukte!B13),"",[1]RTS28_R_StrukturierteProdukte!B13) -> 0.13255329 | C13: =IF(ISBLANK([1]RTS28_R_StrukturierteProdukte!C13),"",[1]RTS28_R_StrukturierteProdukte!C13) -> 0.085794655 | D13: =IF(ISBLANK([1]RTS28_R_StrukturierteProdukte!D13),"",[1]RTS28_R_StrukturierteProdukte!D13) -> 0.0057017136 | E13: =IF(ISBLANK([1]RTS28_R_StrukturierteProdukte!E13),"",[1]RTS28_R_StrukturierteProdukte!E13) -> 0.12685158 | F13: =IF(ISBLANK([1]RTS28_R_StrukturierteProdukte!F13),"",[1]RTS28_R_StrukturierteProdukte!F13) -> 0
A14: =IF(ISBLANK([1]RTS28_R_StrukturierteProdukte!A14),"",[1]RTS28_R_StrukturierteProdukte!A14) -> Xetra (XETR) | B14: =IF(ISBLANK([1]RTS28_R_StrukturierteProdukte!B14),"",[1]RTS28_R_StrukturierteProdukte!B14) -> 0.016870336 | C14: =IF(ISBLANK([1]RTS28_R_StrukturierteProdukte!C14),"",[1]RTS28_R_StrukturierteProdukte!C14) -> 0.023909986 | D14: =IF(ISBLANK([1]RTS28_R_StrukturierteProdukte!D14),"",[1]RTS28_R_StrukturierteProdukte!D14) -> 0 | E14: =IF(ISBLANK([1]RTS28_R_StrukturierteProdukte!E14),"",[1]RTS28_R_StrukturierteProdukte!E14) -> 0.016870336 | F14: =IF(ISBLANK([1]RTS28_R_StrukturierteProdukte!F14),"",[1]RTS28_R_StrukturierteProdukte!F14) -> 0
A15: =IF(ISBLANK([1]RTS28_R_StrukturierteProdukte!A15),"",[1]RTS28_R_StrukturierteProdukte!A15) -> SIX Swiss Exchange, Structured Products (XQMH) | B15: =IF(ISBLANK([1]RTS28_R_StrukturierteProdukte!B15),"",[1]RTS28_R_StrukturierteProdukte!B15) -> 0.013194473 | C15: =IF(ISBLANK([1]RTS28_R_StrukturierteProdukte!C15),"",[1]RTS28_R_StrukturierteProdukte!C15) -> 0.066104079 | D15: =IF(ISBLANK([1]RTS28_R_StrukturierteProdukte!D15),"",[1]RTS28_R_StrukturierteProdukte!D15) -> 0.007463664 | E15: =IF(ISBLANK([1]RTS28_R_StrukturierteProdukte!E15),"",[1]RTS28_R_StrukturierteProdukte!E15) -> 0.0057308095 | F15: =IF(ISBLANK([1]RTS28_R_StrukturierteProdukte!F15),"",[1]RTS28_R_StrukturierteProdukte!F15) -> 0

Sheet RTS28_R_Interest_derivates
A1: =RTS28_R_Equity_Derivates!A1 -> Trading volumes of top five execution venues 2021
A3: Retail clients
A7: Class of Instrument | B7: Interest rate derivates
A8: Notification if <1 average trade per business day in the previous year | B8: =IF([1]RTS28_R_Zinsderivate!B8="Ja","Yes","No") -> Yes
A10: Top five execution venues ranked in terms of trading volumes (descending order) | B10: Proportion of volume traded as a percentage of total in that class | C10: Proportion of orders executed as percentage of total in that class | D10: Percentage of passive orders | E10: Percentage of aggressive orders | F10: Percentage of directed orders
A11: =IF(ISBLANK([1]RTS28_R_Zinsderivate!A11),"",[1]RTS28_R_Zinsderivate!A11) -> n/a | B11: =IF(ISBLANK([1]RTS28_R_Zinsderivate!B11),"",[1]RTS28_R_Zinsderivate!B11) -> 0 | C11: =IF(ISBLANK([1]RTS28_R_Zinsderivate!C11),"",[1]RTS28_R_Zinsderivate!C11) -> 0 | D11: =IF(ISBLANK([1]RTS28_R_Zinsderivate!D11),"",[1]RTS28_R_Zinsderivate!D11) -> 0 | E11: =IF(ISBLANK([1]RTS28_R_Zinsderivate!E11),"",[1]RTS28_R_Zinsderivate!E11) -> 0 | F11: =IF(ISBLANK([1]RTS28_R_Zinsderivate!F11),"",[1]RTS28_R_Zinsderivate!F11) -> 0
A12: =IF(ISBLANK([1]RTS28_R_Zinsderivate!A12),"",[1]RTS28_R_Zinsderivate!A12) | B12: =IF(ISBLANK([1]RTS28_R_Zinsderivate!B12),"",[1]RTS28_R_Zinsderivate!B12) | C12: =IF(ISBLANK([1]RTS28_R_Zinsderivate!C12),"",[1]RTS28_R_Zinsderivate!C12) | D12: =IF(ISBLANK([1]RTS28_R_Zinsderivate!D12),"",[1]RTS28_R_Zinsderivate!D12) | E12: =IF(ISBLANK([1]RTS28_R_Zinsderivate!E12),"",[1]RTS28_R_Zinsderivate!E12) | F12: =IF(ISBLANK([1]RTS28_R_Zinsderivate!F12),"",[1]RTS28_R_Zinsderivate!F12)
A13: =IF(ISBLANK([1]RTS28_R_Zinsderivate!A13),"",[1]RTS28_R_Zinsderivate!A13) | B13: =IF(ISBLANK([1]RTS28_R_Zinsderivate!B13),"",[1]RTS28_R_Zinsderivate!B13) | C13: =IF(ISBLANK([1]RTS28_R_Zinsderivate!C13),"",[1]RTS28_R_Zinsderivate!C13) | D13: =IF(ISBLANK([1]RTS28_R_Zinsderivate!D13),"",[1]RTS28_R_Zinsderivate!D13) | E13: =IF(ISBLANK([1]RTS28_R_Zinsderivate!E13),"",[1]RTS28_R_Zinsderivate!E13) | F13: =IF(ISBLANK([1]RTS28_R_Zinsderivate!F13),"",[1]RTS28_R_Zinsderivate!F13)
A14: =IF(ISBLANK([1]RTS28_R_Zinsderivate!A14),"",[1]RTS28_R_Zinsderivate!A14) | B14: =IF(ISBLANK([1]RTS28_R_Zinsderivate!B14),"",[1]RTS28_R_Zinsderivate!B14) | C14: =IF(ISBLANK([1]RTS28_R_Zinsderivate!C14),"",[1]RTS28_R_Zinsderivate!C14) | D14: =IF(ISBLANK([1]RTS28_R_Zinsderivate!D14),"",[1]RTS28_R_Zinsderivate!D14) | E14: =IF(ISBLANK([1]RTS28_R_Zinsderivate!E14),"",[1]RTS28_R_Zinsderivate!E14) | F14: =IF(ISBLANK([1]RTS28_R_Zinsderivate!F14),"",[1]RTS28_R_Zinsderivate!F14)
A15: =IF(ISBLANK([1]RTS28_R_Zinsderivate!A15),"",[1]RTS28_R_Zinsderivate!A15) | B15: =IF(ISBLANK([1]RTS28_R_Zinsderivate!B15),"",[1]RTS28_R_Zinsderivate!B15) | C15: =IF(ISBLANK([1]RTS28_R_Zinsderivate!C15),"",[1]RTS28_R_Zinsderivate!C15) | D15: =IF(ISBLANK([1]RTS28_R_Zinsderivate!D15),"",[1]RTS28_R_Zinsderivate!D15) | E15: =IF(ISBLANK([1]RTS28_R_Zinsderivate!E15),"",[1]RTS28_R_Zinsderivate!E15) | F15: =IF(ISBLANK([1]RTS28_R_Zinsderivate!F15),"",[1]RTS28_R_Zinsderivate!F15)

Sheet RTS28_R_Currency_derivates
A1: =RTS28_R_Equity_Derivates!A1 -> Trading volumes of top five execution venues 2021
A3: Retail clients
A7: Class of Instrument | B7: Currency Derivates
A8: Notification if <1 average trade per business day in the previous year | B8: =IF([1]RTS28_R_Währungsderivate!B8="Ja","Yes","No") -> No
A10: Top five execution venues ranked in terms of trading volumes (descending order) | B10: Proportion of volume traded as a percentage of total in that class | C10: Proportion of orders executed as percentage of total in that class | D10: Percentage of passive orders | E10: Percentage of aggressive orders | F10: Percentage of directed orders
A11: =IF(ISBLANK([1]RTS28_R_Währungsderivate!A11),"",[1]RTS28_R_Währungsderivate!A11) -> Kaiser Partner Privatbank AG (529900DPOQPLDSF3R482) | B11: =IF(ISBLANK([1]RTS28_R_Währungsderivate!B11),"",[1]RTS28_R_Währungsderivate!B11) -> 0.56705329 | C11: =IF(ISBLANK([1]RTS28_R_Währungsderivate!C11),"",[1]RTS28_R_Währungsderivate!C11) -> 0.81530547 | D11: =IF(ISBLANK([1]RTS28_R_Währungsderivate!D11),"",[1]RTS28_R_Währungsderivate!D11) -> 0 | E11: =IF(ISBLANK([1]RTS28_R_Währungsderivate!E11),"",[1]RTS28_R_Währungsderivate!E11) -> 1 | F11: =IF(ISBLANK([1]RTS28_R_Währungsderivate!F11),"",[1]RTS28_R_Währungsderivate!F11) -> 0
A12: =IF(ISBLANK([1]RTS28_R_Währungsderivate!A12),"",[1]RTS28_R_Währungsderivate!A12) | B12: =IF(ISBLANK([1]RTS28_R_Währungsderivate!B12),"",[1]RTS28_R_Währungsderivate!B12) | C12: =IF(ISBLANK([1]RTS28_R_Währungsderivate!C12),"",[1]RTS28_R_Währungsderivate!C12) | D12: =IF(ISBLANK([1]RTS28_R_Währungsderivate!D12),"",[1]RTS28_R_Währungsderivate!D12) | E12: =IF(ISBLANK([1]RTS28_R_Währungsderivate!E12),"",[1]RTS28_R_Währungsderivate!E12) | F12: =IF(ISBLANK([1]RTS28_R_Währungsderivate!F12),"",[1]RTS28_R_Währungsderivate!F12)
A13: =IF(ISBLANK([1]RTS28_R_Währungsderivate!A13),"",[1]RTS28_R_Währungsderivate!A13) | B13: =IF(ISBLANK([1]RTS28_R_Währungsderivate!B13),"",[1]RTS28_R_Währungsderivate!B13) | C13: =IF(ISBLANK([1]RTS28_R_Währungsderivate!C13),"",[1]RTS28_R_Währungsderivate!C13) | D13: =IF(ISBLANK([1]RTS28_R_Währungsderivate!D13),"",[1]RTS28_R_Währungsderivate!D13) | E13: =IF(ISBLANK([1]RTS28_R_Währungsderivate!E13),"",[1]RTS28_R_Währungsderivate!E13) | F13: =IF(ISBLANK([1]RTS28_R_Währungsderivate!F13),"",[1]RTS28_R_Währungsderivate!F13)
A14: =IF(ISBLANK([1]RTS28_R_Währungsderivate!A14),"",[1]RTS28_R_Währungsderivate!A14) | B14: =IF(ISBLANK([1]RTS28_R_Währungsderivate!B14),"",[1]RTS28_R_Währungsderivate!B14) | C14: =IF(ISBLANK([1]RTS28_R_Währungsderivate!C14),"",[1]RTS28_R_Währungsderivate!C14) | D14: =IF(ISBLANK([1]RTS28_R_Währungsderivate!D14),"",[1]RTS28_R_Währungsderivate!D14) | E14: =IF(ISBLANK([1]RTS28_R_Währungsderivate!E14),"",[1]RTS28_R_Währungsderivate!E14) | F14: =IF(ISBLANK([1]RTS28_R_Währungsderivate!F14),"",[1]RTS28_R_Währungsderivate!F14)
A15: =IF(ISBLANK([1]RTS28_R_Währungsderivate!A15),"",[1]RTS28_R_Währungsderivate!A15) | B15: =IF(ISBLANK([1]RTS28_R_Währungsderivate!B15),"",[1]RTS28_R_Währungsderivate!B15) | C15: =IF(ISBLANK([1]RTS28_R_Währungsderivate!C15),"",[1]RTS28_R_Währungsderivate!C15) | D15: =IF(ISBLANK([1]RTS28_R_Währungsderivate!D15),"",[1]RTS28_R_Währungsderivate!D15) | E15: =IF(ISBLANK([1]RTS28_R_Währungsderivate!E15),"",[1]RTS28_R_Währungsderivate!E15) | F15: =IF(ISBLANK([1]RTS28_R_Währungsderivate!F15),"",[1]RTS28_R_Währungsderivate!F15)

Sheet RTS28_P_Equity_Derivates
A1: =RTS28_R_Equity_Derivates!A1 -> Trading volumes of top five execution venues 2021
A3: Professional clients
A7: Class of Instrument | B7: Equity derivates
A8: Notification if <1 average trade per business day in the previous year | B8: =IF([1]RTS28_P_Aktienderivate!B8="Ja","Yes","No") -> Yes
A10: Top five execution venues ranked in terms of trading volumes (descending order) | B10: Proportion of volume traded as a percentage of total in that class | C10: Proportion of orders executed as percentage of total in that class | D10: Percentage of passive orders | E10: Percentage of aggressive orders | F10: Percentage of directed orders
A11: =IF(ISBLANK([1]RTS28_P_Aktienderivate!A11),"",[1]RTS28_P_Aktienderivate!A11) -> Eurex Deutschland (XEUR) | B11: =IF(ISBLANK([1]RTS28_P_Aktienderivate!B11),"",[1]RTS28_P_Aktienderivate!B11) -> 0.71457294 | C11: =IF(ISBLANK([1]RTS28_P_Aktienderivate!C11),"",[1]RTS28_P_Aktienderivate!C11) -> 0.66333333 | D11: =IF(ISBLANK([1]RTS28_P_Aktienderivate!D11),"",[1]RTS28_P_Aktienderivate!D11) -> 0.0068761838 | E11: =IF(ISBLANK([1]RTS28_P_Aktienderivate!E11),"",[1]RTS28_P_Aktienderivate!E11) -> 0.70769676 | F11: =IF(ISBLANK([1]RTS28_P_Aktienderivate!F11),"",[1]RTS28_P_Aktienderivate!F11) -> 0
A12: =IF(ISBLANK([1]RTS28_P_Aktienderivate!A12),"",[1]RTS28_P_Aktienderivate!A12) -> Options Price Reporting Authority (OPRA) | B12: =IF(ISBLANK([1]RTS28_P_Aktienderivate!B12),"",[1]RTS28_P_Aktienderivate!B12) -> 0.071659799 | C12: =IF(ISBLANK([1]RTS28_P_Aktienderivate!C12),"",[1]RTS28_P_Aktienderivate!C12) -> 0.06 | D12: =IF(ISBLANK([1]RTS28_P_Aktienderivate!D12),"",[1]RTS28_P_Aktienderivate!D12) -> 0 | E12: =IF(ISBLANK([1]RTS28_P_Aktienderivate!E12),"",[1]RTS28_P_Aktienderivate!E12) -> 0.071659799 | F12: =IF(ISBLANK([1]RTS28_P_Aktienderivate!F12),"",[1]RTS28_P_Aktienderivate!F12) -> 0
A13: =IF(ISBLANK([1]RTS28_P_Aktienderivate!A13),"",[1]RTS28_P_Aktienderivate!A13) -> ICE Futures Europe - Equity Products Division (IFLO) | B13: =IF(ISBLANK([1]RTS28_P_Aktienderivate!B13),"",[1]RTS28_P_Aktienderivate!B13) -> 0.049733442 | C13: =IF(ISBLANK([1]RTS28_P_Aktienderivate!C13),"",[1]RTS28_P_Aktienderivate!C13) -> 0.033333333 | D13: =IF(ISBLANK([1]RTS28_P_Aktienderivate!D13),"",[1]RTS28_P_Aktienderivate!D13) -> 0 | E13: =IF(ISBLANK([1]RTS28_P_Aktienderivate!E13),"",[1]RTS28_P_Aktienderivate!E13) -> 0.049733442 | F13: =IF(ISBLANK([1]RTS28_P_Aktienderivate!F13),"",[1]RTS28_P_Aktienderivate!F13) -> 0
A14: =IF(ISBLANK([1]RTS28_P_Aktienderivate!A14),"",[1]RTS28_P_Aktienderivate!A14) -> EUREX SCHWEIZ (EUCH) | B14: =IF(ISBLANK([1]RTS28_P_Aktienderivate!B14),"",[1]RTS28_P_Aktienderivate!B14) -> 0.0029079651 | C14: =IF(ISBLANK([1]RTS28_P_Aktienderivate!C14),"",[1]RTS28_P_Aktienderivate!C14) -> 0.0033333333 | D14: =IF(ISBLANK([1]RTS28_P_Aktienderivate!D14),"",[1]RTS28_P_Aktienderivate!D14) -> 0 | E14: =IF(ISBLANK([1]RTS28_P_Aktienderivate!E14),"",[1]RTS28_P_Aktienderivate!E14) -> 0.0029079651 | F14: =IF(ISBLANK([1]RTS28_P_Aktienderivate!F14),"",[1]RTS28_P_Aktienderivate!F14) -> 0
A15: =IF(ISBLANK([1]RTS28_P_Aktienderivate!A15),"",[1]RTS28_P_Aktienderivate!A15) -> MEFF Mercado Espanol Financiero de Futuros, Renta Variable (XMRV) | B15: =IF(ISBLANK([1]RTS28_P_Aktienderivate!B15),"",[1]RTS28_P_Aktienderivate!B15) -> 0.002393682 | C15: =IF(ISBLANK([1]RTS28_P_Aktienderivate!C15),"",[1]RTS28_P_Aktienderivate!C15) -> 0.0033333333 | D15: =IF(ISBLANK([1]RTS28_P_Aktienderivate!D15),"",[1]RTS28_P_Aktienderivate!D15) -> 0 | E15: =IF(ISBLANK([1]RTS28_P_Aktienderivate!E15),"",[1]RTS28_P_Aktienderivate!E15) -> 0.002393682 | F15: =IF(ISBLANK([1]RTS28_P_Aktienderivate!F15),"",[1]RTS28_P_Aktienderivate!F15) -> 0

Sheet RTS28_P_Equities_Shares
A1: =RTS28_R_Equity_Derivates!A1 -> Trading volumes of top five execution venues 2021
A3: Professional clients
A7: Class of Instrument | B7: Equities - Shares & Depository receipts
A8: Notification if <1 average trade per business day in the previous year | B8: =IF([1]RTS28_P_Eigenkapitalinstrumente!B8="Ja","Yes","No") -> No
A10: Top five execution venues ranked in terms of trading volumes (descending order) | B10: Proportion of volume traded as a percentage of total in that class | C10: Proportion of orders executed as percentage of total in that class | D10: Percentage of passive orders | E10: Percentage of aggressive orders | F10: Percentage of directed orders
A11: =IF(ISBLANK([1]RTS28_P_Eigenkapitalinstrumente!A11),"",[1]RTS28_P_Eigenkapitalinstrumente!A11) -> New York Stock Exchange, Inc (XNYS) | B11: =IF(ISBLANK([1]RTS28_P_Eigenkapitalinstrumente!B11),"",[1]RTS28_P_Eigenkapitalinstrumente!B11) -> 0.092932635 | C11: =IF(ISBLANK([1]RTS28_P_Eigenkapitalinstrumente!C11),"",[1]RTS28_P_Eigenkapitalinstrumente!C11) -> 0.024062975 | D11: =IF(ISBLANK([1]RTS28_P_Eigenkapitalinstrumente!D11),"",[1]RTS28_P_Eigenkapitalinstrumente!D11) -> 0.02923073 | E11: =IF(ISBLANK([1]RTS28_P_Eigenkapitalinstrumente!E11),"",[1]RTS28_P_Eigenkapitalinstrumente!E11) -> 0.063701906 | F11: =IF(ISBLANK([1]RTS28_P_Eigenkapitalinstrumente!F11),"",[1]RTS28_P_Eigenkapitalinstrumente!F11) -> 0
A12: =IF(ISBLANK([1]RTS28_P_Eigenkapitalinstrumente!A12),"",[1]RTS28_P_Eigenkapitalinstrumente!A12) -> SIX Swiss Exchange (XSWX) | B12: =IF(ISBLANK([1]RTS28_P_Eigenkapitalinstrumente!B12),"",[1]RTS28_P_Eigenkapitalinstrumente!B12) -> 0.073950193 | C12: =IF(ISBLANK([1]RTS28_P_Eigenkapitalinstrumente!C12),"",[1]RTS28_P_Eigenkapitalinstrumente!C12) -> 0.028804008 | D12: =IF(ISBLANK([1]RTS28_P_Eigenkapitalinstrumente!D12),"",[1]RTS28_P_Eigenkapitalinstrumente!D12) -> 0.015640993 | E12: =IF(ISBLANK([1]RTS28_P_Eigenkapitalinstrumente!E12),"",[1]RTS28_P_Eigenkapitalinstrumente!E12) -> 0.0583092 | F12: =IF(ISBLANK([1]RTS28_P_Eigenkapitalinstrumente!F12),"",[1]RTS28_P_Eigenkapitalinstrumente!F12) -> 0
A13: =IF(ISBLANK([1]RTS28_P_Eigenkapitalinstrumente!A13),"",[1]RTS28_P_Eigenkapitalinstrumente!A13) -> NASDAQ (XNAS) | B13: =IF(ISBLANK([1]RTS28_P_Eigenkapitalinstrumente!B13),"",[1]RTS28_P_Eigenkapitalinstrumente!B13) -> 0.069203913 | C13: =IF(ISBLANK([1]RTS28_P_Eigenkapitalinstrumente!C13),"",[1]RTS28_P_Eigenkapitalinstrumente!C13) -> 0.021737186 | D13: =IF(ISBLANK([1]RTS28_P_Eigenkapitalinstrumente!D13),"",[1]RTS28_P_Eigenkapitalinstrumente!D13) -> 0.024554053 | E13: =IF(ISBLANK([1]RTS28_P_Eigenkapitalinstrumente!E13),"",[1]RTS28_P_Eigenkapitalinstrumente!E13) -> 0.04464986 | F13: =IF(ISBLANK([1]RTS28_P_Eigenkapitalinstrumente!F13),"",[1]RTS28_P_Eigenkapitalinstrumente!F13) -> 0
A14: =IF(ISBLANK([1]RTS28_P_Eigenkapitalinstrumente!A14),"",[1]RTS28_P_Eigenkapitalinstrumente!A14) -> NYSE Arca (ARCX) | B14: =IF(ISBLANK([1]RTS28_P_Eigenkapitalinstrumente!B14),"",[1]RTS28_P_Eigenkapitalinstrumente!B14) -> 0.015597465 | C14: =IF(ISBLANK([1]RTS28_P_Eigenkapitalinstrumente!C14),"",[1]RTS28_P_Eigenkapitalinstrumente!C14) -> 0.00053672064 | D14: =IF(ISBLANK([1]RTS28_P_Eigenkapitalinstrumente!D14),"",[1]RTS28_P_Eigenkapitalinstrumente!D14) -> 3.3984265e-05 | E14: =IF(ISBLANK([1]RTS28_P_Eigenkapitalinstrumente!E14),"",[1]RTS28_P_Eigenkapitalinstrumente!E14) -> 0.015563481 | F14: =IF(ISBLANK([1]RTS28_P_Eigenkapitalinstrumente!F14),"",[1]RTS28_P_Eigenkapitalinstrumente!F14) -> 0
A15: =IF(ISBLANK([1]RTS28_P_Eigenkapitalinstrumente!A15),"",[1]RTS28_P_Eigenkapitalinstrumente!A15) -> SIX Swiss Exchange, SwissAtMid (XSWM) | B15: =IF(ISBLANK([1]RTS28_P_Eigenkapitalinstrumente!B15),"",[1]RTS28_P_Eigenkapitalinstrumente!B15) -> 0.013812025 | C15: =IF(ISBLANK([1]RTS28_P_Eigenkapitalinstrumente!C15),"",[1]RTS28_P_Eigenkapitalinstrumente!C15) -> 0.0061722873 | D15: =IF(ISBLANK([1]RTS28_P_Eigenkapitalinstrumente!D15),"",[1]RTS28_P_Eigenkapitalinstrumente!D15) -> 0.0044883997 | E15: =IF(ISBLANK([1]RTS28_P_Eigenkapitalinstrumente!E15),"",[1]RTS28_P_Eigenkapitalinstrumente!E15) -> 0.0093236255 | F15: =IF(ISBLANK([1]RTS28_P_Eigenkapitalinstrumente!F15),"",[1]RTS28_P_Eigenkapitalinstrumente!F15) -> 0

Sheet RTS28_P_Commodities_derivat
A1: =RTS28_R_Equity_Derivates!A1 -> Trading volumes of top five execution venues 2021
A3: Professional clients
A7: Class of Instrument | B7: Commodities derivate
A8: Notification if <1 average trade per business day in the previous year | B8: =IF([1]RTS28_P_Rohstoffderivate!B8="Ja","Yes","No") -> Yes
A10: Top five execution venues ranked in terms of trading volumes (descending order) | B10: Proportion of volume traded as a percentage of total in that class | C10: Proportion of orders executed as percentage of total in that class | D10: Percentage of passive orders | E10: Percentage of aggressive orders | F10: Percentage of directed orders
A11: =IF(ISBLANK([1]RTS28_P_Rohstoffderivate!A11),"",[1]RTS28_P_Rohstoffderivate!A11) -> n/a | B11: =IF(ISBLANK([1]RTS28_P_Rohstoffderivate!B11),"",[1]RTS28_P_Rohstoffderivate!B11) -> 0 | C11: =IF(ISBLANK([1]RTS28_P_Rohstoffderivate!C11),"",[1]RTS28_P_Rohstoffderivate!C11) -> 0 | D11: =IF(ISBLANK([1]RTS28_P_Rohstoffderivate!D11),"",[1]RTS28_P_Rohstoffderivate!D11) -> 0 | E11: =IF(ISBLANK([1]RTS28_P_Rohstoffderivate!E11),"",[1]RTS28_P_Rohstoffderivate!E11) -> 0 | F11: =IF(ISBLANK([1]RTS28_P_Rohstoffderivate!F11),"",[1]RTS28_P_Rohstoffderivate!F11) -> 0
A12: =IF(ISBLANK([1]RTS28_P_Rohstoffderivate!A12),"",[1]RTS28_P_Rohstoffderivate!A12) | B12: =IF(ISBLANK([1]RTS28_P_Rohstoffderivate!B12),"",[1]RTS28_P_Rohstoffderivate!B12) | C12: =IF(ISBLANK([1]RTS28_P_Rohstoffderivate!C12),"",[1]RTS28_P_Rohstoffderivate!C12) | D12: =IF(ISBLANK([1]RTS28_P_Rohstoffderivate!D12),"",[1]RTS28_P_Rohstoffderivate!D12) | E12: =IF(ISBLANK([1]RTS28_P_Rohstoffderivate!E12),"",[1]RTS28_P_Rohstoffderivate!E12) | F12: =IF(ISBLANK([1]RTS28_P_Rohstoffderivate!F12),"",[1]RTS28_P_Rohstoffderivate!F12)
A13: =IF(ISBLANK([1]RTS28_P_Rohstoffderivate!A13),"",[1]RTS28_P_Rohstoffderivate!A13) | B13: =IF(ISBLANK([1]RTS28_P_Rohstoffderivate!B13),"",[1]RTS28_P_Rohstoffderivate!B13) | C13: =IF(ISBLANK([1]RTS28_P_Rohstoffderivate!C13),"",[1]RTS28_P_Rohstoffderivate!C13) | D13: =IF(ISBLANK([1]RTS28_P_Rohstoffderivate!D13),"",[1]RTS28_P_Rohstoffderivate!D13) | E13: =IF(ISBLANK([1]RTS28_P_Rohstoffderivate!E13),"",[1]RTS28_P_Rohstoffderivate!E13) | F13: =IF(ISBLANK([1]RTS28_P_Rohstoffderivate!F13),"",[1]RTS28_P_Rohstoffderivate!F13)
A14: =IF(ISBLANK([1]RTS28_P_Rohstoffderivate!A14),"",[1]RTS28_P_Rohstoffderivate!A14) | B14: =IF(ISBLANK([1]RTS28_P_Rohstoffderivate!B14),"",[1]RTS28_P_Rohstoffderivate!B14) | C14: =IF(ISBLANK([1]RTS28_P_Rohstoffderivate!C14),"",[1]RTS28_P_Rohstoffderivate!C14) | D14: =IF(ISBLANK([1]RTS28_P_Rohstoffderivate!D14),"",[1]RTS28_P_Rohstoffderivate!D14) | E14: =IF(ISBLANK([1]RTS28_P_Rohstoffderivate!E14),"",[1]RTS28_P_Rohstoffderivate!E14) | F14: =IF(ISBLANK([1]RTS28_P_Rohstoffderivate!F14),"",[1]RTS28_P_Rohstoffderivate!F14)
A15: =IF(ISBLANK([1]RTS28_P_Rohstoffderivate!A15),"",[1]RTS28_P_Rohstoffderivate!A15) | B15: =IF(ISBLANK([1]RTS28_P_Rohstoffderivate!B15),"",[1]RTS28_P_Rohstoffderivate!B15) | C15: =IF(ISBLANK([1]RTS28_P_Rohstoffderivate!C15),"",[1]RTS28_P_Rohstoffderivate!C15) | D15: =IF(ISBLANK([1]RTS28_P_Rohstoffderivate!D15),"",[1]RTS28_P_Rohstoffderivate!D15) | E15: =IF(ISBLANK([1]RTS28_P_Rohstoffderivate!E15),"",[1]RTS28_P_Rohstoffderivate!E15) | F15: =IF(ISBLANK([1]RTS28_P_Rohstoffderivate!F15),"",[1]RTS28_P_Rohstoffderivate!F15)

Sheet RTS28_P_Debt_instruments
A1: =RTS28_R_Equity_Derivates!A1 -> Trading volumes of top five execution venues 2021
A3: Professional clients
A7: Class of Instrument | B7: Debt instruments
A8: Notification if <1 average trade per business day in the previous year | B8: =IF([1]RTS28_P_Schuldtitel!B8="Ja","Yes","No") -> Yes
A10: Top five execution venues ranked in terms of trading volumes (descending order) | B10: Proportion of volume traded as a percentage of total in that class | C10: Proportion of orders executed as percentage of total in that class | D10: Percentage of passive orders | E10: Percentage of aggressive orders | F10: Percentage of directed orders
A11: =IF(ISBLANK([1]RTS28_P_Schuldtitel!A11),"",[1]RTS28_P_Schuldtitel!A11) -> TRAX (XCOR) | B11: =IF(ISBLANK([1]RTS28_P_Schuldtitel!B11),"",[1]RTS28_P_Schuldtitel!B11) -> 0.19925617 | C11: =IF(ISBLANK([1]RTS28_P_Schuldtitel!C11),"",[1]RTS28_P_Schuldtitel!C11) -> 0.067484663 | D11: =IF(ISBLANK([1]RTS28_P_Schuldtitel!D11),"",[1]RTS28_P_Schuldtitel!D11) -> 0.026274863 | E11: =IF(ISBLANK([1]RTS28_P_Schuldtitel!E11),"",[1]RTS28_P_Schuldtitel!E11) -> 0.17298131 | F11: =IF(ISBLANK([1]RTS28_P_Schuldtitel!F11),"",[1]RTS28_P_Schuldtitel!F11) -> 0
A12: =IF(ISBLANK([1]RTS28_P_Schuldtitel!A12),"",[1]RTS28_P_Schuldtitel!A12) -> SIX Swiss Exchange (XSWX) | B12: =IF(ISBLANK([1]RTS28_P_Schuldtitel!B12),"",[1]RTS28_P_Schuldtitel!B12) -> 0.10718319 | C12: =IF(ISBLANK([1]RTS28_P_Schuldtitel!C12),"",[1]RTS28_P_Schuldtitel!C12) -> 0.064076346 | D12: =IF(ISBLANK([1]RTS28_P_Schuldtitel!D12),"",[1]RTS28_P_Schuldtitel!D12) -> 0.0036449872 | E12: =IF(ISBLANK([1]RTS28_P_Schuldtitel!E12),"",[1]RTS28_P_Schuldtitel!E12) -> 0.1035382 | F12: =IF(ISBLANK([1]RTS28_P_Schuldtitel!F12),"",[1]RTS28_P_Schuldtitel!F12) -> 0
A13: =IF(ISBLANK([1]RTS28_P_Schuldtitel!A13),"",[1]RTS28_P_Schuldtitel!A13) -> Mercato Telematico delle Obbligazioni (MOTX) | B13: =IF(ISBLANK([1]RTS28_P_Schuldtitel!B13),"",[1]RTS28_P_Schuldtitel!B13) -> 0.018013607 | C13: =IF(ISBLANK([1]RTS28_P_Schuldtitel!C13),"",[1]RTS28_P_Schuldtitel!C13) -> 0.0013633265 | D13: =IF(ISBLANK([1]RTS28_P_Schuldtitel!D13),"",[1]RTS28_P_Schuldtitel!D13) -> 0.00099489969 | E13: =IF(ISBLANK([1]RTS28_P_Schuldtitel!E13),"",[1]RTS28_P_Schuldtitel!E13) -> 0.017018707 | F13: =IF(ISBLANK([1]RTS28_P_Schuldtitel!F13),"",[1]RTS28_P_Schuldtitel!F13) -> 0
A14: =IF(ISBLANK([1]RTS28_P_Schuldtitel!A14),"",[1]RTS28_P_Schuldtitel!A14) -> SIX (X11S) | B14: =IF(ISBLANK([1]RTS28_P_Schuldtitel!B14),"",[1]RTS28_P_Schuldtitel!B14) -> 0.017755687 | C14: =IF(ISBLANK([1]RTS28_P_Schuldtitel!C14),"",[1]RTS28_P_Schuldtitel!C14) -> 0.00068166326 | D14: =IF(ISBLANK([1]RTS28_P_Schuldtitel!D14),"",[1]RTS28_P_Schuldtitel!D14) -> 0 | E14: =IF(ISBLANK([1]RTS28_P_Schuldtitel!E14),"",[1]RTS28_P_Schuldtitel!E14) -> 0.017755687 | F14: =IF(ISBLANK([1]RTS28_P_Schuldtitel!F14),"",[1]RTS28_P_Schuldtitel!F14) -> 0
A15: =IF(ISBLANK([1]RTS28_P_Schuldtitel!A15),"",[1]RTS28_P_Schuldtitel!A15) -> Over the Counter (XOFF) | B15: =IF(ISBLANK([1]RTS28_P_Schuldtitel!B15),"",[1]RTS28_P_Schuldtitel!B15) -> 0.015172779 | C15: =IF(ISBLANK([1]RTS28_P_Schuldtitel!C15),"",[1]RTS28_P_Schuldtitel!C15) -> 0.010224949 | D15: =IF(ISBLANK([1]RTS28_P_Schuldtitel!D15),"",[1]RTS28_P_Schuldtitel!D15) -> 0.012357676 | E15: =IF(ISBLANK([1]RTS28_P_Schuldtitel!E15),"",[1]RTS28_P_Schuldtitel!E15) -> 0.0028151024 | F15: =IF(ISBLANK([1]RTS28_P_Schuldtitel!F15),"",[1]RTS28_P_Schuldtitel!F15) -> 0

Sheet RTS28_P_Other
A1: =RTS28_R_Equity_Derivates!A1 -> Trading volumes of top five execution venues 2021
A3: Professional clients
A7: Class of Instrument | B7: Other instruments
A8: Notification if <1 average trade per business day in the previous year | B8: =IF([1]RTS28_P_Sonstige!B8="Ja","Yes","No") -> No
A10: Top five execution venues ranked in terms of trading volumes (descending order) | B10: Proportion of volume traded as a percentage of total in that class | C10: Proportion of orders executed as percentage of total in that class | D10: Percentage of passive orders | E10: Percentage of aggressive orders | F10: Percentage of directed orders
A11: =IF(ISBLANK([1]RTS28_P_Sonstige!A11),"",[1]RTS28_P_Sonstige!A11) -> NASDAQ (XNAS) | B11: =IF(ISBLANK([1]RTS28_P_Sonstige!B11),"",[1]RTS28_P_Sonstige!B11) -> 0.25658671 | C11: =IF(ISBLANK([1]RTS28_P_Sonstige!C11),"",[1]RTS28_P_Sonstige!C11) -> 0.021362957 | D11: =IF(ISBLANK([1]RTS28_P_Sonstige!D11),"",[1]RTS28_P_Sonstige!D11) -> 0.25343749 | E11: =IF(ISBLANK([1]RTS28_P_Sonstige!E11),"",[1]RTS28_P_Sonstige!E11) -> 0.0031492136 | F11: =IF(ISBLANK([1]RTS28_P_Sonstige!F11),"",[1]RTS28_P_Sonstige!F11) -> 0
A12: =IF(ISBLANK([1]RTS28_P_Sonstige!A12),"",[1]RTS28_P_Sonstige!A12) -> NYSE-CTA Cboe BZX U.S. Equities Exchange (BATS) | B12: =IF(ISBLANK([1]RTS28_P_Sonstige!B12),"",[1]RTS28_P_Sonstige!B12) -> 0.22124865 | C12: =IF(ISBLANK([1]RTS28_P_Sonstige!C12),"",[1]RTS28_P_Sonstige!C12) -> 0.011963256 | D12: =IF(ISBLANK([1]RTS28_P_Sonstige!D12),"",[1]RTS28_P_Sonstige!D12) -> 0.22024234 | E12: =IF(ISBLANK([1]RTS28_P_Sonstige!E12),"",[1]RTS28_P_Sonstige!E12) -> 0.0010063147 | F12: =IF(ISBLANK([1]RTS28_P_Sonstige!F12),"",[1]RTS28_P_Sonstige!F12) -> 0
A13: =IF(ISBLANK([1]RTS28_P_Sonstige!A13),"",[1]RTS28_P_Sonstige!A13) -> NYSE Arca, Listed Bonds (ARCX) | B13: =IF(ISBLANK([1]RTS28_P_Sonstige!B13),"",[1]RTS28_P_Sonstige!B13) -> 0.19018565 | C13: =IF(ISBLANK([1]RTS28_P_Sonstige!C13),"",[1]RTS28_P_Sonstige!C13) -> 0.016663106 | D13: =IF(ISBLANK([1]RTS28_P_Sonstige!D13),"",[1]RTS28_P_Sonstige!D13) -> 0.18767674 | E13: =IF(ISBLANK([1]RTS28_P_Sonstige!E13),"",[1]RTS28_P_Sonstige!E13) -> 0.0025089145 | F13: =IF(ISBLANK([1]RTS28_P_Sonstige!F13),"",[1]RTS28_P_Sonstige!F13) -> 0
A14: =IF(ISBLANK([1]RTS28_P_Sonstige!A14),"",[1]RTS28_P_Sonstige!A14) -> NYSE Arca (ARCX) | B14: =IF(ISBLANK([1]RTS28_P_Sonstige!B14),"",[1]RTS28_P_Sonstige!B14) -> 0.0075618799 | C14: =IF(ISBLANK([1]RTS28_P_Sonstige!C14),"",[1]RTS28_P_Sonstige!C14) -> 0.019013031 | D14: =IF(ISBLANK([1]RTS28_P_Sonstige!D14),"",[1]RTS28_P_Sonstige!D14) -> 0.00021403596 | E14: =IF(ISBLANK([1]RTS28_P_Sonstige!E14),"",[1]RTS28_P_Sonstige!E14) -> 0.0073478439 | F14: =IF(ISBLANK([1]RTS28_P_Sonstige!F14),"",[1]RTS28_P_Sonstige!F14) -> 0
A15: =IF(ISBLANK([1]RTS28_P_Sonstige!A15),"",[1]RTS28_P_Sonstige!A15) -> Physical metals CHF (X_20) | B15: =IF(ISBLANK([1]RTS28_P_Sonstige!B15),"",[1]RTS28_P_Sonstige!B15) -> 0.0059024661 | C15: =IF(ISBLANK([1]RTS28_P_Sonstige!C15),"",[1]RTS28_P_Sonstige!C15) -> 0.00021362957 | D15: =IF(ISBLANK([1]RTS28_P_Sonstige!D15),"",[1]RTS28_P_Sonstige!D15) -> 0 | E15: =IF(ISBLANK([1]RTS28_P_Sonstige!E15),"",[1]RTS28_P_Sonstige!E15) -> 0.0059024661 | F15: =IF(ISBLANK([1]RTS28_P_Sonstige!F15),"",[1]RTS28_P_Sonstige!F15) -> 0

Sheet RTS28_P_Securitized_derivates
A1: =RTS28_R_Equity_Derivates!A1 -> Trading volumes of top five execution venues 2021
A3: Professional clients
A7: Class of Instrument | B7: Securitized derivates
A8: Notification if <1 average trade per business day in the previous year | B8: =IF([1]RTS28_P_VerbriefteDerivate!B8="Ja","Yes","No") -> Yes
A10: Top five execution venues ranked in terms of trading volumes (descending order) | B10: Proportion of volume traded as a percentage of total in that class | C10: Proportion of orders executed as percentage of total in that class | D10: Percentage of passive orders | E10: Percentage of aggressive orders | F10: Percentage of directed orders
A11: =IF(ISBLANK([1]RTS28_P_VerbriefteDerivate!A11),"",[1]RTS28_P_VerbriefteDerivate!A11) -> n/a | B11: =IF(ISBLANK([1]RTS28_P_VerbriefteDerivate!B11),"",[1]RTS28_P_VerbriefteDerivate!B11) -> 0 | C11: =IF(ISBLANK([1]RTS28_P_VerbriefteDerivate!C11),"",[1]RTS28_P_VerbriefteDerivate!C11) -> 0 | D11: =IF(ISBLANK([1]RTS28_P_VerbriefteDerivate!D11),"",[1]RTS28_P_VerbriefteDerivate!D11) -> 0 | E11: =IF(ISBLANK([1]RTS28_P_VerbriefteDerivate!E11),"",[1]RTS28_P_VerbriefteDerivate!E11) -> 0 | F11: =IF(ISBLANK([1]RTS28_P_VerbriefteDerivate!F11),"",[1]RTS28_P_VerbriefteDerivate!F11) -> 0
A12: =IF(ISBLANK([1]RTS28_P_VerbriefteDerivate!A12),"",[1]RTS28_P_VerbriefteDerivate!A12) | B12: =IF(ISBLANK([1]RTS28_P_VerbriefteDerivate!B12),"",[1]RTS28_P_VerbriefteDerivate!B12) | C12: =IF(ISBLANK([1]RTS28_P_VerbriefteDerivate!C12),"",[1]RTS28_P_VerbriefteDerivate!C12) | D12: =IF(ISBLANK([1]RTS28_P_VerbriefteDerivate!D12),"",[1]RTS28_P_VerbriefteDerivate!D12) | E12: =IF(ISBLANK([1]RTS28_P_VerbriefteDerivate!E12),"",[1]RTS28_P_VerbriefteDerivate!E12) | F12: =IF(ISBLANK([1]RTS28_P_VerbriefteDerivate!F12),"",[1]RTS28_P_VerbriefteDerivate!F12)
A13: =IF(ISBLANK([1]RTS28_P_VerbriefteDerivate!A13),"",[1]RTS28_P_VerbriefteDerivate!A13) | B13: =IF(ISBLANK([1]RTS28_P_VerbriefteDerivate!B13),"",[1]RTS28_P_VerbriefteDerivate!B13) | C13: =IF(ISBLANK([1]RTS28_P_VerbriefteDerivate!C13),"",[1]RTS28_P_VerbriefteDerivate!C13) | D13: =IF(ISBLANK([1]RTS28_P_VerbriefteDerivate!D13),"",[1]RTS28_P_VerbriefteDerivate!D13) | E13: =IF(ISBLANK([1]RTS28_P_VerbriefteDerivate!E13),"",[1]RTS28_P_VerbriefteDerivate!E13) | F13: =IF(ISBLANK([1]RTS28_P_VerbriefteDerivate!F13),"",[1]RTS28_P_VerbriefteDerivate!F13)
A14: =IF(ISBLANK([1]RTS28_P_VerbriefteDerivate!A14),"",[1]RTS28_P_VerbriefteDerivate!A14) | B14: =IF(ISBLANK([1]RTS28_P_VerbriefteDerivate!B14),"",[1]RTS28_P_VerbriefteDerivate!B14) | C14: =IF(ISBLANK([1]RTS28_P_VerbriefteDerivate!C14),"",[1]RTS28_P_VerbriefteDerivate!C14) | D14: =IF(ISBLANK([1]RTS28_P_VerbriefteDerivate!D14),"",[1]RTS28_P_VerbriefteDerivate!D14) | E14: =IF(ISBLANK([1]RTS28_P_VerbriefteDerivate!E14),"",[1]RTS28_P_VerbriefteDerivate!E14) | F14: =IF(ISBLANK([1]RTS28_P_VerbriefteDerivate!F14),"",[1]RTS28_P_VerbriefteDerivate!F14)
A15: =IF(ISBLANK([1]RTS28_P_VerbriefteDerivate!A15),"",[1]RTS28_P_VerbriefteDerivate!A15) | B15: =IF(ISBLANK([1]RTS28_P_VerbriefteDerivate!B15),"",[1]RTS28_P_VerbriefteDerivate!B15) | C15: =IF(ISBLANK([1]RTS28_P_VerbriefteDerivate!C15),"",[1]RTS28_P_VerbriefteDerivate!C15) | D15: =IF(ISBLANK([1]RTS28_P_VerbriefteDerivate!D15),"",[1]RTS28_P_VerbriefteDerivate!D15) | E15: =IF(ISBLANK([1]RTS28_P_VerbriefteDerivate!E15),"",[1]RTS28_P_VerbriefteDerivate!E15) | F15: =IF(ISBLANK([1]RTS28_P_VerbriefteDerivate!F15),"",[1]RTS28_P_VerbriefteDerivate!F15)

Sheet RTS28_P_Structured
A1: =RTS28_R_Equity_Derivates!A1 -> Trading volumes of top five execution venues 2021
A3: Professional clients
A7: Class of Instrument | B7: Structured finance instruments
A8: Notification if <1 average trade per business day in the previous year | B8: =IF([1]RTS28_P_StrukturierteProduke!B8="Ja","Yes","No") -> Yes
A10: Top five execution venues ranked in terms of trading volumes (descending order) | B10: Proportion of volume traded as a percentage of total in that class | C10: Proportion of orders executed as percentage of total in that class | D10: Percentage of passive orders | E10: Percentage of aggressive orders | F10: Percentage of directed orders
A11: =IF(ISBLANK([1]RTS28_P_StrukturierteProduke!A11),"",[1]RTS28_P_StrukturierteProduke!A11) -> Over the Counter (XOFF) | B11: =IF(ISBLANK([1]RTS28_P_StrukturierteProduke!B11),"",[1]RTS28_P_StrukturierteProduke!B11) -> 0.081865168 | C11: =IF(ISBLANK([1]RTS28_P_StrukturierteProduke!C11),"",[1]RTS28_P_StrukturierteProduke!C11) -> 0.05625879 | D11: =IF(ISBLANK([1]RTS28_P_StrukturierteProduke!D11),"",[1]RTS28_P_StrukturierteProduke!D11) -> 0.024697514 | E11: =IF(ISBLANK([1]RTS28_P_StrukturierteProduke!E11),"",[1]RTS28_P_StrukturierteProduke!E11) -> 0.057167655 | F11: =IF(ISBLANK([1]RTS28_P_StrukturierteProduke!F11),"",[1]RTS28_P_StrukturierteProduke!F11) -> 0
A12: =IF(ISBLANK([1]RTS28_P_StrukturierteProduke!A12),"",[1]RTS28_P_StrukturierteProduke!A12) -> SIX Swiss Exchange, Structured Products (XQMH) | B12: =IF(ISBLANK([1]RTS28_P_StrukturierteProduke!B12),"",[1]RTS28_P_StrukturierteProduke!B12) -> 0.025114426 | C12: =IF(ISBLANK([1]RTS28_P_StrukturierteProduke!C12),"",[1]RTS28_P_StrukturierteProduke!C12) -> 0.026722925 | D12: =IF(ISBLANK([1]RTS28_P_StrukturierteProduke!D12),"",[1]RTS28_P_StrukturierteProduke!D12) -> 0.01099415 | E12: =IF(ISBLANK([1]RTS28_P_StrukturierteProduke!E12),"",[1]RTS28_P_StrukturierteProduke!E12) -> 0.014120275 | F12: =IF(ISBLANK([1]RTS28_P_StrukturierteProduke!F12),"",[1]RTS28_P_StrukturierteProduke!F12) -> 0
A13: =IF(ISBLANK([1]RTS28_P_StrukturierteProduke!A13),"",[1]RTS28_P_StrukturierteProduke!A13) -> Euwax (EUWX) | B13: =IF(ISBLANK([1]RTS28_P_StrukturierteProduke!B13),"",[1]RTS28_P_StrukturierteProduke!B13) -> 0.0057789192 | C13: =IF(ISBLANK([1]RTS28_P_StrukturierteProduke!C13),"",[1]RTS28_P_StrukturierteProduke!C13) -> 0.0014064698 | D13: =IF(ISBLANK([1]RTS28_P_StrukturierteProduke!D13),"",[1]RTS28_P_StrukturierteProduke!D13) -> 0 | E13: =IF(ISBLANK([1]RTS28_P_StrukturierteProduke!E13),"",[1]RTS28_P_StrukturierteProduke!E13) -> 0.0057789192 | F13: =IF(ISBLANK([1]RTS28_P_StrukturierteProduke!F13),"",[1]RTS28_P_StrukturierteProduke!F13) -> 0
A14: =IF(ISBLANK([1]RTS28_P_StrukturierteProduke!A14),"",[1]RTS28_P_StrukturierteProduke!A14) -> London Stock Exchange Domestic/UK Market 1st Currency (XLON) | B14: =IF(ISBLANK([1]RTS28_P_StrukturierteProduke!B14),"",[1]RTS28_P_StrukturierteProduke!B14) -> 0.0011167832 | C14: =IF(ISBLANK([1]RTS28_P_StrukturierteProduke!C14),"",[1]RTS28_P_StrukturierteProduke!C14) -> 0.0028129395 | D14: =IF(ISBLANK([1]RTS28_P_StrukturierteProduke!D14),"",[1]RTS28_P_StrukturierteProduke!D14) -> 0 | E14: =IF(ISBLANK([1]RTS28_P_StrukturierteProduke!E14),"",[1]RTS28_P_StrukturierteProduke!E14) -> 0.0011167832 | F14: =IF(ISBLANK([1]RTS28_P_StrukturierteProduke!F14),"",[1]RTS28_P_StrukturierteProduke!F14) -> 0
A15: =IF(ISBLANK([1]RTS28_P_StrukturierteProduke!A15),"",[1]RTS28_P_StrukturierteProduke!A15) -> Boerse Stuttgart GmbH (XSTU) | B15: =IF(ISBLANK([1]RTS28_P_StrukturierteProduke!B15),"",[1]RTS28_P_StrukturierteProduke!B15) -> 0.00025857696 | C15: =IF(ISBLANK([1]RTS28_P_StrukturierteProduke!C15),"",[1]RTS28_P_StrukturierteProduke!C15) -> 0.0028129395 | D15: =IF(ISBLANK([1]RTS28_P_StrukturierteProduke!D15),"",[1]RTS28_P_StrukturierteProduke!D15) -> 0 | E15: =IF(ISBLANK([1]RTS28_P_StrukturierteProduke!E15),"",[1]RTS28_P_StrukturierteProduke!E15) -> 0.00025857696 | F15: =IF(ISBLANK([1]RTS28_P_StrukturierteProduke!F15),"",[1]RTS28_P_StrukturierteProduke!F15) -> 0

Sheet RTS28_P_Interest_derivates
A1: =RTS28_R_Equity_Derivates!A1 -> Trading volumes of top five execution venues 2021
A3: Professional clients
A7: Class of Instrument | B7: Interest rate derivates
A8: Notification if <1 average trade per business day in the previous year | B8: =IF([1]RTS28_P_Zinsderivate!B8="Ja","Yes","No") -> Yes
A10: Top five execution venues ranked in terms of trading volumes (descending order) | B10: Proportion of volume traded as a percentage of total in that class | C10: Proportion of orders executed as percentage of total in that class | D10: Percentage of passive orders | E10: Percentage of aggressive orders | F10: Percentage of directed orders
A11: =IF(ISBLANK([1]RTS28_P_Zinsderivate!A11),"",[1]RTS28_P_Zinsderivate!A11) -> Eurex Deutschland (XEUR) | B11: =IF(ISBLANK([1]RTS28_P_Zinsderivate!B11),"",[1]RTS28_P_Zinsderivate!B11) -> 1 | C11: =IF(ISBLANK([1]RTS28_P_Zinsderivate!C11),"",[1]RTS28_P_Zinsderivate!C11) -> 1 | D11: =IF(ISBLANK([1]RTS28_P_Zinsderivate!D11),"",[1]RTS28_P_Zinsderivate!D11) -> 0 | E11: =IF(ISBLANK([1]RTS28_P_Zinsderivate!E11),"",[1]RTS28_P_Zinsderivate!E11) -> 1 | F11: =IF(ISBLANK([1]RTS28_P_Zinsderivate!F11),"",[1]RTS28_P_Zinsderivate!F11) -> 0
A12: =IF(ISBLANK([1]RTS28_P_Zinsderivate!A12),"",[1]RTS28_P_Zinsderivate!A12) | B12: =IF(ISBLANK([1]RTS28_P_Zinsderivate!B12),"",[1]RTS28_P_Zinsderivate!B12) | C12: =IF(ISBLANK([1]RTS28_P_Zinsderivate!C12),"",[1]RTS28_P_Zinsderivate!C12) | D12: =IF(ISBLANK([1]RTS28_P_Zinsderivate!D12),"",[1]RTS28_P_Zinsderivate!D12) | E12: =IF(ISBLANK([1]RTS28_P_Zinsderivate!E12),"",[1]RTS28_P_Zinsderivate!E12) | F12: =IF(ISBLANK([1]RTS28_P_Zinsderivate!F12),"",[1]RTS28_P_Zinsderivate!F12)
A13: =IF(ISBLANK([1]RTS28_P_Zinsderivate!A13),"",[1]RTS28_P_Zinsderivate!A13) | B13: =IF(ISBLANK([1]RTS28_P_Zinsderivate!B13),"",[1]RTS28_P_Zinsderivate!B13) | C13: =IF(ISBLANK([1]RTS28_P_Zinsderivate!C13),"",[1]RTS28_P_Zinsderivate!C13) | D13: =IF(ISBLANK([1]RTS28_P_Zinsderivate!D13),"",[1]RTS28_P_Zinsderivate!D13) | E13: =IF(ISBLANK([1]RTS28_P_Zinsderivate!E13),"",[1]RTS28_P_Zinsderivate!E13) | F13: =IF(ISBLANK([1]RTS28_P_Zinsderivate!F13),"",[1]RTS28_P_Zinsderivate!F13)
