Workbook

Sheet RTS28_R_Aktienderivate
A1: Handelsvolumen der fünf wichtigsten Handelsplätze 2019
A3: Kleinanleger
A7: Kategorie des Finanzinstruments | B7: Aktienderivate
A8: Angabe, ob im Vorjahr im Durchschnitt <1 Handelsgeschäft pro Geschäftstag ausgeführt wurde | B8: Ja
A10: Die fünf Handelsplätze, die ausgehend vom Handelsvolumen am wichtigsten sind (in absteigender Reihenfolge nach Handelsvolumen) | B10: Anteil des Handeslvolumens als Prozentsatz des gesamten Volumens in dieser Kategorie | C10: Anteil der ausgeführten Aufträge als Prozentsatz aller Aufträge in dieser Kategorie | D10: Prozentsatz passiver Aufträge | E10: Prozentsatz aggressiver Aufträge | F10: Prozentsatz gelenkter Aufträge
A11: Options Price Reporting Authority (OPRA) | B11: 0.069551735 | C11: 0.077738516 | D11: 0 | E11: 0.069551735 | F11: 0
A12: Eurex Deutschland (XEUR) | B12: 0.061719768 | C12: 0.14134276 | D12: 0 | E12: 0.061719768 | F12: 0
A13: ICE Futures Europe - Equity Products Division (XLIF) | B13: 0.0004853576 | C13: 0.0053003534 | D13: 0 | E13: 0.0004853576 | F13: 0

Sheet RTS28_R_Eigenkapitalinstrumente
A1: Handelsvolumen der fünf wichtigsten Handelsplätze 2019
A3: Kleinanleger
A7: Kategorie des Finanzinstruments | B7: Eigenkapitalinstrumente
A8: Angabe, ob im Vorjahr im Durchschnitt <1 Handelsgeschäft pro Geschäftstag ausgeführt wurde | B8: Nein
A10: Die fünf Handelsplätze, die ausgehend vom Handelsvolumen am wichtigsten sind (in absteigender Reihenfolge nach Handelsvolumen) | B10: Anteil des Handeslvolumens als Prozentsatz des gesamten Volumens in dieser Kategorie | C10: Anteil der ausgeführten Aufträge als Prozentsatz aller Aufträge in dieser Kategorie | D10: Prozentsatz passiver Aufträge | E10: Prozentsatz aggressiver Aufträge | F10: Prozentsatz gelenkter Aufträge
A11: New York Stock Exchange, Inc (XNYS) | B11: 0.16722622 | C11: 0.31190296 | D11: 0.0117 | E11: 0.1555 | F11: 0
A12: SIX Swiss Exchange - Blue Chips Segment (XVTX) | B12: 0.073296477 | C12: 0.094920394 | D12: 0.002 | E12: 0.0713 | F12: 0
A13: NASDAQ (XNAS) | B13: 0.065741606 | C13: 0.093858984 | D13: 0.0056 | E13: 0.0602 | F13: 0
A14: SIX Swiss Exchange (XSWX) | B14: 0.061359804 | C14: 0.082183472 | D14: 0.0069 | E14: 0.0544 | F14: 0
A15: Euronext - Euronext Paris (XPAR) | B15: 0.02456322 | C15: 0.046095527 | D15: 0.0011 | E15: 0.0235 | F15: 0

Sheet RTS28_R_Rohstoffderivate
A1: Handelsvolumen der fünf wichtigsten Handelsplätze 2019
A3: Kleinanleger
A7: Kategorie des Finanzinstruments | B7: Rohstoffderivate
A8: Angabe, ob im Vorjahr im Durchschnitt <1 Handelsgeschäft pro Geschäftstag ausgeführt wurde | B8: Ja
A10: Die fünf Handelsplätze, die ausgehend vom Handelsvolumen am wichtigsten sind (in absteigender Reihenfolge nach Handelsvolumen) | B10: Anteil des Handeslvolumens als Prozentsatz des gesamten Volumens in dieser Kategorie | C10: Anteil der ausgeführten Aufträge als Prozentsatz aller Aufträge in dieser Kategorie | D10: Prozentsatz passiver Aufträge | E10: Prozentsatz aggressiver Aufträge | F10: Prozentsatz gelenkter Aufträge
A11: Commodities Exchange Center (XCEC) | B11: 1 | C11: 1 | D11: 0.0426 | E11: 0.9574 | F11: 0

Sheet RTS28_R_Schuldtitel
A1: Handelsvolumen der fünf wichtigsten Handelsplätze 2019
A3: Kleinanleger
A7: Kategorie des Finanzinstruments | B7: Schuldtitel
A8: Angabe, ob im Vorjahr im Durchschnitt <1 Handelsgeschäft pro Geschäftstag ausgeführt wurde | B8: Nein
A10: Die fünf Handelsplätze, die ausgehend vom Handelsvolumen am wichtigsten sind (in absteigender Reihenfolge nach Handelsvolumen) | B10: Anteil des Handeslvolumens als Prozentsatz des gesamten Volumens in dieser Kategorie | C10: Anteil der ausgeführten Aufträge als Prozentsatz aller Aufträge in dieser Kategorie | D10: Prozentsatz passiver Aufträge | E10: Prozentsatz aggressiver Aufträge | F10: Prozentsatz gelenkter Aufträge
A11: TRAX (XCOR) | B11: 0.38096457 | C11: 0.52490286 | D11: 0.1076 | E11: 0.2734 | F11: 0
A12: GovPX (BTEC) | B12: 0.14723711 | C12: 0.036736136 | D12: 0 | E12: 0.1472 | F12: 0
A13: New York Stock Exchange, Inc (XNYS) | B13: 0.066072336 | C13: 0.23207347 | D13: 0.0004 | E13: 0.0657 | F13: 0
A14: Over the Counter (XOFF) | B14: 0.027631472 | C14: 0.030377958 | D14: 0.0116 | E14: 0.016 | F14: 0
A15: SIX Swiss Exchange (XSWX) | B15: 0.0256277 | C15: 0.029671494 | D15: 0.001 | E15: 0.0246 | F15: 0

Sheet RTS28_R_Sonstige
A1: Handelsvolumen der fünf wichtigsten Handelsplätze 2019
A3: Kleinanleger
A7: Kategorie des Finanzinstruments | B7: Sonstige Instrumente
A8: Angabe, ob im Vorjahr im Durchschnitt <1 Handelsgeschäft pro Geschäftstag ausgeführt wurde | B8: Nein
A10: Die fünf Handelsplätze, die ausgehend vom Handelsvolumen am wichtigsten sind (in absteigender Reihenfolge nach Handelsvolumen) | B10: Anteil des Handeslvolumens als Prozentsatz des gesamten Volumens in dieser Kategorie | C10: Anteil der ausgeführten Aufträge als Prozentsatz aller Aufträge in dieser Kategorie | D10: Prozentsatz passiver Aufträge | E10: Prozentsatz aggressiver Aufträge | F10: Prozentsatz gelenkter Aufträge
A11: NYSE Arca (ARCX) | B11: 0.10478499 | C11: 0.17892364 | D11: 0.0102 | E11: 0.0946 | F11: 0
A12: LSE London Stock Exchange, SETS (XLON) | B12: 0.048936682 | C12: 0.077204846 | D12: 0.0001 | E12: 0.0488 | F12: 0
A13: NYSE-CTA Cboe BZX U.S. Equities Exchange (BATS) | B13: 0.04366154 | C13: 0.031839955 | D13: 0.0152 | E13: 0.0285 | F13: 0
A14: NYSE Arca, Listed Bonds (ARCX) | B14: 0.036063556 | C14: 0.027895182 | D14: 0.009 | E14: 0.0271 | F14: 0
A15: NASDAQ (XNAS) | B15: 0.034472172 | C15: 0.07495069 | D15: 0.0035 | E15: 0.031 | F15: 0

Sheet RTS28_R_VerbriefteDerivate
A1: Handelsvolumen der fünf wichtigsten Handelsplätze 2019
A3: Kleinanleger
A7: Kategorie des Finanzinstruments | B7: Verbriefte Derivate
A8: Angabe, ob im Vorjahr im Durchschnitt <1 Handelsgeschäft pro Geschäftstag ausgeführt wurde | B8: Ja
A10: Die fünf Handelsplätze, die ausgehend vom Handelsvolumen am wichtigsten sind (in absteigender Reihenfolge nach Handelsvolumen) | B10: Anteil des Handeslvolumens als Prozentsatz des gesamten Volumens in dieser Kategorie | C10: Anteil der ausgeführten Aufträge als Prozentsatz aller Aufträge in dieser Kategorie | D10: Prozentsatz passiver Aufträge | E10: Prozentsatz aggressiver Aufträge | F10: Prozentsatz gelenkter Aufträge
A11: Over the Counter (XOFF) | B11: 0.87584452 | C11: 0.19354839 | D11: 0.1182 | E11: 0.7576 | F11: 0
A12: Options Price Reporting Authority (OPRA) | B12: 0.050749963 | C12: 0.5 | D12: 0 | E12: 0.0507 | F12: 0
A13: SIX Swiss Exchange, Structured Products (XQMH) | B13: 0.018273516 | C13: 0.032258065 | D13: 0.0127 | E13: 0.0056 | F13: 0

Sheet RTS28_R_StrukturierteProdukte
A1: Handelsvolumen der fünf wichtigsten Handelsplätze 2019
A3: Kleinanleger
A7: Kategorie des Finanzinstruments | B7: Strukturierte Finanzprodukte
A8: Angabe, ob im Vorjahr im Durchschnitt <1 Handelsgeschäft pro Geschäftstag ausgeführt wurde | B8: Nein
A10: Die fünf Handelsplätze, die ausgehend vom Handelsvolumen am wichtigsten sind (in absteigender Reihenfolge nach Handelsvolumen) | B10: Anteil des Handeslvolumens als Prozentsatz des gesamten Volumens in dieser Kategorie | C10: Anteil der ausgeführten Aufträge als Prozentsatz aller Aufträge in dieser Kategorie | D10: Prozentsatz passiver Aufträge | E10: Prozentsatz aggressiver Aufträge | F10: Prozentsatz gelenkter Aufträge
A11: Over the Counter (XOFF) | B11: 0.46760929 | C11: 0.26646707 | D11: 0.0251 | E11: 0.4425 | F11: 0
A12: TRAX (XCOR) | B12: 0.2537145 | C12: 0.086826347 | D12: 0 | E12: 0.2537 | F12: 0
A13: SIX Swiss Exchange, Structured Products (XQMH) | B13: 0.11673312 | C13: 0.35329341 | D13: 0.0461 | E13: 0.0707 | F13: 0
A14: SIX Swiss Exchange (XSWX) | B14: 0.047017385 | C14: 0.013473054 | D14: 0 | E14: 0.047 | F14: 0
A15: Irish Stock Exchange - All Market (XDUB) | B15: 0.023100138 | C15: 0.010479042 | D15: 0.0143 | E15: 0.0088 | F15: 0

Sheet RTS28_R_Währungsderivate
A1: Handelsvolumen der fünf wichtigsten Handelsplätze 2019
A3: Kleinanleger
A7: Kategorie des Finanzinstruments | B7: Währungsderivate
A8: Angabe, ob im Vorjahr im Durchschnitt <1 Handelsgeschäft pro Geschäftstag ausgeführt wurde | B8: Nein
A10: Die fünf Handelsplätze, die ausgehend vom Handelsvolumen am wichtigsten sind (in absteigender Reihenfolge nach Handelsvolumen) | B10: Anteil des Handeslvolumens als Prozentsatz des gesamten Volumens in dieser Kategorie | C10: Anteil der ausgeführten Aufträge als Prozentsatz aller Aufträge in dieser Kategorie | D10: Prozentsatz passiver Aufträge | E10: Prozentsatz aggressiver Aufträge | F10: Prozentsatz gelenkter Aufträge
A11: Kaiser Partner Privatbank AG (529900DPOQPLDSF3R482) | B11: 0.70049569 | C11: 0.78879746 | D11: 0 | E11: 1 | F11: 0

Sheet RTS28_P_Aktienderivate
A1: Handelsvolumen der fünf wichtigsten Handelsplätze 2019
A3: Professionelle Kunden
A7: Kategorie des Finanzinstruments | B7: Aktienderivate
A8: Angabe, ob im Vorjahr im Durchschnitt <1 Handelsgeschäft pro Geschäftstag ausgeführt wurde | B8: Nein
A10: Die fünf Handelsplätze, die ausgehend vom Handelsvolumen am wichtigsten sind (in absteigender Reihenfolge nach Handelsvolumen) | B10: Anteil des Handeslvolumens als Prozentsatz des gesamten Volumens in dieser Kategorie | C10: Anteil der ausgeführten Aufträge als Prozentsatz aller Aufträge in dieser Kategorie | D10: Prozentsatz passiver Aufträge | E10: Prozentsatz aggressiver Aufträge | F10: Prozentsatz gelenkter Aufträge
A11: Eurex Deutschland (XEUR) | B11: 0.74959176 | C11: 0.59893993 | D11: 0 | E11: 0.74959176 | F11: 0
A12: Options Price Reporting Authority (OPRA) | B12: 0.069004279 | C12: 0.097173145 | D12: 0 | E12: 0.069004279 | F12: 0
A13: ICE Futures Europe - Equity Products Division (XLIF) | B13: 0.046847336 | C13: 0.074204947 | D13: 0 | E13: 0.046847336 | F13: 0
A14: The Montreal Exchange / Bourse de Montreal (XMOD) | B14: 0.0018822607 | C14: 0.0017667845 | D14: 0 | E14: 0.0018822607 | F14: 0
A15: Euronext Paris MONEP, Equity and Index Derivatives (XMON) | B15: 0.00074420596 | C15: 0.0017667845 | D15: 0 | E15: 0.00074420596 | F15: 0

Sheet RTS28_P_Eigenkapitalinstrumente
A1: Handelsvolumen der fünf wichtigsten Handelsplätze 2019
A3: Professionelle Kunden
A7: Kategorie des Finanzinstruments | B7: Eigenkapitalinstrumente
A8: Angabe, ob im Vorjahr im Durchschnitt <1 Handelsgeschäft pro Geschäftstag ausgeführt wurde | B8: Nein
A10: Die fünf Handelsplätze, die ausgehend vom Handelsvolumen am wichtigsten sind (in absteigender Reihenfolge nach Handelsvolumen) | B10: Anteil des Handeslvolumens als Prozentsatz des gesamten Volumens in dieser Kategorie | C10: Anteil der ausgeführten Aufträge als Prozentsatz aller Aufträge in dieser Kategorie | D10: Prozentsatz passiver Aufträge | E10: Prozentsatz aggressiver Aufträge | F10: Prozentsatz gelenkter Aufträge
A11: NASDAQ (XNAS) | B11: 0.10697856 | C11: 0.022896133 | D11: 0.0064 | E11: 0.1006 | F11: 0
A12: New York Stock Exchange, Inc (XNYS) | B12: 0.10340057 | C12: 0.041243366 | D12: 0.007 | E12: 0.0964 | F12: 0
A13: Euronext - Euronext Paris (XPAR) | B13: 0.043260667 | C13: 0.0024260804 | D13: 0.0201 | E13: 0.0232 | F13: 0
A14: SIX Swiss Exchange - Blue Chips Segment (XVTX) | B14: 0.034691373 | C14: 0.014859742 | D14: 0.003 | E14: 0.0317 | F14: 0
A15: Tokyo Stock Exchange (XTKS) | B15: 0.02448726 | C15: 0.0013646702 | D15: 0 | E15: 0.0245 | F15: 0

Sheet RTS28_P_Schuldtitel
A1: Handelsvolumen der fünf wichtigsten Handelsplätze 2019
A3: Professionelle Kunden
A7: Kategorie des Finanzinstruments | B7: Schuldtitel
A8: Angabe, ob im Vorjahr im Durchschnitt <1 Handelsgeschäft pro Geschäftstag ausgeführt wurde | B8: Nein
A10: Die fünf Handelsplätze, die ausgehend vom Handelsvolumen am wichtigsten sind (in absteigender Reihenfolge nach Handelsvolumen) | B10: Anteil des Handeslvolumens als Prozentsatz des gesamten Volumens in dieser Kategorie | C10: Anteil der ausgeführten Aufträge als Prozentsatz aller Aufträge in dieser Kategorie | D10: Prozentsatz passiver Aufträge | E10: Prozentsatz aggressiver Aufträge | F10: Prozentsatz gelenkter Aufträge
A11: TRAX (XCOR) | B11: 0.16410881 | C11: 0.055457436 | D11: 0.092 | E11: 0.0721 | F11: 0
A12: SIX Swiss Exchange (XSWX) | B12: 0.10102163 | C12: 0.032850583 | D12: 0.0229 | E12: 0.0782 | F12: 0
A13: Over the Counter (XOFF) | B13: 0.058907126 | C13: 0.011656658 | D13: 0.0557 | E13: 0.0032 | F13: 0
A14: New York Stock Exchange, Inc (XNYS) | B14: 0.0064719143 | C14: 0.021547156 | D14: 0 | E14: 0.0065 | F14: 0
A15: GovPX (BTEC) | B15: 0.0037253553 | C15: 0.00070646415 | D15: 0 | E15: 0.0037 | F15: 0

Sheet RTS28_P_Sonstige
A1: Handelsvolumen der fünf wichtigsten Handelsplätze 2019
A3: Professionelle Kunden
A7: Kategorie des Finanzinstruments | B7: Sonstige Instrumente
A8: Angabe, ob im Vorjahr im Durchschnitt <1 Handelsgeschäft pro Geschäftstag ausgeführt wurde | B8: Nein
A10: Die fünf Handelsplätze, die ausgehend vom Handelsvolumen am wichtigsten sind (in absteigender Reihenfolge nach Handelsvolumen) | B10: Anteil des Handeslvolumens als Prozentsatz des gesamten Volumens in dieser Kategorie | C10: Anteil der ausgeführten Aufträge als Prozentsatz aller Aufträge in dieser Kategorie | D10: Prozentsatz passiver Aufträge | E10: Prozentsatz aggressiver Aufträge | F10: Prozentsatz gelenkter Aufträge
A11: NYSE Arca, Listed Bonds (ARCX) | B11: 0.09334263 | C11: 0.0090166244 | D11: 0.0398 | E11: 0.0535 | F11: 0
A12: NYSE-CTA Cboe BZX U.S. Equities Exchange (BATS) | B12: 0.080799181 | C12: 0.0061989293 | D12: 0.0398 | E12: 0.041 | F12: 0
A13: Eurex Deutschland (XEUR) | B13: 0.067628538 | C13: 0.036630037 | D13: 0.0006 | E13: 0.067 | F13: 0
A14: LSE London Stock Exchange, Exchange Traded Funds, Multicurrency (XLON) | B14: 0.066106068 | C14: 0.012961398 | D14: 0 | E14: 0.0661 | F14: 0
A15: NYSE Arca (ARCX) | B15: 0.061440424 | C15: 0.0092983939 | D15: 0.0404 | E15: 0.0211 | F15: 0

Sheet RTS28_P_VerbriefteDerivate
A1: Handelsvolumen der fünf wichtigsten Handelsplätze 2019
A3: Professionelle Kunden
A7: Kategorie des Finanzinstruments | B7: Verbriefte Derivate
A8: Angabe, ob im Vorjahr im Durchschnitt <1 Handelsgeschäft pro Geschäftstag ausgeführt wurde | B8: Ja
A10: Die fünf Handelsplätze, die ausgehend vom Handelsvolumen am wichtigsten sind (in absteigender Reihenfolge nach Handelsvolumen) | B10: Anteil des Handeslvolumens als Prozentsatz des gesamten Volumens in dieser Kategorie | C10: Anteil der ausgeführten Aufträge als Prozentsatz aller Aufträge in dieser Kategorie | D10: Prozentsatz passiver Aufträge | E10: Prozentsatz aggressiver Aufträge | F10: Prozentsatz gelenkter Aufträge
A11: SIX Swiss Exchange, Structured Products (XQMH) | B11: 0.053566704 | C11: 0.24193548 | D11: 0.0073 | E11: 0.0463 | F11: 0
A12: Boerse Frankfurt Zertifikate AG (XSCO) | B12: 0.0015652981 | C12: 0.032258065 | D12: 0 | E12: 0.0016 | F12: 0

Sheet RTS28_P_StrukturierteProduke
A1: Handelsvolumen der fünf wichtigsten Handelsplätze 2019
A3: Professionelle Kunden
A7: Kategorie des Finanzinstruments | B7: Strukturierte Finanzprodukte
A8: Angabe, ob im Vorjahr im Durchschnitt <1 Handelsgeschäft pro Geschäftstag ausgeführt wurde | B8: Ja
A10: Die fünf Handelsplätze, die ausgehend vom Handelsvolumen am wichtigsten sind (in absteigender Reihenfolge nach Handelsvolumen) | B10: Anteil des Handeslvolumens als Prozentsatz des gesamten Volumens in dieser Kategorie | C10: Anteil der ausgeführten Aufträge als Prozentsatz aller Aufträge in dieser Kategorie | D10: Prozentsatz passiver Aufträge | E10: Prozentsatz aggressiver Aufträge | F10: Prozentsatz gelenkter Aufträge
A11: Over the Counter (XOFF) | B11: 0.024392604 | C11: 0.025449102 | D11: 0.0033 | E11: 0.0211 | F11: 0
A12: NYSE Arca, Listed Bonds (ARCX) | B12: 0.01409656 | C12: 0.0089820359 | D12: 0 | E12: 0.01409656 | F12: 0
A13: SIX Swiss Exchange, Structured Products (XQMH) | B13: 0.0047693666 | C13: 0.025449102 | D13: 0 | E13: 0.0047693666 | F13: 0
A14: Irish Stock Exchange - All Market (XDUB) | B14: 0.0016484649 | C14: 0.001497006 | D14: 0 | E14: 0.0016484649 | F14: 0
A15: NYSE Arca (ARCX) | B15: 0.00049281095 | C15: 0.004491018 | D15: 0 | E15: 0.00049281095 | F15: 0

Sheet RTS28_P_Zinsderivate
A1: Handelsvolumen der fünf wichtigsten Handelsplätze 2019
A3: Professionelle Kunden
A7: Kategorie des Finanzinstruments | B7: Zinsderivate
A8: Angabe, ob im Vorjahr im Durchschnitt <1 Handelsgeschäft pro Geschäftstag ausgeführt wurde | B8: Ja
A10: Die fünf Handelsplätze, die ausgehend vom Handelsvolumen am wichtigsten sind (in absteigender Reihenfolge nach Handelsvolumen) | B10: Anteil des Handeslvolumens als Prozentsatz des gesamten Volumens in dieser Kategorie | C10: Anteil der ausgeführten Aufträge als Prozentsatz aller Aufträge in dieser Kategorie | D10: Prozentsatz passiver Aufträge | E10: Prozentsatz aggressiver Aufträge | F10: Prozentsatz gelenkter Aufträge
A11: Eurex Deutschland (XEUR) | B11: 1 | C11: 1 | D11: 0 | E11: 1 | F11: 0

Sheet RTS28_P_Währungsderivate
A1: Handelsvolumen der fünf wichtigsten Handelsplätze 2019
A3: Professionelle Kunden
A7: Kategorie des Finanzinstruments | B7: Währungsderivate
A8: Angabe, ob im Vorjahr im Durchschnitt <1 Handelsgeschäft pro Geschäftstag ausgeführt wurde | B8: Nein
A10: Die fünf Handelsplätze, die ausgehend vom Handelsvolumen am wichtigsten sind (in absteigender Reihenfolge nach Handelsvolumen) | B10: Anteil des Handeslvolumens als Prozentsatz des gesamten Volumens in dieser Kategorie | C10: Anteil der ausgeführten Aufträge als Prozentsatz aller Aufträge in dieser Kategorie | D10: Prozentsatz passiver Aufträge | E10: Prozentsatz aggressiver Aufträge | F10: Prozentsatz gelenkter Aufträge
A11: Kaiser Partner Privatbank AG (529900DPOQPLDSF3R482) | B11: 0.29950431 | C11: 0.21120254 | D11: 0 | E11: 1 | F11: 0

Sheet RTS28_T_Aktienderivate
A1: Handelsvolumen der fünf wichtigsten Handelsplätze 2019
A7: Kategorie des Finanzinstruments | B7: Aktienderivate
A8: Angabe, ob im Vorjahr im Durchschnitt <1 Handelsgeschäft pro Geschäftstag ausgeführt wurde | B8: Nein
A10: Die fünf Handelsplätze, die ausgehend vom Handelsvolumen am wichtigsten sind (in absteigender Reihenfolge nach Handelsvolumen) | B10: Anteil des Handeslvolumens als Prozentsatz des gesamten Volumens in dieser Kategorie | C10: Anteil der ausgeführten Aufträge als Prozentsatz aller Aufträge in dieser Kategorie
A11: Eurex Deutschland (XEUR) | B11: 0.81131153 | C11: 0.74028269
A12: Options Price Reporting Authority (OPRA) | B12: 0.13855601 | C12: 0.17491166
A13: ICE Futures Europe - Equity Products Division (XLIF) | B13: 0.047332693 | C13: 0.0795053
A14: The Montreal Exchange / Bourse de Montreal (XMOD) | B14: 0.0018822607 | C14: 0.0017667845
A15: Euronext Paris MONEP, Equity and Index Derivatives (XMON) | B15: 0.00074420596 | C15: 0.0017667845

Sheet RTS28_T_Eigenkapitalinstrumente
A1: Handelsvolumen der fünf wichtigsten Handelsplätze 2019
A7: Kategorie des Finanzinstruments | B7: Eigenkapitalinstrumente
A8: Angabe, ob im Vorjahr im Durchschnitt <1 Handelsgeschäft pro Geschäftstag ausgeführt wurde | B8: Nein
A10: Die fünf Handelsplätze, die ausgehend vom Handelsvolumen am wichtigsten sind (in absteigender Reihenfolge nach Handelsvolumen) | B10: Anteil des Handeslvolumens als Prozentsatz des gesamten Volumens in dieser Kategorie | C10: Anteil der ausgeführten Aufträge als Prozentsatz aller Aufträge in dieser Kategorie
A11: New York Stock Exchange, Inc (XNYS) | B11: 0.27062679 | C11: 0.35314632
A12: NASDAQ (XNAS) | B12: 0.17272016 | C12: 0.11675512
A13: SIX Swiss Exchange - Blue Chips Segment (XVTX) | B13: 0.10798785 | C13: 0.10978014
A14: SIX Swiss Exchange (XSWX) | B14: 0.077100132 | C14: 0.095981804
A15: Euronext - Euronext Paris (XPAR) | B15: 0.067823887 | C15: 0.048521607

Sheet RTS28_T_Rohstoffderivate
A1: Handelsvolumen der fünf wichtigsten Handelsplätze 2019
A7: Kategorie des Finanzinstruments | B7: Rohstoffderivate
A8: Angabe, ob im Vorjahr im Durchschnitt <1 Handelsgeschäft pro Geschäftstag ausgeführt wurde | B8: Ja
A10: Die fünf Handelsplätze, die ausgehend vom Handelsvolumen am wichtigsten sind (in absteigender Reihenfolge nach Handelsvolumen) | B10: Anteil des Handeslvolumens als Prozentsatz des gesamten Volumens in dieser Kategorie | C10: Anteil der ausgeführten Aufträge als Prozentsatz aller Aufträge in dieser Kategorie
A11: Commodities Exchange Center (XCEC) | B11: 1 | C11: 1

Sheet RTS28_T_Schuldtitel
A1: Handelsvolumen der fünf wichtigsten Handelsplätze 2019
A7: Kategorie des Finanzinstruments | B7: Schuldtitel
A8: Angabe, ob im Vorjahr im Durchschnitt <1 Handelsgeschäft pro Geschäftstag ausgeführt wurde | B8: Nein
A10: Die fünf Handelsplätze, die ausgehend vom Handelsvolumen am wichtigsten sind (in absteigender Reihenfolge nach Handelsvolumen) | B10: Anteil des Handeslvolumens als Prozentsatz des gesamten Volumens in dieser Kategorie | C10: Anteil der ausgeführten Aufträge als Prozentsatz aller Aufträge in dieser Kategorie
A11: TRAX (XCOR) | B11: 0.54507338 | C11: 0.5803603
A12: GovPX (BTEC) | B12: 0.15096247 | C12: 0.0374426
A13: SIX Swiss Exchange (XSWX) | B13: 0.12664933 | C13: 0.062522077
A14: Over the Counter (XOFF) | B14: 0.086538599 | C14: 0.042034617
A15: New York Stock Exchange, Inc (XNYS) | B15: 0.07254425 | C15: 0.25362063

Sheet RTS28_T_Sonstige
A1: Handelsvolumen der fünf wichtigsten Handelsplätze 2019
A7: Kategorie des Finanzinstruments | B7: Sonstige Instrumente
A8: Angabe, ob im Vorjahr im Durchschnitt <1 Handelsgeschäft pro Geschäftstag ausgeführt wurde | B8: Nein
A10: Die fünf Handelsplätze, die ausgehend vom Handelsvolumen am wichtigsten sind (in absteigender Reihenfolge nach Handelsvolumen) | B10: Anteil des Handeslvolumens als Prozentsatz des gesamten Volumens in dieser Kategorie | C10: Anteil der ausgeführten Aufträge als Prozentsatz aller Aufträge in dieser Kategorie
A11: NYSE Arca (ARCX) | B11: 0.16622541 | C11: 0.18822203
A12: NYSE Arca, Listed Bonds (ARCX) | B12: 0.12940619 | C12: 0.036911806
A13: NYSE-CTA Cboe BZX U.S. Equities Exchange (BATS) | B13: 0.12446072 | C13: 0.038038884
A14: LSE London Stock Exchange, SETS (XLON) | B14: 0.085148981 | C14: 0.087348549
A15: LSE London Stock Exchange, Exchange Traded Funds, Multicurrency (XLON) | B15: 0.0805686 | C15: 0.042547196

Sheet RTS28_T_VerbriefteDerivate
A1: Handelsvolumen der fünf wichtigsten Handelsplätze 2019
A7: Kategorie des Finanzinstruments | B7: Verbriefte Derivate
A8: Angabe, ob im Vorjahr im Durchschnitt <1 Handelsgeschäft pro Geschäftstag ausgeführt wurde | B8: Ja
A10: Die fünf Handelsplätze, die ausgehend vom Handelsvolumen am wichtigsten sind (in absteigender Reihenfolge nach Handelsvolumen) | B10: Anteil des Handeslvolumens als Prozentsatz des gesamten Volumens in dieser Kategorie | C10: Anteil der ausgeführten Aufträge als Prozentsatz aller Aufträge in dieser Kategorie
A11: Over the Counter (XOFF) | B11: 0.87584452 | C11: 0.19354839
A12: SIX Swiss Exchange, Structured Products (XQMH) | B12: 0.07184022 | C12: 0.27419355
A13: Options Price Reporting Authority (OPRA) | B13: 0.050749963 | C13: 0.5
A14: Boerse Frankfurt Zertifikate AG (XSCO) | B14: 0.0015652981 | C14: 0.032258065

Sheet RTS28_T_StrukturierteProdukte
A1: Handelsvolumen der fünf wichtigsten Handelsplätze 2019
A7: Kategorie des Finanzinstruments | B7: Strukturierte Finanzprodukte
A8: Angabe, ob im Vorjahr im Durchschnitt <1 Handelsgeschäft pro Geschäftstag ausgeführt wurde | B8: Nein
A10: Die fünf Handelsplätze, die ausgehend vom Handelsvolumen am wichtigsten sind (in absteigender Reihenfolge nach Handelsvolumen) | B10: Anteil des Handeslvolumens als Prozentsatz des gesamten Volumens in dieser Kategorie | C10: Anteil der ausgeführten Aufträge als Prozentsatz aller Aufträge in dieser Kategorie
A11: Over the Counter (XOFF) | B11: 0.4920019 | C11: 0.29191617
A12: TRAX (XCOR) | B12: 0.2537145 | C12: 0.086826347
A13: SIX Swiss Exchange, Structured Products (XQMH) | B13: 0.12150249 | C13: 0.37874251
A14: SIX Swiss Exchange (XSWX) | B14: 0.047017385 | C14: 0.013473054
A15: Irish Stock Exchange - All Market (XDUB) | B15: 0.024748603 | C15: 0.011976048

Sheet RTS28_T_Zinsderivate
A1: Handelsvolumen der fünf wichtigsten Handelsplätze 2019
A7: Kategorie des Finanzinstruments | B7: Zinsderivate
A8: Angabe, ob im Vorjahr im Durchschnitt <1 Handelsgeschäft pro Geschäftstag ausgeführt wurde | B8: Ja
A10: Die fünf Handelsplätze, die ausgehend vom Handelsvolumen am wichtigsten sind (in absteigender Reihenfolge nach Handelsvolumen) | B10: Anteil des Handeslvolumens als Prozentsatz des gesamten Volumens in dieser Kategorie | C10: Anteil der ausgeführten Aufträge als Prozentsatz aller Aufträge in dieser Kategorie
A11: Eurex Deutschland (XEUR) | B11: 1 | C11: 1

Sheet RTS28_T_Währungsderivate
A1: Handelsvolumen der fünf wichtigsten Handelsplätze 2019
A7: Kategorie des Finanzinstruments | B7: Währungsderivate
A8: Angabe, ob im Vorjahr im Durchschnitt <1 Handelsgeschäft pro Geschäftstag ausgeführt wurde | B8: Nein
A10: Die fünf Handelsplätze, die ausgehend vom Handelsvolumen am wichtigsten sind (in absteigender Reihenfolge nach Handelsvolumen) | B10: Anteil des Handeslvolumens als Prozentsatz des gesamten Volumens in dieser Kategorie | C10: Anteil der ausgeführten Aufträge als Prozentsatz aller Aufträge in dieser Kategorie
A11: Kaiser Partner Privatbank AG (529900DPOQPLDSF3R482) | B11: 1 | C11: 1

Sheet RTS28_R_Equity_Derivates
A1: Trading volumes of top five execution venues 2019
A3: Retail clients
A7: Class of Instrument | B7: Equity derivates
A8: Notification if <1 average trade per business day in the previous year | B8: =IF(RTS28_R_Aktienderivate!B8="Ja","Yes","No") -> Yes
A10: Top five execution venues ranked in terms of trading volumes (descending order) | B10: Proportion of volume traded as a percentage of total in that class | C10: Proportion of orders executed as percentage of total in that class | D10: Percentage of passive orders | E10: Percentage of aggressive orders | F10: Percentage of directed orders
A11: =IF(ISBLANK(RTS28_R_Aktienderivate!A11),"",RTS28_R_Aktienderivate!A11) -> Options Price Reporting Authority (OPRA) | B11: =IF(ISBLANK(RTS28_R_Aktienderivate!B11),"",RTS28_R_Aktienderivate!B11) -> 0.069551735 | C11: =IF(ISBLANK(RTS28_R_Aktienderivate!C11),"",RTS28_R_Aktienderivate!C11) -> 0.077738516 | D11: =IF(ISBLANK(RTS28_R_Aktienderivate!D11),"",RTS28_R_Aktienderivate!D11) -> 0 | E11: =IF(ISBLANK(RTS28_R_Aktienderivate!E11),"",RTS28_R_Aktienderivate!E11) -> 0.069551735 | F11: =IF(ISBLANK(RTS28_R_Aktienderivate!F11),"",RTS28_R_Aktienderivate!F11) -> 0
A12: =IF(ISBLANK(RTS28_R_Aktienderivate!A12),"",RTS28_R_Aktienderivate!A12) -> Eurex Deutschland (XEUR) | B12: =IF(ISBLANK(RTS28_R_Aktienderivate!B12),"",RTS28_R_Aktienderivate!B12) -> 0.061719768 | C12: =IF(ISBLANK(RTS28_R_Aktienderivate!C12),"",RTS28_R_Aktienderivate!C12) -> 0.14134276 | D12: =IF(ISBLANK(RTS28_R_Aktienderivate!D12),"",RTS28_R_Aktienderivate!D12) -> 0 | E12: =IF(ISBLANK(RTS28_R_Aktienderivate!E12),"",RTS28_R_Aktienderivate!E12) -> 0.061719768 | F12: =IF(ISBLANK(RTS28_R_Aktienderivate!F12),"",RTS28_R_Aktienderivate!F12) -> 0
A13: =IF(ISBLANK(RTS28_R_Aktienderivate!A13),"",RTS28_R_Aktienderivate!A13) -> ICE Futures Europe - Equity Products Division (XLIF) | B13: =IF(ISBLANK(RTS28_R_Aktienderivate!B13),"",RTS28_R_Aktienderivate!B13) -> 0.0004853576 | C13: =IF(ISBLANK(RTS28_R_Aktienderivate!C13),"",RTS28_R_Aktienderivate!C13) -> 0.0053003534 | D13: =IF(ISBLANK(RTS28_R_Aktienderivate!D13),"",RTS28_R_Aktienderivate!D13) -> 0 | E13: =IF(ISBLANK(RTS28_R_Aktienderivate!E13),"",RTS28_R_Aktienderivate!E13) -> 0.0004853576 | F13: =IF(ISBLANK(RTS28_R_Aktienderivate!F13),"",RTS28_R_Aktienderivate!F13) -> 0
A14: =IF(ISBLANK(RTS28_R_Aktienderivate!A14),"",RTS28_R_Aktienderivate!A14) | B14: =IF(ISBLANK(RTS28_R_Aktienderivate!B14),"",RTS28_R_Aktienderivate!B14) | C14: =IF(ISBLANK(RTS28_R_Aktienderivate!C14),"",RTS28_R_Aktienderivate!C14) | D14: =IF(ISBLANK(RTS28_R_Aktienderivate!D14),"",RTS28_R_Aktienderivate!D14) | E14: =IF(ISBLANK(RTS28_R_Aktienderivate!E14),"",RTS28_R_Aktienderivate!E14) | F14: =IF(ISBLANK(RTS28_R_Aktienderivate!F14),"",RTS28_R_Aktienderivate!F14)
A15: =IF(ISBLANK(RTS28_R_Aktienderivate!A15),"",RTS28_R_Aktienderivate!A15) | B15: =IF(ISBLANK(RTS28_R_Aktienderivate!B15),"",RTS28_R_Aktienderivate!B15) | C15: =IF(ISBLANK(RTS28_R_Aktienderivate!C15),"",RTS28_R_Aktienderivate!C15) | D15: =IF(ISBLANK(RTS28_R_Aktienderivate!D15),"",RTS28_R_Aktienderivate!D15) | E15: =IF(ISBLANK(RTS28_R_Aktienderivate!E15),"",RTS28_R_Aktienderivate!E15) | F15: =IF(ISBLANK(RTS28_R_Aktienderivate!F15),"",RTS28_R_Aktienderivate!F15)

Sheet RTS28_R_Equities_Shares
A1: Trading volumes of top five execution venues 2019
A3: Retail clients
A7: Class of Instrument | B7: Equities - Shares & Depository receipts
A8: Notification if <1 average trade per business day in the previous year | B8: =IF(RTS28_R_Eigenkapitalinstrumente!B8="Ja","Yes","No") -> No
A10: Top five execution venues ranked in terms of trading volumes (descending order) | B10: Proportion of volume traded as a percentage of total in that class | C10: Proportion of orders executed as percentage of total in that class | D10: Percentage of passive orders | E10: Percentage of aggressive orders | F10: Percentage of directed orders
A11: =IF(ISBLANK(RTS28_R_Eigenkapitalinstrumente!A11),"",RTS28_R_Eigenkapitalinstrumente!A11) -> New York Stock Exchange, Inc (XNYS) | B11: =IF(ISBLANK(RTS28_R_Eigenkapitalinstrumente!B11),"",RTS28_R_Eigenkapitalinstrumente!B11) -> 0.16722622 | C11: =IF(ISBLANK(RTS28_R_Eigenkapitalinstrumente!C11),"",RTS28_R_Eigenkapitalinstrumente!C11) -> 0.31190296 | D11: =IF(ISBLANK(RTS28_R_Eigenkapitalinstrumente!D11),"",RTS28_R_Eigenkapitalinstrumente!D11) -> 0.0117 | E11: =IF(ISBLANK(RTS28_R_Eigenkapitalinstrumente!E11),"",RTS28_R_Eigenkapitalinstrumente!E11) -> 0.1555 | F11: =IF(ISBLANK(RTS28_R_Eigenkapitalinstrumente!F11),"",RTS28_R_Eigenkapitalinstrumente!F11) -> 0
A12: =IF(ISBLANK(RTS28_R_Eigenkapitalinstrumente!A12),"",RTS28_R_Eigenkapitalinstrumente!A12) -> SIX Swiss Exchange - Blue Chips Segment (XVTX) | B12: =IF(ISBLANK(RTS28_R_Eigenkapitalinstrumente!B12),"",RTS28_R_Eigenkapitalinstrumente!B12) -> 0.073296477 | C12: =IF(ISBLANK(RTS28_R_Eigenkapitalinstrumente!C12),"",RTS28_R_Eigenkapitalinstrumente!C12) -> 0.094920394 | D12: =IF(ISBLANK(RTS28_R_Eigenkapitalinstrumente!D12),"",RTS28_R_Eigenkapitalinstrumente!D12) -> 0.002 | E12: =IF(ISBLANK(RTS28_R_Eigenkapitalinstrumente!E12),"",RTS28_R_Eigenkapitalinstrumente!E12) -> 0.0713 | F12: =IF(ISBLANK(RTS28_R_Eigenkapitalinstrumente!F12),"",RTS28_R_Eigenkapitalinstrumente!F12) -> 0
A13: =IF(ISBLANK(RTS28_R_Eigenkapitalinstrumente!A13),"",RTS28_R_Eigenkapitalinstrumente!A13) -> NASDAQ (XNAS) | B13: =IF(ISBLANK(RTS28_R_Eigenkapitalinstrumente!B13),"",RTS28_R_Eigenkapitalinstrumente!B13) -> 0.065741606 | C13: =IF(ISBLANK(RTS28_R_Eigenkapitalinstrumente!C13),"",RTS28_R_Eigenkapitalinstrumente!C13) -> 0.093858984 | D13: =IF(ISBLANK(RTS28_R_Eigenkapitalinstrumente!D13),"",RTS28_R_Eigenkapitalinstrumente!D13) -> 0.0056 | E13: =IF(ISBLANK(RTS28_R_Eigenkapitalinstrumente!E13),"",RTS28_R_Eigenkapitalinstrumente!E13) -> 0.0602 | F13: =IF(ISBLANK(RTS28_R_Eigenkapitalinstrumente!F13),"",RTS28_R_Eigenkapitalinstrumente!F13) -> 0
A14: =IF(ISBLANK(RTS28_R_Eigenkapitalinstrumente!A14),"",RTS28_R_Eigenkapitalinstrumente!A14) -> SIX Swiss Exchange (XSWX) | B14: =IF(ISBLANK(RTS28_R_Eigenkapitalinstrumente!B14),"",RTS28_R_Eigenkapitalinstrumente!B14) -> 0.061359804 | C14: =IF(ISBLANK(RTS28_R_Eigenkapitalinstrumente!C14),"",RTS28_R_Eigenkapitalinstrumente!C14) -> 0.082183472 | D14: =IF(ISBLANK(RTS28_R_Eigenkapitalinstrumente!D14),"",RTS28_R_Eigenkapitalinstrumente!D14) -> 0.0069 | E14: =IF(ISBLANK(RTS28_R_Eigenkapitalinstrumente!E14),"",RTS28_R_Eigenkapitalinstrumente!E14) -> 0.0544 | F14: =IF(ISBLANK(RTS28_R_Eigenkapitalinstrumente!F14),"",RTS28_R_Eigenkapitalinstrumente!F14) -> 0
A15: =IF(ISBLANK(RTS28_R_Eigenkapitalinstrumente!A15),"",RTS28_R_Eigenkapitalinstrumente!A15) -> Euronext - Euronext Paris (XPAR) | B15: =IF(ISBLANK(RTS28_R_Eigenkapitalinstrumente!B15),"",RTS28_R_Eigenkapitalinstrumente!B15) -> 0.02456322 | C15: =IF(ISBLANK(RTS28_R_Eigenkapitalinstrumente!C15),"",RTS28_R_Eigenkapitalinstrumente!C15) -> 0.046095527 | D15: =IF(ISBLANK(RTS28_R_Eigenkapitalinstrumente!D15),"",RTS28_R_Eigenkapitalinstrumente!D15) -> 0.0011 | E15: =IF(ISBLANK(RTS28_R_Eigenkapitalinstrumente!E15),"",RTS28_R_Eigenkapitalinstrumente!E15) -> 0.0235 | F15: =IF(ISBLANK(RTS28_R_Eigenkapitalinstrumente!F15),"",RTS28_R_Eigenkapitalinstrumente!F15) -> 0

Sheet RTS28_R_Commodities_derivate
A1: Trading volumes of top five execution venues 2019
A3: Retail clients
A7: Class of Instrument | B7: Commodities derivate
A8: Notification if <1 average trade per business day in the previous year | B8: =IF(RTS28_R_Rohstoffderivate!B8="Ja","Yes","No") -> Yes
A10: Top five execution venues ranked in terms of trading volumes (descending order) | B10: Proportion of volume traded as a percentage of total in that class | C10: Proportion of orders executed as percentage of total in that class | D10: Percentage of passive orders | E10: Percentage of aggressive orders | F10: Percentage of directed orders
A11: =IF(ISBLANK(RTS28_R_Rohstoffderivate!A11),"",RTS28_R_Rohstoffderivate!A11) -> Commodities Exchange Center (XCEC) | B11: =IF(ISBLANK(RTS28_R_Rohstoffderivate!B11),"",RTS28_R_Rohstoffderivate!B11) -> 1 | C11: =IF(ISBLANK(RTS28_R_Rohstoffderivate!C11),"",RTS28_R_Rohstoffderivate!C11) -> 1 | D11: =IF(ISBLANK(RTS28_R_Rohstoffderivate!D11),"",RTS28_R_Rohstoffderivate!D11) -> 0.0426 | E11: =IF(ISBLANK(RTS28_R_Rohstoffderivate!E11),"",RTS28_R_Rohstoffderivate!E11) -> 0.9574 | F11: =IF(ISBLANK(RTS28_R_Rohstoffderivate!F11),"",RTS28_R_Rohstoffderivate!F11) -> 0
A12: =IF(ISBLANK(RTS28_R_Rohstoffderivate!A12),"",RTS28_R_Rohstoffderivate!A12) | B12: =IF(ISBLANK(RTS28_R_Rohstoffderivate!B12),"",RTS28_R_Rohstoffderivate!B12) | C12: =IF(ISBLANK(RTS28_R_Rohstoffderivate!C12),"",RTS28_R_Rohstoffderivate!C12) | D12: =IF(ISBLANK(RTS28_R_Rohstoffderivate!D12),"",RTS28_R_Rohstoffderivate!D12) | E12: =IF(ISBLANK(RTS28_R_Rohstoffderivate!E12),"",RTS28_R_Rohstoffderivate!E12) | F12: =IF(ISBLANK(RTS28_R_Rohstoffderivate!F12),"",RTS28_R_Rohstoffderivate!F12)
A13: =IF(ISBLANK(RTS28_R_Rohstoffderivate!A13),"",RTS28_R_Rohstoffderivate!A13) | B13: =IF(ISBLANK(RTS28_R_Rohstoffderivate!B13),"",RTS28_R_Rohstoffderivate!B13) | C13: =IF(ISBLANK(RTS28_R_Rohstoffderivate!C13),"",RTS28_R_Rohstoffderivate!C13) | D13: =IF(ISBLANK(RTS28_R_Rohstoffderivate!D13),"",RTS28_R_Rohstoffderivate!D13) | E13: =IF(ISBLANK(RTS28_R_Rohstoffderivate!E13),"",RTS28_R_Rohstoffderivate!E13) | F13: =IF(ISBLANK(RTS28_R_Rohstoffderivate!F13),"",RTS28_R_Rohstoffderivate!F13)
A14: =IF(ISBLANK(RTS28_R_Rohstoffderivate!A14),"",RTS28_R_Rohstoffderivate!A14) | B14: =IF(ISBLANK(RTS28_R_Rohstoffderivate!B14),"",RTS28_R_Rohstoffderivate!B14) | C14: =IF(ISBLANK(RTS28_R_Rohstoffderivate!C14),"",RTS28_R_Rohstoffderivate!C14) | D14: =IF(ISBLANK(RTS28_R_Rohstoffderivate!D14),"",RTS28_R_Rohstoffderivate!D14) | E14: =IF(ISBLANK(RTS28_R_Rohstoffderivate!E14),"",RTS28_R_Rohstoffderivate!E14) | F14: =IF(ISBLANK(RTS28_R_Rohstoffderivate!F14),"",RTS28_R_Rohstoffderivate!F14)
A15: =IF(ISBLANK(RTS28_R_Rohstoffderivate!A15),"",RTS28_R_Rohstoffderivate!A15) | B15: =IF(ISBLANK(RTS28_R_Rohstoffderivate!B15),"",RTS28_R_Rohstoffderivate!B15) | C15: =IF(ISBLANK(RTS28_R_Rohstoffderivate!C15),"",RTS28_R_Rohstoffderivate!C15) | D15: =IF(ISBLANK(RTS28_R_Rohstoffderivate!D15),"",RTS28_R_Rohstoffderivate!D15) | E15: =IF(ISBLANK(RTS28_R_Rohstoffderivate!E15),"",RTS28_R_Rohstoffderivate!E15) | F15: =IF(ISBLANK(RTS28_R_Rohstoffderivate!F15),"",RTS28_R_Rohstoffderivate!F15)

Sheet RTS28_R_Debt_instruments
A1: Trading volumes of top five execution venues 2019
A3: Retail clients
A7: Class of Instrument | B7: Debt instruments
A8: Notification if <1 average trade per business day in the previous year | B8: =IF(RTS28_R_Schuldtitel!B8="Ja","Yes","No") -> No
A10: Top five execution venues ranked in terms of trading volumes (descending order) | B10: Proportion of volume traded as a percentage of total in that class | C10: Proportion of orders executed as percentage of total in that class | D10: Percentage of passive orders | E10: Percentage of aggressive orders | F10: Percentage of directed orders
A11: =IF(ISBLANK(RTS28_R_Schuldtitel!A11),"",RTS28_R_Schuldtitel!A11) -> TRAX (XCOR) | B11: =IF(ISBLANK(RTS28_R_Schuldtitel!B11),"",RTS28_R_Schuldtitel!B11) -> 0.38096457 | C11: =IF(ISBLANK(RTS28_R_Schuldtitel!C11),"",RTS28_R_Schuldtitel!C11) -> 0.52490286 | D11: =IF(ISBLANK(RTS28_R_Schuldtitel!D11),"",RTS28_R_Schuldtitel!D11) -> 0.1076 | E11: =IF(ISBLANK(RTS28_R_Schuldtitel!E11),"",RTS28_R_Schuldtitel!E11) -> 0.2734 | F11: =IF(ISBLANK(RTS28_R_Schuldtitel!F11),"",RTS28_R_Schuldtitel!F11) -> 0
A12: =IF(ISBLANK(RTS28_R_Schuldtitel!A12),"",RTS28_R_Schuldtitel!A12) -> GovPX (BTEC) | B12: =IF(ISBLANK(RTS28_R_Schuldtitel!B12),"",RTS28_R_Schuldtitel!B12) -> 0.14723711 | C12: =IF(ISBLANK(RTS28_R_Schuldtitel!C12),"",RTS28_R_Schuldtitel!C12) -> 0.036736136 | D12: =IF(ISBLANK(RTS28_R_Schuldtitel!D12),"",RTS28_R_Schuldtitel!D12) -> 0 | E12: =IF(ISBLANK(RTS28_R_Schuldtitel!E12),"",RTS28_R_Schuldtitel!E12) -> 0.1472 | F12: =IF(ISBLANK(RTS28_R_Schuldtitel!F12),"",RTS28_R_Schuldtitel!F12) -> 0
A13: =IF(ISBLANK(RTS28_R_Schuldtitel!A13),"",RTS28_R_Schuldtitel!A13) -> New York Stock Exchange, Inc (XNYS) | B13: =IF(ISBLANK(RTS28_R_Schuldtitel!B13),"",RTS28_R_Schuldtitel!B13) -> 0.066072336 | C13: =IF(ISBLANK(RTS28_R_Schuldtitel!C13),"",RTS28_R_Schuldtitel!C13) -> 0.23207347 | D13: =IF(ISBLANK(RTS28_R_Schuldtitel!D13),"",RTS28_R_Schuldtitel!D13) -> 0.0004 | E13: =IF(ISBLANK(RTS28_R_Schuldtitel!E13),"",RTS28_R_Schuldtitel!E13) -> 0.0657 | F13: =IF(ISBLANK(RTS28_R_Schuldtitel!F13),"",RTS28_R_Schuldtitel!F13) -> 0
A14: =IF(ISBLANK(RTS28_R_Schuldtitel!A14),"",RTS28_R_Schuldtitel!A14) -> Over the Counter (XOFF) | B14: =IF(ISBLANK(RTS28_R_Schuldtitel!B14),"",RTS28_R_Schuldtitel!B14) -> 0.027631472 | C14: =IF(ISBLANK(RTS28_R_Schuldtitel!C14),"",RTS28_R_Schuldtitel!C14) -> 0.030377958 | D14: =IF(ISBLANK(RTS28_R_Schuldtitel!D14),"",RTS28_R_Schuldtitel!D14) -> 0.0116 | E14: =IF(ISBLANK(RTS28_R_Schuldtitel!E14),"",RTS28_R_Schuldtitel!E14) -> 0.016 | F14: =IF(ISBLANK(RTS28_R_Schuldtitel!F14),"",RTS28_R_Schuldtitel!F14) -> 0
A15: =IF(ISBLANK(RTS28_R_Schuldtitel!A15),"",RTS28_R_Schuldtitel!A15) -> SIX Swiss Exchange (XSWX) | B15: =IF(ISBLANK(RTS28_R_Schuldtitel!B15),"",RTS28_R_Schuldtitel!B15) -> 0.0256277 | C15: =IF(ISBLANK(RTS28_R_Schuldtitel!C15),"",RTS28_R_Schuldtitel!C15) -> 0.029671494 | D15: =IF(ISBLANK(RTS28_R_Schuldtitel!D15),"",RTS28_R_Schuldtitel!D15) -> 0.001 | E15: =IF(ISBLANK(RTS28_R_Schuldtitel!E15),"",RTS28_R_Schuldtitel!E15) -> 0.0246 | F15: =IF(ISBLANK(RTS28_R_Schuldtitel!F15),"",RTS28_R_Schuldtitel!F15) -> 0

Sheet RTS28_R_Other
A1: Trading volumes of top five execution venues 2019
A3: Retail clients
A7: Class of Instrument | B7: Other instruments
A8: Notification if <1 average trade per business day in the previous year | B8: =IF(RTS28_R_Sonstige!B8="Ja","Yes","No") -> No
A10: Top five execution venues ranked in terms of trading volumes (descending order) | B10: Proportion of volume traded as a percentage of total in that class | C10: Proportion of orders executed as percentage of total in that class | D10: Percentage of passive orders | E10: Percentage of aggressive orders | F10: Percentage of directed orders
A11: =IF(ISBLANK(RTS28_R_Sonstige!A11),"",RTS28_R_Sonstige!A11) -> NYSE Arca (ARCX) | B11: =IF(ISBLANK(RTS28_R_Sonstige!B11),"",RTS28_R_Sonstige!B11) -> 0.10478499 | C11: =IF(ISBLANK(RTS28_R_Sonstige!C11),"",RTS28_R_Sonstige!C11) -> 0.17892364 | D11: =IF(ISBLANK(RTS28_R_Sonstige!D11),"",RTS28_R_Sonstige!D11) -> 0.0102 | E11: =IF(ISBLANK(RTS28_R_Sonstige!E11),"",RTS28_R_Sonstige!E11) -> 0.0946 | F11: =IF(ISBLANK(RTS28_R_Sonstige!F11),"",RTS28_R_Sonstige!F11) -> 0
A12: =IF(ISBLANK(RTS28_R_Sonstige!A12),"",RTS28_R_Sonstige!A12) -> LSE London Stock Exchange, SETS (XLON) | B12: =IF(ISBLANK(RTS28_R_Sonstige!B12),"",RTS28_R_Sonstige!B12) -> 0.048936682 | C12: =IF(ISBLANK(RTS28_R_Sonstige!C12),"",RTS28_R_Sonstige!C12) -> 0.077204846 | D12: =IF(ISBLANK(RTS28_R_Sonstige!D12),"",RTS28_R_Sonstige!D12) -> 0.0001 | E12: =IF(ISBLANK(RTS28_R_Sonstige!E12),"",RTS28_R_Sonstige!E12) -> 0.0488 | F12: =IF(ISBLANK(RTS28_R_Sonstige!F12),"",RTS28_R_Sonstige!F12) -> 0
A13: =IF(ISBLANK(RTS28_R_Sonstige!A13),"",RTS28_R_Sonstige!A13) -> NYSE-CTA Cboe BZX U.S. Equities Exchange (BATS) | B13: =IF(ISBLANK(RTS28_R_Sonstige!B13),"",RTS28_R_Sonstige!B13) -> 0.04366154 | C13: =IF(ISBLANK(RTS28_R_Sonstige!C13),"",RTS28_R_Sonstige!C13) -> 0.031839955 | D13: =IF(ISBLANK(RTS28_R_Sonstige!D13),"",RTS28_R_Sonstige!D13) -> 0.0152 | E13: =IF(ISBLANK(RTS28_R_Sonstige!E13),"",RTS28_R_Sonstige!E13) -> 0.0285 | F13: =IF(ISBLANK(RTS28_R_Sonstige!F13),"",RTS28_R_Sonstige!F13) -> 0
A14: =IF(ISBLANK(RTS28_R_Sonstige!A14),"",RTS28_R_Sonstige!A14) -> NYSE Arca, Listed Bonds (ARCX) | B14: =IF(ISBLANK(RTS28_R_Sonstige!B14),"",RTS28_R_Sonstige!B14) -> 0.036063556 | C14: =IF(ISBLANK(RTS28_R_Sonstige!C14),"",RTS28_R_Sonstige!C14) -> 0.027895182 | D14: =IF(ISBLANK(RTS28_R_Sonstige!D14),"",RTS28_R_Sonstige!D14) -> 0.009 | E14: =IF(ISBLANK(RTS28_R_Sonstige!E14),"",RTS28_R_Sonstige!E14) -> 0.0271 | F14: =IF(ISBLANK(RTS28_R_Sonstige!F14),"",RTS28_R_Sonstige!F14) -> 0
A15: =IF(ISBLANK(RTS28_R_Sonstige!A15),"",RTS28_R_Sonstige!A15) -> NASDAQ (XNAS) | B15: =IF(ISBLANK(RTS28_R_Sonstige!B15),"",RTS28_R_Sonstige!B15) -> 0.034472172 | C15: =IF(ISBLANK(RTS28_R_Sonstige!C15),"",RTS28_R_Sonstige!C15) -> 0.07495069 | D15: =IF(ISBLANK(RTS28_R_Sonstige!D15),"",RTS28_R_Sonstige!D15) -> 0.0035 | E15: =IF(ISBLANK(RTS28_R_Sonstige!E15),"",RTS28_R_Sonstige!E15) -> 0.031 | F15: =IF(ISBLANK(RTS28_R_Sonstige!F15),"",RTS28_R_Sonstige!F15) -> 0

Sheet RTS28_R_Securitized_derivates
A1: Trading volumes of top five execution venues 2019
A3: Retail clients
A7: Class of Instrument | B7: Securitized derivates
A8: Notification if <1 average trade per business day in the previous year | B8: =IF(RTS28_R_VerbriefteDerivate!B8="Ja","Yes","No") -> Yes
A10: Top five execution venues ranked in terms of trading volumes (descending order) | B10: Proportion of volume traded as a percentage of total in that class | C10: Proportion of orders executed as percentage of total in that class | D10: Percentage of passive orders | E10: Percentage of aggressive orders | F10: Percentage of directed orders
A11: =IF(ISBLANK(RTS28_R_VerbriefteDerivate!A11),"",RTS28_R_VerbriefteDerivate!A11) -> Over the Counter (XOFF) | B11: =IF(ISBLANK(RTS28_R_VerbriefteDerivate!B11),"",RTS28_R_VerbriefteDerivate!B11) -> 0.87584452 | C11: =IF(ISBLANK(RTS28_R_VerbriefteDerivate!C11),"",RTS28_R_VerbriefteDerivate!C11) -> 0.19354839 | D11: =IF(ISBLANK(RTS28_R_VerbriefteDerivate!D11),"",RTS28_R_VerbriefteDerivate!D11) -> 0.1182 | E11: =IF(ISBLANK(RTS28_R_VerbriefteDerivate!E11),"",RTS28_R_VerbriefteDerivate!E11) -> 0.7576 | F11: =IF(ISBLANK(RTS28_R_VerbriefteDerivate!F11),"",RTS28_R_VerbriefteDerivate!F11) -> 0
A12: =IF(ISBLANK(RTS28_R_VerbriefteDerivate!A12),"",RTS28_R_VerbriefteDerivate!A12) -> Options Price Reporting Authority (OPRA) | B12: =IF(ISBLANK(RTS28_R_VerbriefteDerivate!B12),"",RTS28_R_VerbriefteDerivate!B12) -> 0.050749963 | C12: =IF(ISBLANK(RTS28_R_VerbriefteDerivate!C12),"",RTS28_R_VerbriefteDerivate!C12) -> 0.5 | D12: =IF(ISBLANK(RTS28_R_VerbriefteDerivate!D12),"",RTS28_R_VerbriefteDerivate!D12) -> 0 | E12: =IF(ISBLANK(RTS28_R_VerbriefteDerivate!E12),"",RTS28_R_VerbriefteDerivate!E12) -> 0.0507 | F12: =IF(ISBLANK(RTS28_R_VerbriefteDerivate!F12),"",RTS28_R_VerbriefteDerivate!F12) -> 0
A13: =IF(ISBLANK(RTS28_R_VerbriefteDerivate!A13),"",RTS28_R_VerbriefteDerivate!A13) -> SIX Swiss Exchange, Structured Products (XQMH) | B13: =IF(ISBLANK(RTS28_R_VerbriefteDerivate!B13),"",RTS28_R_VerbriefteDerivate!B13) -> 0.018273516 | C13: =IF(ISBLANK(RTS28_R_VerbriefteDerivate!C13),"",RTS28_R_VerbriefteDerivate!C13) -> 0.032258065 | D13: =IF(ISBLANK(RTS28_R_VerbriefteDerivate!D13),"",RTS28_R_VerbriefteDerivate!D13) -> 0.0127 | E13: =IF(ISBLANK(RTS28_R_VerbriefteDerivate!E13),"",RTS28_R_VerbriefteDerivate!E13) -> 0.0056 | F13: =IF(ISBLANK(RTS28_R_VerbriefteDerivate!F13),"",RTS28_R_VerbriefteDerivate!F13) -> 0
A14: =IF(ISBLANK(RTS28_R_VerbriefteDerivate!A14),"",RTS28_R_VerbriefteDerivate!A14) | B14: =IF(ISBLANK(RTS28_R_VerbriefteDerivate!B14),"",RTS28_R_VerbriefteDerivate!B14) | C14: =IF(ISBLANK(RTS28_R_VerbriefteDerivate!C14),"",RTS28_R_VerbriefteDerivate!C14) | D14: =IF(ISBLANK(RTS28_R_VerbriefteDerivate!D14),"",RTS28_R_VerbriefteDerivate!D14) | E14: =IF(ISBLANK(RTS28_R_VerbriefteDerivate!E14),"",RTS28_R_VerbriefteDerivate!E14) | F14: =IF(ISBLANK(RTS28_R_VerbriefteDerivate!F14),"",RTS28_R_VerbriefteDerivate!F14)
A15: =IF(ISBLANK(RTS28_R_VerbriefteDerivate!A15),"",RTS28_R_VerbriefteDerivate!A15) | B15: =IF(ISBLANK(RTS28_R_VerbriefteDerivate!B15),"",RTS28_R_VerbriefteDerivate!B15) | C15: =IF(ISBLANK(RTS28_R_VerbriefteDerivate!C15),"",RTS28_R_VerbriefteDerivate!C15) | D15: =IF(ISBLANK(RTS28_R_VerbriefteDerivate!D15),"",RTS28_R_VerbriefteDerivate!D15) | E15: =IF(ISBLANK(RTS28_R_VerbriefteDerivate!E15),"",RTS28_R_VerbriefteDerivate!E15) | F15: =IF(ISBLANK(RTS28_R_VerbriefteDerivate!F15),"",RTS28_R_VerbriefteDerivate!F15)

Sheet RTS28_R_Structured
A1: Trading volumes of top five execution venues 2019
A3: Retail clients
A7: Class of Instrument | B7: Structured finance instruments
A8: Notification if <1 average trade per business day in the previous year | B8: =IF(RTS28_R_StrukturierteProdukte!B8="Ja","Yes","No") -> No
A10: Top five execution venues ranked in terms of trading volumes (descending order) | B10: Proportion of volume traded as a percentage of total in that class | C10: Proportion of orders executed as percentage of total in that class | D10: Percentage of passive orders | E10: Percentage of aggressive orders | F10: Percentage of directed orders
A11: =IF(ISBLANK(RTS28_R_StrukturierteProdukte!A11),"",RTS28_R_StrukturierteProdukte!A11) -> Over the Counter (XOFF) | B11: =IF(ISBLANK(RTS28_R_StrukturierteProdukte!B11),"",RTS28_R_StrukturierteProdukte!B11) -> 0.46760929 | C11: =IF(ISBLANK(RTS28_R_StrukturierteProdukte!C11),"",RTS28_R_StrukturierteProdukte!C11) -> 0.26646707 | D11: =IF(ISBLANK(RTS28_R_StrukturierteProdukte!D11),"",RTS28_R_StrukturierteProdukte!D11) -> 0.0251 | E11: =IF(ISBLANK(RTS28_R_StrukturierteProdukte!E11),"",RTS28_R_StrukturierteProdukte!E11) -> 0.4425 | F11: =IF(ISBLANK(RTS28_R_StrukturierteProdukte!F11),"",RTS28_R_StrukturierteProdukte!F11) -> 0
A12: =IF(ISBLANK(RTS28_R_StrukturierteProdukte!A12),"",RTS28_R_StrukturierteProdukte!A12) -> TRAX (XCOR) | B12: =IF(ISBLANK(RTS28_R_StrukturierteProdukte!B12),"",RTS28_R_StrukturierteProdukte!B12) -> 0.2537145 | C12: =IF(ISBLANK(RTS28_R_StrukturierteProdukte!C12),"",RTS28_R_StrukturierteProdukte!C12) -> 0.086826347 | D12: =IF(ISBLANK(RTS28_R_StrukturierteProdukte!D12),"",RTS28_R_StrukturierteProdukte!D12) -> 0 | E12: =IF(ISBLANK(RTS28_R_StrukturierteProdukte!E12),"",RTS28_R_StrukturierteProdukte!E12) -> 0.2537 | F12: =IF(ISBLANK(RTS28_R_StrukturierteProdukte!F12),"",RTS28_R_StrukturierteProdukte!F12) -> 0
A13: =IF(ISBLANK(RTS28_R_StrukturierteProdukte!A13),"",RTS28_R_StrukturierteProdukte!A13) -> SIX Swiss Exchange, Structured Products (XQMH) | B13: =IF(ISBLANK(RTS28_R_StrukturierteProdukte!B13),"",RTS28_R_StrukturierteProdukte!B13) -> 0.11673312 | C13: =IF(ISBLANK(RTS28_R_StrukturierteProdukte!C13),"",RTS28_R_StrukturierteProdukte!C13) -> 0.35329341 | D13: =IF(ISBLANK(RTS28_R_StrukturierteProdukte!D13),"",RTS28_R_StrukturierteProdukte!D13) -> 0.0461 | E13: =IF(ISBLANK(RTS28_R_StrukturierteProdukte!E13),"",RTS28_R_StrukturierteProdukte!E13) -> 0.0707 | F13: =IF(ISBLANK(RTS28_R_StrukturierteProdukte!F13),"",RTS28_R_StrukturierteProdukte!F13) -> 0
A14: =IF(ISBLANK(RTS28_R_StrukturierteProdukte!A14),"",RTS28_R_StrukturierteProdukte!A14) -> SIX Swiss Exchange (XSWX) | B14: =IF(ISBLANK(RTS28_R_StrukturierteProdukte!B14),"",RTS28_R_StrukturierteProdukte!B14) -> 0.047017385 | C14: =IF(ISBLANK(RTS28_R_StrukturierteProdukte!C14),"",RTS28_R_StrukturierteProdukte!C14) -> 0.013473054 | D14: =IF(ISBLANK(RTS28_R_StrukturierteProdukte!D14),"",RTS28_R_StrukturierteProdukte!D14) -> 0 | E14: =IF(ISBLANK(RTS28_R_StrukturierteProdukte!E14),"",RTS28_R_StrukturierteProdukte!E14) -> 0.047 | F14: =IF(ISBLANK(RTS28_R_StrukturierteProdukte!F14),"",RTS28_R_StrukturierteProdukte!F14) -> 0
A15: =IF(ISBLANK(RTS28_R_StrukturierteProdukte!A15),"",RTS28_R_StrukturierteProdukte!A15) -> Irish Stock Exchange - All Market (XDUB) | B15: =IF(ISBLANK(RTS28_R_StrukturierteProdukte!B15),"",RTS28_R_StrukturierteProdukte!B15) -> 0.023100138 | C15: =IF(ISBLANK(RTS28_R_StrukturierteProdukte!C15),"",RTS28_R_StrukturierteProdukte!C15) -> 0.010479042 | D15: =IF(ISBLANK(RTS28_R_StrukturierteProdukte!D15),"",RTS28_R_StrukturierteProdukte!D15) -> 0.0143 | E15: =IF(ISBLANK(RTS28_R_StrukturierteProdukte!E15),"",RTS28_R_StrukturierteProdukte!E15) -> 0.0088 | F15: =IF(ISBLANK(RTS28_R_StrukturierteProdukte!F15),"",RTS28_R_StrukturierteProdukte!F15) -> 0

Sheet RTS28_R_Currency_derivates
A1: Trading volumes of top five execution venues 2019
A3: Retail clients
A7: Class of Instrument | B7: Currency Derivates
A8: Notification if <1 average trade per business day in the previous year | B8: =IF(RTS28_R_Währungsderivate!B8="Ja","Yes","No") -> No
A10: Top five execution venues ranked in terms of trading volumes (descending order) | B10: Proportion of volume traded as a percentage of total in that class | C10: Proportion of orders executed as percentage of total in that class | D10: Percentage of passive orders | E10: Percentage of aggressive orders | F10: Percentage of directed orders
A11: =IF(ISBLANK(RTS28_R_Währungsderivate!A11),"",RTS28_R_Währungsderivate!A11) -> Kaiser Partner Privatbank AG (529900DPOQPLDSF3R482) | B11: =IF(ISBLANK(RTS28_R_Währungsderivate!B11),"",RTS28_R_Währungsderivate!B11) -> 0.70049569 | C11: =IF(ISBLANK(RTS28_R_Währungsderivate!C11),"",RTS28_R_Währungsderivate!C11) -> 0.78879746 | D11: =IF(ISBLANK(RTS28_R_Währungsderivate!D11),"",RTS28_R_Währungsderivate!D11) -> 0 | E11: =IF(ISBLANK(RTS28_R_Währungsderivate!E11),"",RTS28_R_Währungsderivate!E11) -> 1 | F11: =IF(ISBLANK(RTS28_R_Währungsderivate!F11),"",RTS28_R_Währungsderivate!F11) -> 0
A12: =IF(ISBLANK(RTS28_R_Währungsderivate!A12),"",RTS28_R_Währungsderivate!A12) | B12: =IF(ISBLANK(RTS28_R_Währungsderivate!B12),"",RTS28_R_Währungsderivate!B12) | C12: =IF(ISBLANK(RTS28_R_Währungsderivate!C12),"",RTS28_R_Währungsderivate!C12) | D12: =IF(ISBLANK(RTS28_R_Währungsderivate!D12),"",RTS28_R_Währungsderivate!D12) | E12: =IF(ISBLANK(RTS28_R_Währungsderivate!E12),"",RTS28_R_Währungsderivate!E12) | F12: =IF(ISBLANK(RTS28_R_Währungsderivate!F12),"",RTS28_R_Währungsderivate!F12)
A13: =IF(ISBLANK(RTS28_R_Währungsderivate!A13),"",RTS28_R_Währungsderivate!A13) | B13: =IF(ISBLANK(RTS28_R_Währungsderivate!B13),"",RTS28_R_Währungsderivate!B13) | C13: =IF(ISBLANK(RTS28_R_Währungsderivate!C13),"",RTS28_R_Währungsderivate!C13) | D13: =IF(ISBLANK(RTS28_R_Währungsderivate!D13),"",RTS28_R_Währungsderivate!D13) | E13: =IF(ISBLANK(RTS28_R_Währungsderivate!E13),"",RTS28_R_Währungsderivate!E13) | F13: =IF(ISBLANK(RTS28_R_Währungsderivate!F13),"",RTS28_R_Währungsderivate!F13)
A14: =IF(ISBLANK(RTS28_R_Währungsderivate!A14),"",RTS28_R_Währungsderivate!A14) | B14: =IF(ISBLANK(RTS28_R_Währungsderivate!B14),"",RTS28_R_Währungsderivate!B14) | C14: =IF(ISBLANK(RTS28_R_Währungsderivate!C14),"",RTS28_R_Währungsderivate!C14) | D14: =IF(ISBLANK(RTS28_R_Währungsderivate!D14),"",RTS28_R_Währungsderivate!D14) | E14: =IF(ISBLANK(RTS28_R_Währungsderivate!E14),"",RTS28_R_Währungsderivate!E14) | F14: =IF(ISBLANK(RTS28_R_Währungsderivate!F14),"",RTS28_R_Währungsderivate!F14)
A15: =IF(ISBLANK(RTS28_R_Währungsderivate!A15),"",RTS28_R_Währungsderivate!A15) | B15: =IF(ISBLANK(RTS28_R_Währungsderivate!B15),"",RTS28_R_Währungsderivate!B15) | C15: =IF(ISBLANK(RTS28_R_Währungsderivate!C15),"",RTS28_R_Währungsderivate!C15) | D15: =IF(ISBLANK(RTS28_R_Währungsderivate!D15),"",RTS28_R_Währungsderivate!D15) | E15: =IF(ISBLANK(RTS28_R_Währungsderivate!E15),"",RTS28_R_Währungsderivate!E15) | F15: =IF(ISBLANK(RTS28_R_Währungsderivate!F15),"",RTS28_R_Währungsderivate!F15)

Sheet RTS28_P_Equity_Derivates
A1: Trading volumes of top five execution venues 2019
A3: Professional clients
A7: Class of Instrument | B7: Equity derivates
A8: Notification if <1 average trade per business day in the previous year | B8: =IF(RTS28_P_Aktienderivate!B8="Ja","Yes","No") -> No
A10: Top five execution venues ranked in terms of trading volumes (descending order) | B10: Proportion of volume traded as a percentage of total in that class | C10: Proportion of orders executed as percentage of total in that class | D10: Percentage of passive orders | E10: Percentage of aggressive orders | F10: Percentage of directed orders
A11: =IF(ISBLANK(RTS28_P_Aktienderivate!A11),"",RTS28_P_Aktienderivate!A11) -> Eurex Deutschland (XEUR) | B11: =IF(ISBLANK(RTS28_P_Aktienderivate!B11),"",RTS28_P_Aktienderivate!B11) -> 0.74959176 | C11: =IF(ISBLANK(RTS28_P_Aktienderivate!C11),"",RTS28_P_Aktienderivate!C11) -> 0.59893993 | D11: =IF(ISBLANK(RTS28_P_Aktienderivate!D11),"",RTS28_P_Aktienderivate!D11) -> 0 | E11: =IF(ISBLANK(RTS28_P_Aktienderivate!E11),"",RTS28_P_Aktienderivate!E11) -> 0.74959176 | F11: =IF(ISBLANK(RTS28_P_Aktienderivate!F11),"",RTS28_P_Aktienderivate!F11) -> 0
A12: =IF(ISBLANK(RTS28_P_Aktienderivate!A12),"",RTS28_P_Aktienderivate!A12) -> Options Price Reporting Authority (OPRA) | B12: =IF(ISBLANK(RTS28_P_Aktienderivate!B12),"",RTS28_P_Aktienderivate!B12) -> 0.069004279 | C12: =IF(ISBLANK(RTS28_P_Aktienderivate!C12),"",RTS28_P_Aktienderivate!C12) -> 0.097173145 | D12: =IF(ISBLANK(RTS28_P_Aktienderivate!D12),"",RTS28_P_Aktienderivate!D12) -> 0 | E12: =IF(ISBLANK(RTS28_P_Aktienderivate!E12),"",RTS28_P_Aktienderivate!E12) -> 0.069004279 | F12: =IF(ISBLANK(RTS28_P_Aktienderivate!F12),"",RTS28_P_Aktienderivate!F12) -> 0
A13: =IF(ISBLANK(RTS28_P_Aktienderivate!A13),"",RTS28_P_Aktienderivate!A13) -> ICE Futures Europe - Equity Products Division (XLIF) | B13: =IF(ISBLANK(RTS28_P_Aktienderivate!B13),"",RTS28_P_Aktienderivate!B13) -> 0.046847336 | C13: =IF(ISBLANK(RTS28_P_Aktienderivate!C13),"",RTS28_P_Aktienderivate!C13) -> 0.074204947 | D13: =IF(ISBLANK(RTS28_P_Aktienderivate!D13),"",RTS28_P_Aktienderivate!D13) -> 0 | E13: =IF(ISBLANK(RTS28_P_Aktienderivate!E13),"",RTS28_P_Aktienderivate!E13) -> 0.046847336 | F13: =IF(ISBLANK(RTS28_P_Aktienderivate!F13),"",RTS28_P_Aktienderivate!F13) -> 0
A14: =IF(ISBLANK(RTS28_P_Aktienderivate!A14),"",RTS28_P_Aktienderivate!A14) -> The Montreal Exchange / Bourse de Montreal (XMOD) | B14: =IF(ISBLANK(RTS28_P_Aktienderivate!B14),"",RTS28_P_Aktienderivate!B14) -> 0.0018822607 | C14: =IF(ISBLANK(RTS28_P_Aktienderivate!C14),"",RTS28_P_Aktienderivate!C14) -> 0.0017667845 | D14: =IF(ISBLANK(RTS28_P_Aktienderivate!D14),"",RTS28_P_Aktienderivate!D14) -> 0 | E14: =IF(ISBLANK(RTS28_P_Aktienderivate!E14),"",RTS28_P_Aktienderivate!E14) -> 0.0018822607 | F14: =IF(ISBLANK(RTS28_P_Aktienderivate!F14),"",RTS28_P_Aktienderivate!F14) -> 0
A15: =IF(ISBLANK(RTS28_P_Aktienderivate!A15),"",RTS28_P_Aktienderivate!A15) -> Euronext Paris MONEP, Equity and Index Derivatives (XMON) | B15: =IF(ISBLANK(RTS28_P_Aktienderivate!B15),"",RTS28_P_Aktienderivate!B15) -> 0.00074420596 | C15: =IF(ISBLANK(RTS28_P_Aktienderivate!C15),"",RTS28_P_Aktienderivate!C15) -> 0.0017667845 | D15: =IF(ISBLANK(RTS28_P_Aktienderivate!D15),"",RTS28_P_Aktienderivate!D15) -> 0 | E15: =IF(ISBLANK(RTS28_P_Aktienderivate!E15),"",RTS28_P_Aktienderivate!E15) -> 0.00074420596 | F15: =IF(ISBLANK(RTS28_P_Aktienderivate!F15),"",RTS28_P_Aktienderivate!F15) -> 0

Sheet RTS28_P_Equities_Shares
A1: Trading volumes of top five execution venues 2019
A3: Professional clients
A7: Class of Instrument | B7: Equities - Shares & Depository receipts
A8: Notification if <1 average trade per business day in the previous year | B8: =IF(RTS28_P_Eigenkapitalinstrumente!B8="Ja","Yes","No") -> No
A10: Top five execution venues ranked in terms of trading volumes (descending order) | B10: Proportion of volume traded as a percentage of total in that class | C10: Proportion of orders executed as percentage of total in that class | D10: Percentage of passive orders | E10: Percentage of aggressive orders | F10: Percentage of directed orders
A11: =IF(ISBLANK(RTS28_P_Eigenkapitalinstrumente!A11),"",RTS28_P_Eigenkapitalinstrumente!A11) -> NASDAQ (XNAS) | B11: =IF(ISBLANK(RTS28_P_Eigenkapitalinstrumente!B11),"",RTS28_P_Eigenkapitalinstrumente!B11) -> 0.10697856 | C11: =IF(ISBLANK(RTS28_P_Eigenkapitalinstrumente!C11),"",RTS28_P_Eigenkapitalinstrumente!C11) -> 0.022896133 | D11: =IF(ISBLANK(RTS28_P_Eigenkapitalinstrumente!D11),"",RTS28_P_Eigenkapitalinstrumente!D11) -> 0.0064 | E11: =IF(ISBLANK(RTS28_P_Eigenkapitalinstrumente!E11),"",RTS28_P_Eigenkapitalinstrumente!E11) -> 0.1006 | F11: =IF(ISBLANK(RTS28_P_Eigenkapitalinstrumente!F11),"",RTS28_P_Eigenkapitalinstrumente!F11) -> 0
A12: =IF(ISBLANK(RTS28_P_Eigenkapitalinstrumente!A12),"",RTS28_P_Eigenkapitalinstrumente!A12) -> New York Stock Exchange, Inc (XNYS) | B12: =IF(ISBLANK(RTS28_P_Eigenkapitalinstrumente!B12),"",RTS28_P_Eigenkapitalinstrumente!B12) -> 0.10340057 | C12: =IF(ISBLANK(RTS28_P_Eigenkapitalinstrumente!C12),"",RTS28_P_Eigenkapitalinstrumente!C12) -> 0.041243366 | D12: =IF(ISBLANK(RTS28_P_Eigenkapitalinstrumente!D12),"",RTS28_P_Eigenkapitalinstrumente!D12) -> 0.007 | E12: =IF(ISBLANK(RTS28_P_Eigenkapitalinstrumente!E12),"",RTS28_P_Eigenkapitalinstrumente!E12) -> 0.0964 | F12: =IF(ISBLANK(RTS28_P_Eigenkapitalinstrumente!F12),"",RTS28_P_Eigenkapitalinstrumente!F12) -> 0
A13: =IF(ISBLANK(RTS28_P_Eigenkapitalinstrumente!A13),"",RTS28_P_Eigenkapitalinstrumente!A13) -> Euronext - Euronext Paris (XPAR) | B13: =IF(ISBLANK(RTS28_P_Eigenkapitalinstrumente!B13),"",RTS28_P_Eigenkapitalinstrumente!B13) -> 0.043260667 | C13: =IF(ISBLANK(RTS28_P_Eigenkapitalinstrumente!C13),"",RTS28_P_Eigenkapitalinstrumente!C13) -> 0.0024260804 | D13: =IF(ISBLANK(RTS28_P_Eigenkapitalinstrumente!D13),"",RTS28_P_Eigenkapitalinstrumente!D13) -> 0.0201 | E13: =IF(ISBLANK(RTS28_P_Eigenkapitalinstrumente!E13),"",RTS28_P_Eigenkapitalinstrumente!E13) -> 0.0232 | F13: =IF(ISBLANK(RTS28_P_Eigenkapitalinstrumente!F13),"",RTS28_P_Eigenkapitalinstrumente!F13) -> 0
A14: =IF(ISBLANK(RTS28_P_Eigenkapitalinstrumente!A14),"",RTS28_P_Eigenkapitalinstrumente!A14) -> SIX Swiss Exchange - Blue Chips Segment (XVTX) | B14: =IF(ISBLANK(RTS28_P_Eigenkapitalinstrumente!B14),"",RTS28_P_Eigenkapitalinstrumente!B14) -> 0.034691373 | C14: =IF(ISBLANK(RTS28_P_Eigenkapitalinstrumente!C14),"",RTS28_P_Eigenkapitalinstrumente!C14) -> 0.014859742 | D14: =IF(ISBLANK(RTS28_P_Eigenkapitalinstrumente!D14),"",RTS28_P_Eigenkapitalinstrumente!D14) -> 0.003 | E14: =IF(ISBLANK(RTS28_P_Eigenkapitalinstrumente!E14),"",RTS28_P_Eigenkapitalinstrumente!E14) -> 0.0317 | F14: =IF(ISBLANK(RTS28_P_Eigenkapitalinstrumente!F14),"",RTS28_P_Eigenkapitalinstrumente!F14) -> 0
A15: =IF(ISBLANK(RTS28_P_Eigenkapitalinstrumente!A15),"",RTS28_P_Eigenkapitalinstrumente!A15) -> Tokyo Stock Exchange (XTKS) | B15: =IF(ISBLANK(RTS28_P_Eigenkapitalinstrumente!B15),"",RTS28_P_Eigenkapitalinstrumente!B15) -> 0.02448726 | C15: =IF(ISBLANK(RTS28_P_Eigenkapitalinstrumente!C15),"",RTS28_P_Eigenkapitalinstrumente!C15) -> 0.0013646702 | D15: =IF(ISBLANK(RTS28_P_Eigenkapitalinstrumente!D15),"",RTS28_P_Eigenkapitalinstrumente!D15) -> 0 | E15: =IF(ISBLANK(RTS28_P_Eigenkapitalinstrumente!E15),"",RTS28_P_Eigenkapitalinstrumente!E15) -> 0.0245 | F15: =IF(ISBLANK(RTS28_P_Eigenkapitalinstrumente!F15),"",RTS28_P_Eigenkapitalinstrumente!F15) -> 0

Sheet RTS28_P_Debt_instruments
A1: Trading volumes of top five execution venues 2019
A3: Professional clients
A7: Class of Instrument | B7: Debt instruments
