Workbook

Sheet TemplateDE
A1: Handelsvolumen der fünf wichtigsten Handelsplätze 2018
A3: Professionelle Kunden
A7: Kategorie des Finanzinstruments
A8: Angabe, ob im Vorjahr im Durchschnitt <1 Handelsgeschäft pro Geschäftstag ausgeführt wurde | B8: Nein
A10: Die fünf Handelsplätze, die ausgehend vom Handelsvolumen am wichtigsten sind (in absteigender Reihenfolge nach Handelsvolumen) | B10: Anteil des Handeslvolumens als Prozentsatz des gesamten Volumens in dieser Kategorie | C10: Anteil der ausgeführten Aufträge als Prozentsatz aller Aufträge in dieser Kategorie | D10: Prozentsatz passiver Aufträge | E10: Prozentsatz aggressiver Aufträge | F10: Prozentsatz gelenkter Aufträge
D11: n/a | E11: n/a | F11: n/a
D12: n/a | E12: n/a | F12: n/a
D13: n/a | E13: n/a | F13: n/a
D14: n/a | E14: n/a | F14: n/a
D15: n/a | E15: n/a | F15: n/a

Sheet TemplateEN
A1: Trading volumes of top five execution venues 2018
A3: Retail clients
A7: Class of Instrument
A8: Notification if <1 average trade per business day in the previous year | B8: No
A10: Top five execution venues ranked in terms of trading volumes (descending order) | B10: Proportion of volume traded as a percentage of total in that class | C10: Proportion of orders executed as percentage of total in that class | D10: Percentage of passive orders | E10: Percentage of aggressive orders | F10: Percentage of directed orders
D11: n/a | E11: n/a | F11: n/a
D12: n/a | E12: n/a | F12: n/a
D13: n/a | E13: n/a | F13: n/a
D14: n/a | E14: n/a | F14: n/a
D15: n/a | E15: n/a | F15: n/a

Sheet RTS28_R_Aktienderivate
A1: Handelsvolumen der fünf wichtigsten Handelsplätze 2024
A3: Kleinanleger
A7: Kategorie des Finanzinstruments | B7: Aktienderivate
A8: Angabe, ob im Vorjahr im Durchschnitt <1 Handelsgeschäft pro Geschäftstag ausgeführt wurde | B8: Ja
A10: Die fünf Handelsplätze, die ausgehend vom Handelsvolumen am wichtigsten sind (in absteigender Reihenfolge nach Handelsvolumen) | B10: Anteil des Handeslvolumens als Prozentsatz des gesamten Volumens in dieser Kategorie | C10: Anteil der ausgeführten Aufträge als Prozentsatz aller Aufträge in dieser Kategorie | D10: Prozentsatz passiver Aufträge | E10: Prozentsatz aggressiver Aufträge | F10: Prozentsatz gelenkter Aufträge
A11: Options Price Reporting Authority (OPRA) | B11: 0.50071347 | C11: 0.37293729 | D11: 0 | E11: 0.50071347 | F11: 0
A12: Eurex Frankfurt AG (XEUR) | B12: 0.177708 | C12: 0.11881188 | D12: 0 | E12: 0.177708 | F12: 0
A13: The Montreal Exchange / Bourse de Montreal (XMOD) | B13: 0.0025648509 | C13: 0.00330033 | D13: 0 | E13: 0.0025648509 | F13: 0
A14: Nasdaq Copenhagen Derivatives (XCSE) | B14: 0.0010845239 | C14: 0.00330033 | D14: 0 | E14: 0.0010845239 | F14: 0
A15: Over the Counter (LOTC) | B15: 0.00090359141 | C15: 0.00330033 | D15: 0 | E15: 0.00090359141 | F15: 0

Sheet RTS28_R_Eigenkapitalinstrumente
A1: =RTS28_R_Aktienderivate!A1 -> Handelsvolumen der fünf wichtigsten Handelsplätze 2024
A3: Kleinanleger
A7: Kategorie des Finanzinstruments | B7: Eigenkapitalinstrumente
A8: Angabe, ob im Vorjahr im Durchschnitt <1 Handelsgeschäft pro Geschäftstag ausgeführt wurde | B8: Nein
A10: Die fünf Handelsplätze, die ausgehend vom Handelsvolumen am wichtigsten sind (in absteigender Reihenfolge nach Handelsvolumen) | B10: Anteil des Handeslvolumens als Prozentsatz des gesamten Volumens in dieser Kategorie | C10: Anteil der ausgeführten Aufträge als Prozentsatz aller Aufträge in dieser Kategorie | D10: Prozentsatz passiver Aufträge | E10: Prozentsatz aggressiver Aufträge | F10: Prozentsatz gelenkter Aufträge
A11: New York Stock Exchange, Inc (XNYS) | B11: 0.16541465 | C11: 0.1480179 | D11: 0.011388157 | E11: 0.15402649 | F11: 0
A12: SIX Swiss Exchange (XSWX) | B12: 0.15218928 | C12: 0.2918798 | D12: 0.020952123 | E12: 0.13123715 | F12: 0
A13: NASDAQ (XNAS) | B13: 0.12243013 | C13: 0.10294118 | D13: 0.016019338 | E13: 0.10641079 | F13: 0
A14: London Stock Exchange Domestic/UK Market 1st Currency (XLON) | B14: 0.062162044 | C14: 0.034526854 | D14: 0.042108924 | E14: 0.02005312 | F14: 0
A15: AQUIS Exchange Alternate Currencies (AQXE) | B15: 0.050781721 | C15: 0.01097613 | D15: 0.042032033 | E15: 0.0087496883 | F15: 0

Sheet RTS28_R_Rohstoffderivate
A1: =RTS28_R_Aktienderivate!A1 -> Handelsvolumen der fünf wichtigsten Handelsplätze 2024
A3: Kleinanleger
A7: Kategorie des Finanzinstruments | B7: Rohstoffderivate
A8: Angabe, ob im Vorjahr im Durchschnitt <1 Handelsgeschäft pro Geschäftstag ausgeführt wurde | B8: Ja
A10: Die fünf Handelsplätze, die ausgehend vom Handelsvolumen am wichtigsten sind (in absteigender Reihenfolge nach Handelsvolumen) | B10: Anteil des Handeslvolumens als Prozentsatz des gesamten Volumens in dieser Kategorie | C10: Anteil der ausgeführten Aufträge als Prozentsatz aller Aufträge in dieser Kategorie | D10: Prozentsatz passiver Aufträge | E10: Prozentsatz aggressiver Aufträge | F10: Prozentsatz gelenkter Aufträge
A11: n/a | B11: 0 | C11: 0 | D11: 0 | E11: 0 | F11: 0

Sheet RTS28_R_Schuldtitel
A1: =RTS28_R_Aktienderivate!A1 -> Handelsvolumen der fünf wichtigsten Handelsplätze 2024
A3: Kleinanleger
A7: Kategorie des Finanzinstruments | B7: Schuldtitel
A8: Angabe, ob im Vorjahr im Durchschnitt <1 Handelsgeschäft pro Geschäftstag ausgeführt wurde | B8: Nein
A10: Die fünf Handelsplätze, die ausgehend vom Handelsvolumen am wichtigsten sind (in absteigender Reihenfolge nach Handelsvolumen) | B10: Anteil des Handeslvolumens als Prozentsatz des gesamten Volumens in dieser Kategorie | C10: Anteil der ausgeführten Aufträge als Prozentsatz aller Aufträge in dieser Kategorie | D10: Prozentsatz passiver Aufträge | E10: Prozentsatz aggressiver Aufträge | F10: Prozentsatz gelenkter Aufträge
A11: TRADEWEB EU BV - MTF (TWEM) | B11: 0.17037334 | C11: 0.27577169 | D11: 0.027023789 | E11: 0.14334956 | F11: 0
A12: TRAX (XCOR) | B12: 0.1009629 | C12: 0.20675597 | D12: 0.024387113 | E12: 0.076575788 | F12: 0
A13: SIX Swiss Exchange (XSWX) | B13: 0.090417219 | C13: 0.074548631 | D13: 0.0015049103 | E13: 0.088912308 | F13: 0
A14: BLOOMBERG TRADING FACILITY LIMITED (BMTF) | B14: 0.06022128 | C14: 0.056493885 | D14: 0.041345287 | E14: 0.018875994 | F14: 0
A15: BT Funds Management Ltd (BTFE) | B15: 0.033645496 | C15: 0.022131625 | D15: 0.032042115 | E15: 0.0016033811 | F15: 0

Sheet RTS28_R_Sonstige
A1: =RTS28_R_Aktienderivate!A1 -> Handelsvolumen der fünf wichtigsten Handelsplätze 2024
A3: Kleinanleger
A7: Kategorie des Finanzinstruments | B7: Sonstige Instrumente
A8: Angabe, ob im Vorjahr im Durchschnitt <1 Handelsgeschäft pro Geschäftstag ausgeführt wurde | B8: Nein
A10: Die fünf Handelsplätze, die ausgehend vom Handelsvolumen am wichtigsten sind (in absteigender Reihenfolge nach Handelsvolumen) | B10: Anteil des Handeslvolumens als Prozentsatz des gesamten Volumens in dieser Kategorie | C10: Anteil der ausgeführten Aufträge als Prozentsatz aller Aufträge in dieser Kategorie | D10: Prozentsatz passiver Aufträge | E10: Prozentsatz aggressiver Aufträge | F10: Prozentsatz gelenkter Aufträge
A11: London Stock Exchange Domestic/UK Market 1st Currency (XLON) | B11: 0.054789865 | C11: 0.059550562 | D11: 2.1649194e-05 | E11: 0.054768216 | F11: 0
A12: Over the Counter (LOTC) | B12: 0.05432113 | C12: 0.017977528 | D12: 0.0011832758 | E12: 0.053137854 | F12: 0
A13: NYSE-CTA Cboe BZX U.S. Equities Exchange (BATS) | B13: 0.046974731 | C13: 0.017752809 | D13: 3.2052535e-05 | E13: 0.046942679 | F13: 0
A14: NYSE Arca, Listed Bonds (ARCX) | B14: 0.039653335 | C14: 0.055955056 | D14: 0.011989781 | E14: 0.027663554 | F14: 0
A15: TRADEWEB EU BV - MTF (TWEM) | B15: 0.036092634 | C15: 0.13033708 | D15: 0.0040328877 | E15: 0.032059747 | F15: 0

Sheet RTS28_R_VerbriefteDerivate
A1: =RTS28_R_Aktienderivate!A1 -> Handelsvolumen der fünf wichtigsten Handelsplätze 2024
A3: Kleinanleger
A7: Kategorie des Finanzinstruments | B7: Verbriefte Derivate
A8: Angabe, ob im Vorjahr im Durchschnitt <1 Handelsgeschäft pro Geschäftstag ausgeführt wurde | B8: Ja
A10: Die fünf Handelsplätze, die ausgehend vom Handelsvolumen am wichtigsten sind (in absteigender Reihenfolge nach Handelsvolumen) | B10: Anteil des Handeslvolumens als Prozentsatz des gesamten Volumens in dieser Kategorie | C10: Anteil der ausgeführten Aufträge als Prozentsatz aller Aufträge in dieser Kategorie | D10: Prozentsatz passiver Aufträge | E10: Prozentsatz aggressiver Aufträge | F10: Prozentsatz gelenkter Aufträge
A11: Over the Counter (LOTC) | B11: 0.53245554 | C11: 0.25 | D11: 0 | E11: 0.53245554 | F11: 0
A12: Nasdaq First North Stockholm Equities - SME Growth Market (SSME) | B12: 0.26523421 | C12: 0.125 | D12: 0.26523421 | E12: 0 | F12: 0
A13: Other OTC Market (OOTC) | B13: 0.075967009 | C13: 0.125 | D13: 0 | E13: 0.075967009 | F13: 0
A14: Euwax (EUWX) | B14: 0.054419433 | C14: 0.0625 | D14: 0 | E14: 0.054419433 | F14: 0

Sheet RTS28_R_StrukturierteProdukte
A1: =RTS28_R_Aktienderivate!A1 -> Handelsvolumen der fünf wichtigsten Handelsplätze 2024
A3: Kleinanleger
A7: Kategorie des Finanzinstruments | B7: Strukturierte Finanzprodukte
A8: Angabe, ob im Vorjahr im Durchschnitt <1 Handelsgeschäft pro Geschäftstag ausgeführt wurde | B8: Nein
A10: Die fünf Handelsplätze, die ausgehend vom Handelsvolumen am wichtigsten sind (in absteigender Reihenfolge nach Handelsvolumen) | B10: Anteil des Handeslvolumens als Prozentsatz des gesamten Volumens in dieser Kategorie | C10: Anteil der ausgeführten Aufträge als Prozentsatz aller Aufträge in dieser Kategorie | D10: Prozentsatz passiver Aufträge | E10: Prozentsatz aggressiver Aufträge | F10: Prozentsatz gelenkter Aufträge
A11: Over the Counter (LOTC) | B11: 0.4186859 | C11: 0.27925382 | D11: 0.0059570568 | E11: 0.41272885 | F11: 0
A12: SIX Swiss Exchange (XSWX) | B12: 0.24605506 | C12: 0.32956473 | D12: 0 | E12: 0.24605506 | F12: 0
A13: TRAX (XCOR) | B13: 0.025570566 | C13: 0.032786885 | D13: 0.00036260614 | E13: 0.02520796 | F13: 0
A14: OFF-EXCHANGE TRANSACTIONS - LISTED INSTRUMENTS (XOFF) | B14: 0.0053753139 | C14: 0.016958734 | D14: 0 | E14: 0.0053753139 | F14: 0
A15: SIX Swiss Exchange, Structured Products (XQMH) | B15: 0.0043798007 | C15: 0.018089316 | D15: 0 | E15: 0.0043798007 | F15: 0

Sheet RTS28_R_Zinsderivate
A1: =RTS28_R_Aktienderivate!A1 -> Handelsvolumen der fünf wichtigsten Handelsplätze 2024
A3: Kleinanleger
A7: Kategorie des Finanzinstruments | B7: Zinsderivate
A8: Angabe, ob im Vorjahr im Durchschnitt <1 Handelsgeschäft pro Geschäftstag ausgeführt wurde | B8: Ja
A10: Die fünf Handelsplätze, die ausgehend vom Handelsvolumen am wichtigsten sind (in absteigender Reihenfolge nach Handelsvolumen) | B10: Anteil des Handeslvolumens als Prozentsatz des gesamten Volumens in dieser Kategorie | C10: Anteil der ausgeführten Aufträge als Prozentsatz aller Aufträge in dieser Kategorie | D10: Prozentsatz passiver Aufträge | E10: Prozentsatz aggressiver Aufträge | F10: Prozentsatz gelenkter Aufträge
A11: n/a | B11: 0 | C11: 0 | D11: 0 | E11: 0 | F11: 0

Sheet RTS28_R_Währungsderivate
A1: =RTS28_R_Aktienderivate!A1 -> Handelsvolumen der fünf wichtigsten Handelsplätze 2024
A3: Kleinanleger
A7: Kategorie des Finanzinstruments | B7: Währungsderivate
A8: Angabe, ob im Vorjahr im Durchschnitt <1 Handelsgeschäft pro Geschäftstag ausgeführt wurde | B8: Nein
A10: Die fünf Handelsplätze, die ausgehend vom Handelsvolumen am wichtigsten sind (in absteigender Reihenfolge nach Handelsvolumen) | B10: Anteil des Handeslvolumens als Prozentsatz des gesamten Volumens in dieser Kategorie | C10: Anteil der ausgeführten Aufträge als Prozentsatz aller Aufträge in dieser Kategorie | D10: Prozentsatz passiver Aufträge | E10: Prozentsatz aggressiver Aufträge | F10: Prozentsatz gelenkter Aufträge
A11: Kaiser Partner Privatbank AG (529900DPOQPLDSF3R482) | B11: 0.34483185 | C11: 0.84758545 | D11: 0 | E11: 1 | F11: 0

Sheet RTS28_P_Aktienderivate
A1: =RTS28_R_Aktienderivate!A1 -> Handelsvolumen der fünf wichtigsten Handelsplätze 2024
A3: Professionelle Kunden
A7: Kategorie des Finanzinstruments | B7: Aktienderivate
A8: Angabe, ob im Vorjahr im Durchschnitt <1 Handelsgeschäft pro Geschäftstag ausgeführt wurde | B8: Ja
A10: Die fünf Handelsplätze, die ausgehend vom Handelsvolumen am wichtigsten sind (in absteigender Reihenfolge nach Handelsvolumen) | B10: Anteil des Handeslvolumens als Prozentsatz des gesamten Volumens in dieser Kategorie | C10: Anteil der ausgeführten Aufträge als Prozentsatz aller Aufträge in dieser Kategorie | D10: Prozentsatz passiver Aufträge | E10: Prozentsatz aggressiver Aufträge | F10: Prozentsatz gelenkter Aufträge
A11: Eurex Frankfurt AG (XEUR) | B11: 0.19588459 | C11: 0.2310231 | D11: 0.045359246 | E11: 0.15052535 | F11: 0
A12: Options Price Reporting Authority (OPRA) | B12: 0.12114096 | C12: 0.26732673 | D12: 0.084683659 | E12: 0.036457305 | F12: 0

Sheet RTS28_P_Eigenkapitalinstrumente
A1: =RTS28_R_Aktienderivate!A1 -> Handelsvolumen der fünf wichtigsten Handelsplätze 2024
A3: Professionelle Kunden
A7: Kategorie des Finanzinstruments | B7: Eigenkapitalinstrumente
A8: Angabe, ob im Vorjahr im Durchschnitt <1 Handelsgeschäft pro Geschäftstag ausgeführt wurde | B8: Nein
A10: Die fünf Handelsplätze, die ausgehend vom Handelsvolumen am wichtigsten sind (in absteigender Reihenfolge nach Handelsvolumen) | B10: Anteil des Handeslvolumens als Prozentsatz des gesamten Volumens in dieser Kategorie | C10: Anteil der ausgeführten Aufträge als Prozentsatz aller Aufträge in dieser Kategorie | D10: Prozentsatz passiver Aufträge | E10: Prozentsatz aggressiver Aufträge | F10: Prozentsatz gelenkter Aufträge
A11: NASDAQ (XNAS) | B11: 0.026020118 | C11: 0.014386189 | D11: 0.0074260849 | E11: 0.018594033 | F11: 0
A12: New York Stock Exchange, Inc (XNYS) | B12: 0.024885659 | C12: 0.01001705 | D12: 0.0051361123 | E12: 0.019749547 | F12: 0
A13: SIX Swiss Exchange (XSWX) | B13: 0.020002233 | C13: 0.021526002 | D13: 0.013467635 | E13: 0.0065345984 | F13: 0
A14: London Stock Exchange Domestic/UK Market 1st Currency (XLON) | B14: 0.013546362 | C14: 0.011295823 | D14: 0.0011487714 | E14: 0.01239759 | F14: 0
A15: Euronext - Euronext Paris (XPAR) | B15: 0.010598151 | C15: 0.0015984655 | D15: 0.0016778962 | E15: 0.0089202552 | F15: 0

Sheet RTS28_P_Rohstoffderivate
A1: =RTS28_R_Aktienderivate!A1 -> Handelsvolumen der fünf wichtigsten Handelsplätze 2024
A3: Professionelle Kunden
A7: Kategorie des Finanzinstruments | B7: Rohstoffderivate
A8: Angabe, ob im Vorjahr im Durchschnitt <1 Handelsgeschäft pro Geschäftstag ausgeführt wurde | B8: Ja
A10: Die fünf Handelsplätze, die ausgehend vom Handelsvolumen am wichtigsten sind (in absteigender Reihenfolge nach Handelsvolumen) | B10: Anteil des Handeslvolumens als Prozentsatz des gesamten Volumens in dieser Kategorie | C10: Anteil der ausgeführten Aufträge als Prozentsatz aller Aufträge in dieser Kategorie | D10: Prozentsatz passiver Aufträge | E10: Prozentsatz aggressiver Aufträge | F10: Prozentsatz gelenkter Aufträge
A11: n/a | B11: 0 | C11: 0 | D11: 0 | E11: 0 | F11: 0

Sheet RTS28_P_Schuldtitel
A1: =RTS28_R_Aktienderivate!A1 -> Handelsvolumen der fünf wichtigsten Handelsplätze 2024
A3: Professionelle Kunden
A7: Kategorie des Finanzinstruments | B7: Schuldtitel
A8: Angabe, ob im Vorjahr im Durchschnitt <1 Handelsgeschäft pro Geschäftstag ausgeführt wurde | B8: Nein
A10: Die fünf Handelsplätze, die ausgehend vom Handelsvolumen am wichtigsten sind (in absteigender Reihenfolge nach Handelsvolumen) | B10: Anteil des Handeslvolumens als Prozentsatz des gesamten Volumens in dieser Kategorie | C10: Anteil der ausgeführten Aufträge als Prozentsatz aller Aufträge in dieser Kategorie | D10: Prozentsatz passiver Aufträge | E10: Prozentsatz aggressiver Aufträge | F10: Prozentsatz gelenkter Aufträge
A11: SIX Swiss Exchange (XSWX) | B11: 0.39534855 | C11: 0.23150844 | D11: 0.0011316918 | E11: 0.39421686 | F11: 0
A12: TRAX (XCOR) | B12: 0.10164401 | C12: 0.052999418 | D12: 0.0020961155 | E12: 0.099547893 | F12: 0
A13: TRADEWEB EU BV - MTF (TWEM) | B13: 0.017349886 | C13: 0.010483401 | D13: 0.0014944255 | E13: 0.01585546 | F13: 0
A14: BLOOMBERG TRADING FACILITY LIMITED (BMTF) | B14: 0.0029444636 | C14: 0.0058241118 | D14: 0.0016299167 | E14: 0.0013145469 | F14: 0
A15: OFF-EXCHANGE TRANSACTIONS - LISTED INSTRUMENTS (XOFF) | B15: 0.0024140377 | C15: 0.0032032615 | D15: 0.0017937416 | E15: 0.00062029603 | F15: 0

Sheet RTS28_P_Sonstige
A1: =RTS28_R_Aktienderivate!A1 -> Handelsvolumen der fünf wichtigsten Handelsplätze 2024
A3: Professionelle Kunden
A7: Kategorie des Finanzinstruments | B7: Sonstige Instrumente
A8: Angabe, ob im Vorjahr im Durchschnitt <1 Handelsgeschäft pro Geschäftstag ausgeführt wurde | B8: Nein
A10: Die fünf Handelsplätze, die ausgehend vom Handelsvolumen am wichtigsten sind (in absteigender Reihenfolge nach Handelsvolumen) | B10: Anteil des Handeslvolumens als Prozentsatz des gesamten Volumens in dieser Kategorie | C10: Anteil der ausgeführten Aufträge als Prozentsatz aller Aufträge in dieser Kategorie | D10: Prozentsatz passiver Aufträge | E10: Prozentsatz aggressiver Aufträge | F10: Prozentsatz gelenkter Aufträge
A11: NYSE Arca (ARCX) | B11: 0.20462278 | C11: 0.010561798 | D11: 0.19190288 | E11: 0.012719892 | F11: 0
A12: NASDAQ (XNAS) | B12: 0.18351094 | C12: 0.0094382022 | D12: 0.18288161 | E12: 0.00062932851 | F12: 0
A13: NYSE-CTA Cboe BZX U.S. Equities Exchange (BATS) | B13: 0.084221965 | C13: 0.0042696629 | D13: 0.083885346 | E13: 0.00033661881 | F13: 0
A14: Over the Counter (LOTC) | B14: 0.048070876 | C14: 0.12966292 | D14: 6.3521012e-05 | E14: 0.048007355 | F14: 0
A15: NYSE Arca, Listed Bonds (ARCX) | B15: 0.02151944 | C15: 0.008988764 | D15: 0.019117589 | E15: 0.0024018508 | F15: 0

Sheet RTS28_P_VerbriefteDerivate
A1: =RTS28_R_Aktienderivate!A1 -> Handelsvolumen der fünf wichtigsten Handelsplätze 2024
A3: Professionelle Kunden
A7: Kategorie des Finanzinstruments | B7: Verbriefte Derivate
A8: Angabe, ob im Vorjahr im Durchschnitt <1 Handelsgeschäft pro Geschäftstag ausgeführt wurde | B8: Ja
A10: Die fünf Handelsplätze, die ausgehend vom Handelsvolumen am wichtigsten sind (in absteigender Reihenfolge nach Handelsvolumen) | B10: Anteil des Handeslvolumens als Prozentsatz des gesamten Volumens in dieser Kategorie | C10: Anteil der ausgeführten Aufträge als Prozentsatz aller Aufträge in dieser Kategorie | D10: Prozentsatz passiver Aufträge | E10: Prozentsatz aggressiver Aufträge | F10: Prozentsatz gelenkter Aufträge
A11: SIX Swiss Exchange, Structured Products (XQMH) | B11: 0.071923804 | C11: 0.4375 | D11: 0.03958623 | E11: 0.032337574 | F11: 0

Sheet RTS28_P_StrukturierteProduke
A1: =RTS28_R_Aktienderivate!A1 -> Handelsvolumen der fünf wichtigsten Handelsplätze 2024
A3: Professionelle Kunden
A7: Kategorie des Finanzinstruments | B7: Strukturierte Finanzprodukte
A8: Angabe, ob im Vorjahr im Durchschnitt <1 Handelsgeschäft pro Geschäftstag ausgeführt wurde | B8: Nein
A10: Die fünf Handelsplätze, die ausgehend vom Handelsvolumen am wichtigsten sind (in absteigender Reihenfolge nach Handelsvolumen) | B10: Anteil des Handeslvolumens als Prozentsatz des gesamten Volumens in dieser Kategorie | C10: Anteil der ausgeführten Aufträge als Prozentsatz aller Aufträge in dieser Kategorie | D10: Prozentsatz passiver Aufträge | E10: Prozentsatz aggressiver Aufträge | F10: Prozentsatz gelenkter Aufträge
A11: SIX Swiss Exchange (XSWX) | B11: 0.23657079 | C11: 0.15432448 | D11: 0 | E11: 0.23657079 | F11: 0
A12: Over the Counter (LOTC) | B12: 0.030126564 | C12: 0.054833239 | D12: 0.0087956467 | E12: 0.021330917 | F12: 0
A13: TRADEWEB EU BV - MTF (TWEM) | B13: 0.0084614698 | C13: 0.0016958734 | D13: 0 | E13: 0.0084614698 | F13: 0
A14: TRAX (XCOR) | B14: 0.0056036722 | C14: 0.013001696 | D14: 0 | E14: 0.0056036722 | F14: 0
A15: SIX Swiss Exchange, Structured Products (XQMH) | B15: 0.0025791936 | C15: 0.0062182024 | D15: 0.0023174796 | E15: 0.00026171399 | F15: 0

Sheet RTS28_P_Zinsderivate
A1: =RTS28_R_Aktienderivate!A1 -> Handelsvolumen der fünf wichtigsten Handelsplätze 2024
A3: Professionelle Kunden
A7: Kategorie des Finanzinstruments | B7: Zinsderivate
A8: Angabe, ob im Vorjahr im Durchschnitt <1 Handelsgeschäft pro Geschäftstag ausgeführt wurde | B8: Ja
A10: Die fünf Handelsplätze, die ausgehend vom Handelsvolumen am wichtigsten sind (in absteigender Reihenfolge nach Handelsvolumen) | B10: Anteil des Handeslvolumens als Prozentsatz des gesamten Volumens in dieser Kategorie | C10: Anteil der ausgeführten Aufträge als Prozentsatz aller Aufträge in dieser Kategorie | D10: Prozentsatz passiver Aufträge | E10: Prozentsatz aggressiver Aufträge | F10: Prozentsatz gelenkter Aufträge
A11: n/a | B11: 0 | C11: 0 | D11: 0 | E11: 0 | F11: 0

Sheet RTS28_P_Währungsderivate
A1: =RTS28_R_Aktienderivate!A1 -> Handelsvolumen der fünf wichtigsten Handelsplätze 2024
A3: Professionelle Kunden
A7: Kategorie des Finanzinstruments | B7: Währungsderivate
A8: Angabe, ob im Vorjahr im Durchschnitt <1 Handelsgeschäft pro Geschäftstag ausgeführt wurde | B8: Nein
A10: Die fünf Handelsplätze, die ausgehend vom Handelsvolumen am wichtigsten sind (in absteigender Reihenfolge nach Handelsvolumen) | B10: Anteil des Handeslvolumens als Prozentsatz des gesamten Volumens in dieser Kategorie | C10: Anteil der ausgeführten Aufträge als Prozentsatz aller Aufträge in dieser Kategorie | D10: Prozentsatz passiver Aufträge | E10: Prozentsatz aggressiver Aufträge | F10: Prozentsatz gelenkter Aufträge
A11: Kaiser Partner Privatbank AG (529900DPOQPLDSF3R482) | B11: 0.65516815 | C11: 0.15241455 | D11: 0 | E11: 1 | F11: 0

Sheet RTS28_T_Aktienderivate
A1: =RTS28_R_Aktienderivate!A1 -> Handelsvolumen der fünf wichtigsten Handelsplätze 2024
A7: Kategorie des Finanzinstruments | B7: Aktienderivate
A8: Angabe, ob im Vorjahr im Durchschnitt <1 Handelsgeschäft pro Geschäftstag ausgeführt wurde | B8: Nein
A10: Die fünf Handelsplätze, die ausgehend vom Handelsvolumen am wichtigsten sind (in absteigender Reihenfolge nach Handelsvolumen) | B10: Anteil des Handeslvolumens als Prozentsatz des gesamten Volumens in dieser Kategorie | C10: Anteil der ausgeführten Aufträge als Prozentsatz aller Aufträge in dieser Kategorie
A11: Options Price Reporting Authority (OPRA) | B11: 0.62185443 | C11: 0.64026403
A12: Eurex Frankfurt AG (XEUR) | B12: 0.3735926 | C12: 0.34983498
A13: The Montreal Exchange / Bourse de Montreal (XMOD) | B13: 0.0025648509 | C13: 0.00330033
A14: Nasdaq Copenhagen Derivatives (XCSE) | B14: 0.0010845239 | C14: 0.00330033
A15: Over the Counter (LOTC) | B15: 0.00090359141 | C15: 0.00330033

Sheet RTS28_T_Eigenkapitalinstrumente
A1: =RTS28_R_Aktienderivate!A1 -> Handelsvolumen der fünf wichtigsten Handelsplätze 2024
A7: Kategorie des Finanzinstruments | B7: Eigenkapitalinstrumente
A8: Angabe, ob im Vorjahr im Durchschnitt <1 Handelsgeschäft pro Geschäftstag ausgeführt wurde | B8: Nein
A10: Die fünf Handelsplätze, die ausgehend vom Handelsvolumen am wichtigsten sind (in absteigender Reihenfolge nach Handelsvolumen) | B10: Anteil des Handeslvolumens als Prozentsatz des gesamten Volumens in dieser Kategorie | C10: Anteil der ausgeführten Aufträge als Prozentsatz aller Aufträge in dieser Kategorie
A11: New York Stock Exchange, Inc (XNYS) | B11: 0.19030031 | C11: 0.15803495
A12: SIX Swiss Exchange (XSWX) | B12: 0.17219151 | C12: 0.3134058
A13: NASDAQ (XNAS) | B13: 0.14845025 | C13: 0.11732737
A14: London Stock Exchange Domestic/UK Market 1st Currency (XLON) | B14: 0.075708406 | C14: 0.045822677
A15: AQUIS Exchange Alternate Currencies (AQXE) | B15: 0.051393684 | C15: 0.011189258

Sheet RTS28_T_Rohstoffderivate
A1: =RTS28_R_Aktienderivate!A1 -> Handelsvolumen der fünf wichtigsten Handelsplätze 2024
A7: Kategorie des Finanzinstruments | B7: Rohstoffderivate
A8: Angabe, ob im Vorjahr im Durchschnitt <1 Handelsgeschäft pro Geschäftstag ausgeführt wurde | B8: Ja
A10: Die fünf Handelsplätze, die ausgehend vom Handelsvolumen am wichtigsten sind (in absteigender Reihenfolge nach Handelsvolumen) | B10: Anteil des Handeslvolumens als Prozentsatz des gesamten Volumens in dieser Kategorie | C10: Anteil der ausgeführten Aufträge als Prozentsatz aller Aufträge in dieser Kategorie
A11: n/a | B11: 0 | C11: 0

Sheet RTS28_T_Schuldtitel
A1: =RTS28_R_Aktienderivate!A1 -> Handelsvolumen der fünf wichtigsten Handelsplätze 2024
A7: Kategorie des Finanzinstruments | B7: Schuldtitel
A8: Angabe, ob im Vorjahr im Durchschnitt <1 Handelsgeschäft pro Geschäftstag ausgeführt wurde | B8: Nein
A10: Die fünf Handelsplätze, die ausgehend vom Handelsvolumen am wichtigsten sind (in absteigender Reihenfolge nach Handelsvolumen) | B10: Anteil des Handeslvolumens als Prozentsatz des gesamten Volumens in dieser Kategorie | C10: Anteil der ausgeführten Aufträge als Prozentsatz aller Aufträge in dieser Kategorie
A11: SIX Swiss Exchange (XSWX) | B11: 0.48576577 | C11: 0.30605708
A12: TRAX (XCOR) | B12: 0.20260691 | C12: 0.25975539
A13: TRADEWEB EU BV - MTF (TWEM) | B13: 0.18772323 | C13: 0.2862551
A14: BLOOMBERG TRADING FACILITY LIMITED (BMTF) | B14: 0.063165744 | C14: 0.062317997
A15: BT Funds Management Ltd (BTFE) | B15: 0.034392008 | C15: 0.023878858

Sheet RTS28_T_Sonstige
A1: =RTS28_R_Aktienderivate!A1 -> Handelsvolumen der fünf wichtigsten Handelsplätze 2024
A7: Kategorie des Finanzinstruments | B7: Sonstige Instrumente
A8: Angabe, ob im Vorjahr im Durchschnitt <1 Handelsgeschäft pro Geschäftstag ausgeführt wurde | B8: Nein
A10: Die fünf Handelsplätze, die ausgehend vom Handelsvolumen am wichtigsten sind (in absteigender Reihenfolge nach Handelsvolumen) | B10: Anteil des Handeslvolumens als Prozentsatz des gesamten Volumens in dieser Kategorie | C10: Anteil der ausgeführten Aufträge als Prozentsatz aller Aufträge in dieser Kategorie
A11: NYSE Arca (ARCX) | B11: 0.22978096 | C11: 0.062022472
A12: NASDAQ (XNAS) | B12: 0.21050058 | C12: 0.068988764
A13: NYSE-CTA Cboe BZX U.S. Equities Exchange (BATS) | B13: 0.1311967 | C13: 0.022022472
A14: Over the Counter (LOTC) | B14: 0.10239201 | C14: 0.14764045
A15: NYSE Arca, Listed Bonds (ARCX) | B15: 0.061172776 | C15: 0.06494382

Sheet RTS28_T_VerbriefteDerivate
A1: =RTS28_R_Aktienderivate!A1 -> Handelsvolumen der fünf wichtigsten Handelsplätze 2024
A7: Kategorie des Finanzinstruments | B7: Verbriefte Derivate
A8: Angabe, ob im Vorjahr im Durchschnitt <1 Handelsgeschäft pro Geschäftstag ausgeführt wurde | B8: Ja
A10: Die fünf Handelsplätze, die ausgehend vom Handelsvolumen am wichtigsten sind (in absteigender Reihenfolge nach Handelsvolumen) | B10: Anteil des Handeslvolumens als Prozentsatz des gesamten Volumens in dieser Kategorie | C10: Anteil der ausgeführten Aufträge als Prozentsatz aller Aufträge in dieser Kategorie
A11: Over the Counter (LOTC) | B11: 0.53245554 | C11: 0.25
A12: Nasdaq First North Stockholm Equities - SME Growth Market (SSME) | B12: 0.26523421 | C12: 0.125
A13: Other OTC Market (OOTC) | B13: 0.075967009 | C13: 0.125
A14: SIX Swiss Exchange, Structured Products (XQMH) | B14: 0.071923804 | C14: 0.4375
A15: Euwax (EUWX) | B15: 0.054419433 | C15: 0.0625

Sheet RTS28_T_StrukturierteProdukte
A1: =RTS28_R_Aktienderivate!A1 -> Handelsvolumen der fünf wichtigsten Handelsplätze 2024
A7: Kategorie des Finanzinstruments | B7: Strukturierte Finanzprodukte
A8: Angabe, ob im Vorjahr im Durchschnitt <1 Handelsgeschäft pro Geschäftstag ausgeführt wurde | B8: Nein
A10: Die fünf Handelsplätze, die ausgehend vom Handelsvolumen am wichtigsten sind (in absteigender Reihenfolge nach Handelsvolumen) | B10: Anteil des Handeslvolumens als Prozentsatz des gesamten Volumens in dieser Kategorie | C10: Anteil der ausgeführten Aufträge als Prozentsatz aller Aufträge in dieser Kategorie
A11: SIX Swiss Exchange (XSWX) | B11: 0.48262585 | C11: 0.4838892
A12: Over the Counter (LOTC) | B12: 0.44881247 | C12: 0.33408705
A13: TRAX (XCOR) | B13: 0.031174238 | C13: 0.045788581
A14: TRADEWEB EU BV - MTF (TWEM) | B14: 0.0092780619 | C14: 0.004522329
A15: SIX Swiss Exchange, Structured Products (XQMH) | B15: 0.0069589944 | C15: 0.024307518

Sheet RTS28_T_Zinsderivate
A1: =RTS28_R_Aktienderivate!A1 -> Handelsvolumen der fünf wichtigsten Handelsplätze 2024
A7: Kategorie des Finanzinstruments | B7: Zinsderivate
A8: Angabe, ob im Vorjahr im Durchschnitt <1 Handelsgeschäft pro Geschäftstag ausgeführt wurde | B8: Ja
A10: Die fünf Handelsplätze, die ausgehend vom Handelsvolumen am wichtigsten sind (in absteigender Reihenfolge nach Handelsvolumen) | B10: Anteil des Handeslvolumens als Prozentsatz des gesamten Volumens in dieser Kategorie | C10: Anteil der ausgeführten Aufträge als Prozentsatz aller Aufträge in dieser Kategorie
A11: n/a | B11: 0 | C11: 0

Sheet RTS28_T_Währungsderivate
A1: =RTS28_R_Aktienderivate!A1 -> Handelsvolumen der fünf wichtigsten Handelsplätze 2024
A7: Kategorie des Finanzinstruments | B7: Währungsderivate
A8: Angabe, ob im Vorjahr im Durchschnitt <1 Handelsgeschäft pro Geschäftstag ausgeführt wurde | B8: Nein
A10: Die fünf Handelsplätze, die ausgehend vom Handelsvolumen am wichtigsten sind (in absteigender Reihenfolge nach Handelsvolumen) | B10: Anteil des Handeslvolumens als Prozentsatz des gesamten Volumens in dieser Kategorie | C10: Anteil der ausgeführten Aufträge als Prozentsatz aller Aufträge in dieser Kategorie
A11: Kaiser Partner Privatbank AG (529900DPOQPLDSF3R482) | B11: 1 | C11: 1

Sheet RTS28_R_Equity_Derivates
A1: Trading volumes of top five execution venues 2024
A3: Retail clients
A7: Class of Instrument | B7: Equity derivates
A8: Notification if <1 average trade per business day in the previous year | B8: =IF(RTS28_R_Aktienderivate!B8="Ja","Yes","No") -> Yes
A10: Top five execution venues ranked in terms of trading volumes (descending order) | B10: Proportion of volume traded as a percentage of total in that class | C10: Proportion of orders executed as percentage of total in that class | D10: Percentage of passive orders | E10: Percentage of aggressive orders | F10: Percentage of directed orders
A11: =IF(ISBLANK(RTS28_R_Aktienderivate!A11),"",RTS28_R_Aktienderivate!A11) -> Options Price Reporting Authority (OPRA) | B11: =IF(ISBLANK(RTS28_R_Aktienderivate!B11),"",RTS28_R_Aktienderivate!B11) -> 0.50071347 | C11: =IF(ISBLANK(RTS28_R_Aktienderivate!C11),"",RTS28_R_Aktienderivate!C11) -> 0.37293729 | D11: =IF(ISBLANK(RTS28_R_Aktienderivate!D11),"",RTS28_R_Aktienderivate!D11) -> 0 | E11: =IF(ISBLANK(RTS28_R_Aktienderivate!E11),"",RTS28_R_Aktienderivate!E11) -> 0.50071347 | F11: =IF(ISBLANK(RTS28_R_Aktienderivate!F11),"",RTS28_R_Aktienderivate!F11) -> 0
A12: =IF(ISBLANK(RTS28_R_Aktienderivate!A12),"",RTS28_R_Aktienderivate!A12) -> Eurex Frankfurt AG (XEUR) | B12: =IF(ISBLANK(RTS28_R_Aktienderivate!B12),"",RTS28_R_Aktienderivate!B12) -> 0.177708 | C12: =IF(ISBLANK(RTS28_R_Aktienderivate!C12),"",RTS28_R_Aktienderivate!C12) -> 0.11881188 | D12: =IF(ISBLANK(RTS28_R_Aktienderivate!D12),"",RTS28_R_Aktienderivate!D12) -> 0 | E12: =IF(ISBLANK(RTS28_R_Aktienderivate!E12),"",RTS28_R_Aktienderivate!E12) -> 0.177708 | F12: =IF(ISBLANK(RTS28_R_Aktienderivate!F12),"",RTS28_R_Aktienderivate!F12) -> 0
A13: =IF(ISBLANK(RTS28_R_Aktienderivate!A13),"",RTS28_R_Aktienderivate!A13) -> The Montreal Exchange / Bourse de Montreal (XMOD) | B13: =IF(ISBLANK(RTS28_R_Aktienderivate!B13),"",RTS28_R_Aktienderivate!B13) -> 0.0025648509 | C13: =IF(ISBLANK(RTS28_R_Aktienderivate!C13),"",RTS28_R_Aktienderivate!C13) -> 0.00330033 | D13: =IF(ISBLANK(RTS28_R_Aktienderivate!D13),"",RTS28_R_Aktienderivate!D13) -> 0 | E13: =IF(ISBLANK(RTS28_R_Aktienderivate!E13),"",RTS28_R_Aktienderivate!E13) -> 0.0025648509 | F13: =IF(ISBLANK(RTS28_R_Aktienderivate!F13),"",RTS28_R_Aktienderivate!F13) -> 0
A14: =IF(ISBLANK(RTS28_R_Aktienderivate!A14),"",RTS28_R_Aktienderivate!A14) -> Nasdaq Copenhagen Derivatives (XCSE) | B14: =IF(ISBLANK(RTS28_R_Aktienderivate!B14),"",RTS28_R_Aktienderivate!B14) -> 0.0010845239 | C14: =IF(ISBLANK(RTS28_R_Aktienderivate!C14),"",RTS28_R_Aktienderivate!C14) -> 0.00330033 | D14: =IF(ISBLANK(RTS28_R_Aktienderivate!D14),"",RTS28_R_Aktienderivate!D14) -> 0 | E14: =IF(ISBLANK(RTS28_R_Aktienderivate!E14),"",RTS28_R_Aktienderivate!E14) -> 0.0010845239 | F14: =IF(ISBLANK(RTS28_R_Aktienderivate!F14),"",RTS28_R_Aktienderivate!F14) -> 0
A15: =IF(ISBLANK(RTS28_R_Aktienderivate!A15),"",RTS28_R_Aktienderivate!A15) -> Over the Counter (LOTC) | B15: =IF(ISBLANK(RTS28_R_Aktienderivate!B15),"",RTS28_R_Aktienderivate!B15) -> 0.00090359141 | C15: =IF(ISBLANK(RTS28_R_Aktienderivate!C15),"",RTS28_R_Aktienderivate!C15) -> 0.00330033 | D15: =IF(ISBLANK(RTS28_R_Aktienderivate!D15),"",RTS28_R_Aktienderivate!D15) -> 0 | E15: =IF(ISBLANK(RTS28_R_Aktienderivate!E15),"",RTS28_R_Aktienderivate!E15) -> 0.00090359141 | F15: =IF(ISBLANK(RTS28_R_Aktienderivate!F15),"",RTS28_R_Aktienderivate!F15) -> 0

Sheet RTS28_R_Equities_Shares
A1: =RTS28_R_Equity_Derivates!A1 -> Trading volumes of top five execution venues 2024
A3: Retail clients
A7: Class of Instrument | B7: Equities - Shares & Depository receipts
A8: Notification if <1 average trade per business day in the previous year | B8: =IF(RTS28_R_Eigenkapitalinstrumente!B8="Ja","Yes","No") -> No
A10: Top five execution venues ranked in terms of trading volumes (descending order) | B10: Proportion of volume traded as a percentage of total in that class | C10: Proportion of orders executed as percentage of total in that class | D10: Percentage of passive orders | E10: Percentage of aggressive orders | F10: Percentage of directed orders
A11: =IF(ISBLANK(RTS28_R_Eigenkapitalinstrumente!A11),"",RTS28_R_Eigenkapitalinstrumente!A11) -> New York Stock Exchange, Inc (XNYS) | B11: =IF(ISBLANK(RTS28_R_Eigenkapitalinstrumente!B11),"",RTS28_R_Eigenkapitalinstrumente!B11) -> 0.16541465 | C11: =IF(ISBLANK(RTS28_R_Eigenkapitalinstrumente!C11),"",RTS28_R_Eigenkapitalinstrumente!C11) -> 0.1480179 | D11: =IF(ISBLANK(RTS28_R_Eigenkapitalinstrumente!D11),"",RTS28_R_Eigenkapitalinstrumente!D11) -> 0.011388157 | E11: =IF(ISBLANK(RTS28_R_Eigenkapitalinstrumente!E11),"",RTS28_R_Eigenkapitalinstrumente!E11) -> 0.15402649 | F11: =IF(ISBLANK(RTS28_R_Eigenkapitalinstrumente!F11),"",RTS28_R_Eigenkapitalinstrumente!F11) -> 0
A12: =IF(ISBLANK(RTS28_R_Eigenkapitalinstrumente!A12),"",RTS28_R_Eigenkapitalinstrumente!A12) -> SIX Swiss Exchange (XSWX) | B12: =IF(ISBLANK(RTS28_R_Eigenkapitalinstrumente!B12),"",RTS28_R_Eigenkapitalinstrumente!B12) -> 0.15218928 | C12: =IF(ISBLANK(RTS28_R_Eigenkapitalinstrumente!C12),"",RTS28_R_Eigenkapitalinstrumente!C12) -> 0.2918798 | D12: =IF(ISBLANK(RTS28_R_Eigenkapitalinstrumente!D12),"",RTS28_R_Eigenkapitalinstrumente!D12) -> 0.020952123 | E12: =IF(ISBLANK(RTS28_R_Eigenkapitalinstrumente!E12),"",RTS28_R_Eigenkapitalinstrumente!E12) -> 0.13123715 | F12: =IF(ISBLANK(RTS28_R_Eigenkapitalinstrumente!F12),"",RTS28_R_Eigenkapitalinstrumente!F12) -> 0
A13: =IF(ISBLANK(RTS28_R_Eigenkapitalinstrumente!A13),"",RTS28_R_Eigenkapitalinstrumente!A13) -> NASDAQ (XNAS) | B13: =IF(ISBLANK(RTS28_R_Eigenkapitalinstrumente!B13),"",RTS28_R_Eigenkapitalinstrumente!B13) -> 0.12243013 | C13: =IF(ISBLANK(RTS28_R_Eigenkapitalinstrumente!C13),"",RTS28_R_Eigenkapitalinstrumente!C13) -> 0.10294118 | D13: =IF(ISBLANK(RTS28_R_Eigenkapitalinstrumente!D13),"",RTS28_R_Eigenkapitalinstrumente!D13) -> 0.016019338 | E13: =IF(ISBLANK(RTS28_R_Eigenkapitalinstrumente!E13),"",RTS28_R_Eigenkapitalinstrumente!E13) -> 0.10641079 | F13: =IF(ISBLANK(RTS28_R_Eigenkapitalinstrumente!F13),"",RTS28_R_Eigenkapitalinstrumente!F13) -> 0
A14: =IF(ISBLANK(RTS28_R_Eigenkapitalinstrumente!A14),"",RTS28_R_Eigenkapitalinstrumente!A14) -> London Stock Exchange Domestic/UK Market 1st Currency (XLON) | B14: =IF(ISBLANK(RTS28_R_Eigenkapitalinstrumente!B14),"",RTS28_R_Eigenkapitalinstrumente!B14) -> 0.062162044 | C14: =IF(ISBLANK(RTS28_R_Eigenkapitalinstrumente!C14),"",RTS28_R_Eigenkapitalinstrumente!C14) -> 0.034526854 | D14: =IF(ISBLANK(RTS28_R_Eigenkapitalinstrumente!D14),"",RTS28_R_Eigenkapitalinstrumente!D14) -> 0.042108924 | E14: =IF(ISBLANK(RTS28_R_Eigenkapitalinstrumente!E14),"",RTS28_R_Eigenkapitalinstrumente!E14) -> 0.02005312 | F14: =IF(ISBLANK(RTS28_R_Eigenkapitalinstrumente!F14),"",RTS28_R_Eigenkapitalinstrumente!F14) -> 0
A15: =IF(ISBLANK(RTS28_R_Eigenkapitalinstrumente!A15),"",RTS28_R_Eigenkapitalinstrumente!A15) -> AQUIS Exchange Alternate Currencies (AQXE) | B15: =IF(ISBLANK(RTS28_R_Eigenkapitalinstrumente!B15),"",RTS28_R_Eigenkapitalinstrumente!B15) -> 0.050781721 | C15: =IF(ISBLANK(RTS28_R_Eigenkapitalinstrumente!C15),"",RTS28_R_Eigenkapitalinstrumente!C15) -> 0.01097613 | D15: =IF(ISBLANK(RTS28_R_Eigenkapitalinstrumente!D15),"",RTS28_R_Eigenkapitalinstrumente!D15) -> 0.042032033 | E15: =IF(ISBLANK(RTS28_R_Eigenkapitalinstrumente!E15),"",RTS28_R_Eigenkapitalinstrumente!E15) -> 0.0087496883 | F15: =IF(ISBLANK(RTS28_R_Eigenkapitalinstrumente!F15),"",RTS28_R_Eigenkapitalinstrumente!F15) -> 0

Sheet RTS28_R_Commodities_derivate
A1: =RTS28_R_Equity_Derivates!A1 -> Trading volumes of top five execution venues 2024
A3: Retail clients
A7: Class of Instrument | B7: Commodities derivate
A8: Notification if <1 average trade per business day in the previous year | B8: =IF(RTS28_R_Rohstoffderivate!B8="Ja","Yes","No") -> Yes
A10: Top five execution venues ranked in terms of trading volumes (descending order) | B10: Proportion of volume traded as a percentage of total in that class | C10: Proportion of orders executed as percentage of total in that class | D10: Percentage of passive orders | E10: Percentage of aggressive orders | F10: Percentage of directed orders
A11: =IF(ISBLANK(RTS28_R_Rohstoffderivate!A11),"",RTS28_R_Rohstoffderivate!A11) -> n/a | B11: =IF(ISBLANK(RTS28_R_Rohstoffderivate!B11),"",RTS28_R_Rohstoffderivate!B11) -> 0 | C11: =IF(ISBLANK(RTS28_R_Rohstoffderivate!C11),"",RTS28_R_Rohstoffderivate!C11) -> 0 | D11: =IF(ISBLANK(RTS28_R_Rohstoffderivate!D11),"",RTS28_R_Rohstoffderivate!D11) -> 0 | E11: =IF(ISBLANK(RTS28_R_Rohstoffderivate!E11),"",RTS28_R_Rohstoffderivate!E11) -> 0 | F11: =IF(ISBLANK(RTS28_R_Rohstoffderivate!F11),"",RTS28_R_Rohstoffderivate!F11) -> 0
A12: =IF(ISBLANK(RTS28_R_Rohstoffderivate!A12),"",RTS28_R_Rohstoffderivate!A12) | B12: =IF(ISBLANK(RTS28_R_Rohstoffderivate!B12),"",RTS28_R_Rohstoffderivate!B12) | C12: =IF(ISBLANK(RTS28_R_Rohstoffderivate!C12),"",RTS28_R_Rohstoffderivate!C12) | D12: =IF(ISBLANK(RTS28_R_Rohstoffderivate!D12),"",RTS28_R_Rohstoffderivate!D12) | E12: =IF(ISBLANK(RTS28_R_Rohstoffderivate!E12),"",RTS28_R_Rohstoffderivate!E12) | F12: =IF(ISBLANK(RTS28_R_Rohstoffderivate!F12),"",RTS28_R_Rohstoffderivate!F12)
A13: =IF(ISBLANK(RTS28_R_Rohstoffderivate!A13),"",RTS28_R_Rohstoffderivate!A13) | B13: =IF(ISBLANK(RTS28_R_Rohstoffderivate!B13),"",RTS28_R_Rohstoffderivate!B13) | C13: =IF(ISBLANK(RTS28_R_Rohstoffderivate!C13),"",RTS28_R_Rohstoffderivate!C13) | D13: =IF(ISBLANK(RTS28_R_Rohstoffderivate!D13),"",RTS28_R_Rohstoffderivate!D13) | E13: =IF(ISBLANK(RTS28_R_Rohstoffderivate!E13),"",RTS28_R_Rohstoffderivate!E13) | F13: =IF(ISBLANK(RTS28_R_Rohstoffderivate!F13),"",RTS28_R_Rohstoffderivate!F13)
A14: =IF(ISBLANK(RTS28_R_Rohstoffderivate!A14),"",RTS28_R_Rohstoffderivate!A14) | B14: =IF(ISBLANK(RTS28_R_Rohstoffderivate!B14),"",RTS28_R_Rohstoffderivate!B14) | C14: =IF(ISBLANK(RTS28_R_Rohstoffderivate!C14),"",RTS28_R_Rohstoffderivate!C14) | D14: =IF(ISBLANK(RTS28_R_Rohstoffderivate!D14),"",RTS28_R_Rohstoffderivate!D14) | E14: =IF(ISBLANK(RTS28_R_Rohstoffderivate!E14),"",RTS28_R_Rohstoffderivate!E14) | F14: =IF(ISBLANK(RTS28_R_Rohstoffderivate!F14),"",RTS28_R_Rohstoffderivate!F14)
A15: =IF(ISBLANK(RTS28_R_Rohstoffderivate!A15),"",RTS28_R_Rohstoffderivate!A15) | B15: =IF(ISBLANK(RTS28_R_Rohstoffderivate!B15),"",RTS28_R_Rohstoffderivate!B15) | C15: =IF(ISBLANK(RTS28_R_Rohstoffderivate!C15),"",RTS28_R_Rohstoffderivate!C15) | D15: =IF(ISBLANK(RTS28_R_Rohstoffderivate!D15),"",RTS28_R_Rohstoffderivate!D15) | E15: =IF(ISBLANK(RTS28_R_Rohstoffderivate!E15),"",RTS28_R_Rohstoffderivate!E15) | F15: =IF(ISBLANK(RTS28_R_Rohstoffderivate!F15),"",RTS28_R_Rohstoffderivate!F15)

Sheet RTS28_R_Debt_instruments
A1: =RTS28_R_Equity_Derivates!A1 -> Trading volumes of top five execution venues 2024
A3: Retail clients
A7: Class of Instrument | B7: Debt instruments
A8: Notification if <1 average trade per business day in the previous year | B8: =IF(RTS28_R_Schuldtitel!B8="Ja","Yes","No") -> No
A10: Top five execution venues ranked in terms of trading volumes (descending order) | B10: Proportion of volume traded as a percentage of total in that class | C10: Proportion of orders executed as percentage of total in that class | D10: Percentage of passive orders | E10: Percentage of aggressive orders | F10: Percentage of directed orders
A11: =IF(ISBLANK(RTS28_R_Schuldtitel!A11),"",RTS28_R_Schuldtitel!A11) -> TRADEWEB EU BV - MTF (TWEM) | B11: =IF(ISBLANK(RTS28_R_Schuldtitel!B11),"",RTS28_R_Schuldtitel!B11) -> 0.17037334 | C11: =IF(ISBLANK(RTS28_R_Schuldtitel!C11),"",RTS28_R_Schuldtitel!C11) -> 0.27577169 | D11: =IF(ISBLANK(RTS28_R_Schuldtitel!D11),"",RTS28_R_Schuldtitel!D11) -> 0.027023789 | E11: =IF(ISBLANK(RTS28_R_Schuldtitel!E11),"",RTS28_R_Schuldtitel!E11) -> 0.14334956 | F11: =IF(ISBLANK(RTS28_R_Schuldtitel!F11),"",RTS28_R_Schuldtitel!F11) -> 0
A12: =IF(ISBLANK(RTS28_R_Schuldtitel!A12),"",RTS28_R_Schuldtitel!A12) -> TRAX (XCOR) | B12: =IF(ISBLANK(RTS28_R_Schuldtitel!B12),"",RTS28_R_Schuldtitel!B12) -> 0.1009629 | C12: =IF(ISBLANK(RTS28_R_Schuldtitel!C12),"",RTS28_R_Schuldtitel!C12) -> 0.20675597 | D12: =IF(ISBLANK(RTS28_R_Schuldtitel!D12),"",RTS28_R_Schuldtitel!D12) -> 0.024387113 | E12: =IF(ISBLANK(RTS28_R_Schuldtitel!E12),"",RTS28_R_Schuldtitel!E12) -> 0.076575788 | F12: =IF(ISBLANK(RTS28_R_Schuldtitel!F12),"",RTS28_R_Schuldtitel!F12) -> 0
A13: =IF(ISBLANK(RTS28_R_Schuldtitel!A13),"",RTS28_R_Schuldtitel!A13) -> SIX Swiss Exchange (XSWX) | B13: =IF(ISBLANK(RTS28_R_Schuldtitel!B13),"",RTS28_R_Schuldtitel!B13) -> 0.090417219 | C13: =IF(ISBLANK(RTS28_R_Schuldtitel!C13),"",RTS28_R_Schuldtitel!C13) -> 0.074548631 | D13: =IF(ISBLANK(RTS28_R_Schuldtitel!D13),"",RTS28_R_Schuldtitel!D13) -> 0.0015049103 | E13: =IF(ISBLANK(RTS28_R_Schuldtitel!E13),"",RTS28_R_Schuldtitel!E13) -> 0.088912308 | F13: =IF(ISBLANK(RTS28_R_Schuldtitel!F13),"",RTS28_R_Schuldtitel!F13) -> 0
A14: =IF(ISBLANK(RTS28_R_Schuldtitel!A14),"",RTS28_R_Schuldtitel!A14) -> BLOOMBERG TRADING FACILITY LIMITED (BMTF) | B14: =IF(ISBLANK(RTS28_R_Schuldtitel!B14),"",RTS28_R_Schuldtitel!B14) -> 0.06022128 | C14: =IF(ISBLANK(RTS28_R_Schuldtitel!C14),"",RTS28_R_Schuldtitel!C14) -> 0.056493885 | D14: =IF(ISBLANK(RTS28_R_Schuldtitel!D14),"",RTS28_R_Schuldtitel!D14) -> 0.041345287 | E14: =IF(ISBLANK(RTS28_R_Schuldtitel!E14),"",RTS28_R_Schuldtitel!E14) -> 0.018875994 | F14: =IF(ISBLANK(RTS28_R_Schuldtitel!F14),"",RTS28_R_Schuldtitel!F14) -> 0
A15: =IF(ISBLANK(RTS28_R_Schuldtitel!A15),"",RTS28_R_Schuldtitel!A15) -> BT Funds Management Ltd (BTFE) | B15: =IF(ISBLANK(RTS28_R_Schuldtitel!B15),"",RTS28_R_Schuldtitel!B15) -> 0.033645496 | C15: =IF(ISBLANK(RTS28_R_Schuldtitel!C15),"",RTS28_R_Schuldtitel!C15) -> 0.022131625 | D15: =IF(ISBLANK(RTS28_R_Schuldtitel!D15),"",RTS28_R_Schuldtitel!D15) -> 0.032042115 | E15: =IF(ISBLANK(RTS28_R_Schuldtitel!E15),"",RTS28_R_Schuldtitel!E15) -> 0.0016033811 | F15: =IF(ISBLANK(RTS28_R_Schuldtitel!F15),"",RTS28_R_Schuldtitel!F15) -> 0

Sheet RTS28_R_Other
A1: =RTS28_R_Equity_Derivates!A1 -> Trading volumes of top five execution venues 2024
A3: Retail clients
A7: Class of Instrument | B7: Other instruments
A8: Notification if <1 average trade per business day in the previous year | B8: =IF(RTS28_R_Sonstige!B8="Ja","Yes","No") -> No
A10: Top five execution venues ranked in terms of trading volumes (descending order) | B10: Proportion of volume traded as a percentage of total in that class | C10: Proportion of orders executed as percentage of total in that class | D10: Percentage of passive orders | E10: Percentage of aggressive orders | F10: Percentage of directed orders
A11: =IF(ISBLANK(RTS28_R_Sonstige!A11),"",RTS28_R_Sonstige!A11) -> London Stock Exchange Domestic/UK Market 1st Currency (XLON) | B11: =IF(ISBLANK(RTS28_R_Sonstige!B11),"",RTS28_R_Sonstige!B11) -> 0.054789865 | C11: =IF(ISBLANK(RTS28_R_Sonstige!C11),"",RTS28_R_Sonstige!C11) -> 0.059550562 | D11: =IF(ISBLANK(RTS28_R_Sonstige!D11),"",RTS28_R_Sonstige!D11) -> 2.1649194e-05 | E11: =IF(ISBLANK(RTS28_R_Sonstige!E11),"",RTS28_R_Sonstige!E11) -> 0.054768216 | F11: =IF(ISBLANK(RTS28_R_Sonstige!F11),"",RTS28_R_Sonstige!F11) -> 0
A12: =IF(ISBLANK(RTS28_R_Sonstige!A12),"",RTS28_R_Sonstige!A12) -> Over the Counter (LOTC) | B12: =IF(ISBLANK(RTS28_R_Sonstige!B12),"",RTS28_R_Sonstige!B12) -> 0.05432113 | C12: =IF(ISBLANK(RTS28_R_Sonstige!C12),"",RTS28_R_Sonstige!C12) -> 0.017977528 | D12: =IF(ISBLANK(RTS28_R_Sonstige!D12),"",RTS28_R_Sonstige!D12) -> 0.0011832758 | E12: =IF(ISBLANK(RTS28_R_Sonstige!E12),"",RTS28_R_Sonstige!E12) -> 0.053137854 | F12: =IF(ISBLANK(RTS28_R_Sonstige!F12),"",RTS28_R_Sonstige!F12) -> 0
A13: =IF(ISBLANK(RTS28_R_Sonstige!A13),"",RTS28_R_Sonstige!A13) -> NYSE-CTA Cboe BZX U.S. Equities Exchange (BATS) | B13: =IF(ISBLANK(RTS28_R_Sonstige!B13),"",RTS28_R_Sonstige!B13) -> 0.046974731 | C13: =IF(ISBLANK(RTS28_R_Sonstige!C13),"",RTS28_R_Sonstige!C13) -> 0.017752809 | D13: =IF(ISBLANK(RTS28_R_Sonstige!D13),"",RTS28_R_Sonstige!D13) -> 3.2052535e-05 | E13: =IF(ISBLANK(RTS28_R_Sonstige!E13),"",RTS28_R_Sonstige!E13) -> 0.046942679 | F13: =IF(ISBLANK(RTS28_R_Sonstige!F13),"",RTS28_R_Sonstige!F13) -> 0
A14: =IF(ISBLANK(RTS28_R_Sonstige!A14),"",RTS28_R_Sonstige!A14) -> NYSE Arca, Listed Bonds (ARCX) | B14: =IF(ISBLANK(RTS28_R_Sonstige!B14),"",RTS28_R_Sonstige!B14) -> 0.039653335 | C14: =IF(ISBLANK(RTS28_R_Sonstige!C14),"",RTS28_R_Sonstige!C14) -> 0.055955056 | D14: =IF(ISBLANK(RTS28_R_Sonstige!D14),"",RTS28_R_Sonstige!D14) -> 0.011989781 | E14: =IF(ISBLANK(RTS28_R_Sonstige!E14),"",RTS28_R_Sonstige!E14) -> 0.027663554 | F14: =IF(ISBLANK(RTS28_R_Sonstige!F14),"",RTS28_R_Sonstige!F14) -> 0
A15: =IF(ISBLANK(RTS28_R_Sonstige!A15),"",RTS28_R_Sonstige!A15) -> TRADEWEB EU BV - MTF (TWEM) | B15: =IF(ISBLANK(RTS28_R_Sonstige!B15),"",RTS28_R_Sonstige!B15) -> 0.036092634 | C15: =IF(ISBLANK(RTS28_R_Sonstige!C15),"",RTS28_R_Sonstige!C15) -> 0.13033708 | D15: =IF(ISBLANK(RTS28_R_Sonstige!D15),"",RTS28_R_Sonstige!D15) -> 0.0040328877 | E15: =IF(ISBLANK(RTS28_R_Sonstige!E15),"",RTS28_R_Sonstige!E15) -> 0.032059747 | F15: =IF(ISBLANK(RTS28_R_Sonstige!F15),"",RTS28_R_Sonstige!F15) -> 0

Sheet RTS28_R_Securitized_derivates
A1: =RTS28_R_Equity_Derivates!A1 -> Trading volumes of top five execution venues 2024
A3: Retail clients
A7: Class of Instrument | B7: Securitized derivates
A8: Notification if <1 average trade per business day in the previous year | B8: =IF(RTS28_R_VerbriefteDerivate!B8="Ja","Yes","No") -> Yes
A10: Top five execution venues ranked in terms of trading volumes (descending order) | B10: Proportion of volume traded as a percentage of total in that class | C10: Proportion of orders executed as percentage of total in that class | D10: Percentage of passive orders | E10: Percentage of aggressive orders | F10: Percentage of directed orders
A11: =IF(ISBLANK(RTS28_R_VerbriefteDerivate!A11),"",RTS28_R_VerbriefteDerivate!A11) -> Over the Counter (LOTC) | B11: =IF(ISBLANK(RTS28_R_VerbriefteDerivate!B11),"",RTS28_R_VerbriefteDerivate!B11) -> 0.53245554 | C11: =IF(ISBLANK(RTS28_R_VerbriefteDerivate!C11),"",RTS28_R_VerbriefteDerivate!C11) -> 0.25 | D11: =IF(ISBLANK(RTS28_R_VerbriefteDerivate!D11),"",RTS28_R_VerbriefteDerivate!D11) -> 0 | E11: =IF(ISBLANK(RTS28_R_VerbriefteDerivate!E11),"",RTS28_R_VerbriefteDerivate!E11) -> 0.53245554 | F11: =IF(ISBLANK(RTS28_R_VerbriefteDerivate!F11),"",RTS28_R_VerbriefteDerivate!F11) -> 0
A12: =IF(ISBLANK(RTS28_R_VerbriefteDerivate!A12),"",RTS28_R_VerbriefteDerivate!A12) -> Nasdaq First North Stockholm Equities - SME Growth Market (SSME) | B12: =IF(ISBLANK(RTS28_R_VerbriefteDerivate!B12),"",RTS28_R_VerbriefteDerivate!B12) -> 0.26523421 | C12: =IF(ISBLANK(RTS28_R_VerbriefteDerivate!C12),"",RTS28_R_VerbriefteDerivate!C12) -> 0.125 | D12: =IF(ISBLANK(RTS28_R_VerbriefteDerivate!D12),"",RTS28_R_VerbriefteDerivate!D12) -> 0.26523421 | E12: =IF(ISBLANK(RTS28_R_VerbriefteDerivate!E12),"",RTS28_R_VerbriefteDerivate!E12) -> 0 | F12: =IF(ISBLANK(RTS28_R_VerbriefteDerivate!F12),"",RTS28_R_VerbriefteDerivate!F12) -> 0
A13: =IF(ISBLANK(RTS28_R_VerbriefteDerivate!A13),"",RTS28_R_VerbriefteDerivate!A13) -> Other OTC Market (OOTC) | B13: =IF(ISBLANK(RTS28_R_VerbriefteDerivate!B13),"",RTS28_R_VerbriefteDerivate!B13) -> 0.075967009 | C13: =IF(ISBLANK(RTS28_R_VerbriefteDerivate!C13),"",RTS28_R_VerbriefteDerivate!C13) -> 0.125 | D13: =IF(ISBLANK(RTS28_R_VerbriefteDerivate!D13),"",RTS28_R_VerbriefteDerivate!D13) -> 0 | E13: =IF(ISBLANK(RTS28_R_VerbriefteDerivate!E13),"",RTS28_R_VerbriefteDerivate!E13) -> 0.075967009 | F13: =IF(ISBLANK(RTS28_R_VerbriefteDerivate!F13),"",RTS28_R_VerbriefteDerivate!F13) -> 0
A14: =IF(ISBLANK(RTS28_R_VerbriefteDerivate!A14),"",RTS28_R_VerbriefteDerivate!A14) -> Euwax (EUWX) | B14: =IF(ISBLANK(RTS28_R_VerbriefteDerivate!B14),"",RTS28_R_VerbriefteDerivate!B14) -> 0.054419433 | C14: =IF(ISBLANK(RTS28_R_VerbriefteDerivate!C14),"",RTS28_R_VerbriefteDerivate!C14) -> 0.0625 | D14: =IF(ISBLANK(RTS28_R_VerbriefteDerivate!D14),"",RTS28_R_VerbriefteDerivate!D14) -> 0 | E14: =IF(ISBLANK(RTS28_R_VerbriefteDerivate!E14),"",RTS28_R_VerbriefteDerivate!E14) -> 0.054419433 | F14: =IF(ISBLANK(RTS28_R_VerbriefteDerivate!F14),"",RTS28_R_VerbriefteDerivate!F14) -> 0
A15: =IF(ISBLANK(RTS28_R_VerbriefteDerivate!A15),"",RTS28_R_VerbriefteDerivate!A15) | B15: =IF(ISBLANK(RTS28_R_VerbriefteDerivate!B15),"",RTS28_R_VerbriefteDerivate!B15) | C15: =IF(ISBLANK(RTS28_R_VerbriefteDerivate!C15),"",RTS28_R_VerbriefteDerivate!C15) | D15: =IF(ISBLANK(RTS28_R_VerbriefteDerivate!D15),"",RTS28_R_VerbriefteDerivate!D15) | E15: =IF(ISBLANK(RTS28_R_VerbriefteDerivate!E15),"",RTS28_R_VerbriefteDerivate!E15) | F15: =IF(ISBLANK(RTS28_R_VerbriefteDerivate!F15),"",RTS28_R_VerbriefteDerivate!F15)

Sheet RTS28_R_Structured
A1: =RTS28_R_Equity_Derivates!A1 -> Trading volumes of top five execution venues 2024
A3: Retail clients
A7: Class of Instrument | B7: Structured finance instruments
A8: Notification if <1 average trade per business day in the previous year | B8: =IF(RTS28_R_StrukturierteProdukte!B8="Ja","Yes","No") -> No
A10: Top five execution venues ranked in terms of trading volumes (descending order) | B10: Proportion of volume traded as a percentage of total in that class | C10: Proportion of orders executed as percentage of total in that class | D10: Percentage of passive orders | E10: Percentage of aggressive orders | F10: Percentage of directed orders
A11: =IF(ISBLANK(RTS28_R_StrukturierteProdukte!A11),"",RTS28_R_StrukturierteProdukte!A11) -> Over the Counter (LOTC) | B11: =IF(ISBLANK(RTS28_R_StrukturierteProdukte!B11),"",RTS28_R_StrukturierteProdukte!B11) -> 0.4186859 | C11: =IF(ISBLANK(RTS28_R_StrukturierteProdukte!C11),"",RTS28_R_StrukturierteProdukte!C11) -> 0.27925382 | D11: =IF(ISBLANK(RTS28_R_StrukturierteProdukte!D11),"",RTS28_R_StrukturierteProdukte!D11) -> 0.0059570568 | E11: =IF(ISBLANK(RTS28_R_StrukturierteProdukte!E11),"",RTS28_R_StrukturierteProdukte!E11) -> 0.41272885 | F11: =IF(ISBLANK(RTS28_R_StrukturierteProdukte!F11),"",RTS28_R_StrukturierteProdukte!F11) -> 0
A12: =IF(ISBLANK(RTS28_R_StrukturierteProdukte!A12),"",RTS28_R_StrukturierteProdukte!A12) -> SIX Swiss Exchange (XSWX) | B12: =IF(ISBLANK(RTS28_R_StrukturierteProdukte!B12),"",RTS28_R_StrukturierteProdukte!B12) -> 0.24605506 | C12: =IF(ISBLANK(RTS28_R_StrukturierteProdukte!C12),"",RTS28_R_StrukturierteProdukte!C12) -> 0.32956473 | D12: =IF(ISBLANK(RTS28_R_StrukturierteProdukte!D12),"",RTS28_R_StrukturierteProdukte!D12) -> 0 | E12: =IF(ISBLANK(RTS28_R_StrukturierteProdukte!E12),"",RTS28_R_StrukturierteProdukte!E12) -> 0.24605506 | F12: =IF(ISBLANK(RTS28_R_StrukturierteProdukte!F12),"",RTS28_R_StrukturierteProdukte!F12) -> 0
A13: =IF(ISBLANK(RTS28_R_StrukturierteProdukte!A13),"",RTS28_R_StrukturierteProdukte!A13) -> TRAX (XCOR) | B13: =IF(ISBLANK(RTS28_R_StrukturierteProdukte!B13),"",RTS28_R_StrukturierteProdukte!B13) -> 0.025570566 | C13: =IF(ISBLANK(RTS28_R_StrukturierteProdukte!C13),"",RTS28_R_StrukturierteProdukte!C13) -> 0.032786885 | D13: =IF(ISBLANK(RTS28_R_StrukturierteProdukte!D13),"",RTS28_R_StrukturierteProdukte!D13) -> 0.00036260614 | E13: =IF(ISBLANK(RTS28_R_StrukturierteProdukte!E13),"",RTS28_R_StrukturierteProdukte!E13) -> 0.02520796 | F13: =IF(ISBLANK(RTS28_R_StrukturierteProdukte!F13),"",RTS28_R_StrukturierteProdukte!F13) -> 0
A14: =IF(ISBLANK(RTS28_R_StrukturierteProdukte!A14),"",RTS28_R_StrukturierteProdukte!A14) -> OFF-EXCHANGE TRANSACTIONS - LISTED INSTRUMENTS (XOFF) | B14: =IF(ISBLANK(RTS28_R_StrukturierteProdukte!B14),"",RTS28_R_StrukturierteProdukte!B14) -> 0.0053753139 | C14: =IF(ISBLANK(RTS28_R_StrukturierteProdukte!C14),"",RTS28_R_StrukturierteProdukte!C14) -> 0.016958734 | D14: =IF(ISBLANK(RTS28_R_StrukturierteProdukte!D14),"",RTS28_R_StrukturierteProdukte!D14) -> 0 | E14: =IF(ISBLANK(RTS28_R_StrukturierteProdukte!E14),"",RTS28_R_StrukturierteProdukte!E14) -> 0.0053753139 | F14: =IF(ISBLANK(RTS28_R_StrukturierteProdukte!F14),"",RTS28_R_StrukturierteProdukte!F14) -> 0
A15: =IF(ISBLANK(RTS28_R_StrukturierteProdukte!A15),"",RTS28_R_StrukturierteProdukte!A15) -> SIX Swiss Exchange, Structured Products (XQMH) | B15: =IF(ISBLANK(RTS28_R_StrukturierteProdukte!B15),"",RTS28_R_StrukturierteProdukte!B15) -> 0.0043798007 | C15: =IF(ISBLANK(RTS28_R_StrukturierteProdukte!C15),"",RTS28_R_StrukturierteProdukte!C15) -> 0.018089316 | D15: =IF(ISBLANK(RTS28_R_StrukturierteProdukte!D15),"",RTS28_R_StrukturierteProdukte!D15) -> 0 | E15: =IF(ISBLANK(RTS28_R_StrukturierteProdukte!E15),"",RTS28_R_StrukturierteProdukte!E15) -> 0.0043798007 | F15: =IF(ISBLANK(RTS28_R_StrukturierteProdukte!F15),"",RTS28_R_StrukturierteProdukte!F15) -> 0

Sheet RTS28_R_Interest_derivates
A1: =RTS28_R_Equity_Derivates!A1 -> Trading volumes of top five execution venues 2024
A3: Retail clients
A7: Class of Instrument | B7: Interest rate derivates
A8: Notification if <1 average trade per business day in the previous year | B8: =IF(RTS28_R_Zinsderivate!B8="Ja","Yes","No") -> Yes
A10: Top five execution venues ranked in terms of trading volumes (descending order) | B10: Proportion of volume traded as a percentage of total in that class | C10: Proportion of orders executed as percentage of total in that class | D10: Percentage of passive orders | E10: Percentage of aggressive orders | F10: Percentage of directed orders
A11: =IF(ISBLANK(RTS28_R_Zinsderivate!A11),"",RTS28_R_Zinsderivate!A11) -> n/a | B11: =IF(ISBLANK(RTS28_R_Zinsderivate!B11),"",RTS28_R_Zinsderivate!B11) -> 0 | C11: =IF(ISBLANK(RTS28_R_Zinsderivate!C11),"",RTS28_R_Zinsderivate!C11) -> 0 | D11: =IF(ISBLANK(RTS28_R_Zinsderivate!D11),"",RTS28_R_Zinsderivate!D11) -> 0 | E11: =IF(ISBLANK(RTS28_R_Zinsderivate!E11),"",RTS28_R_Zinsderivate!E11) -> 0 | F11: =IF(ISBLANK(RTS28_R_Zinsderivate!F11),"",RTS28_R_Zinsderivate!F11) -> 0
A12: =IF(ISBLANK(RTS28_R_Zinsderivate!A12),"",RTS28_R_Zinsderivate!A12) | B12: =IF(ISBLANK(RTS28_R_Zinsderivate!B12),"",RTS28_R_Zinsderivate!B12) | C12: =IF(ISBLANK(RTS28_R_Zinsderivate!C12),"",RTS28_R_Zinsderivate!C12) | D12: =IF(ISBLANK(RTS28_R_Zinsderivate!D12),"",RTS28_R_Zinsderivate!D12) | E12: =IF(ISBLANK(RTS28_R_Zinsderivate!E12),"",RTS28_R_Zinsderivate!E12) | F12: =IF(ISBLANK(RTS28_R_Zinsderivate!F12),"",RTS28_R_Zinsderivate!F12)
A13: =IF(ISBLANK(RTS28_R_Zinsderivate!A13),"",RTS28_R_Zinsderivate!A13) | B13: =IF(ISBLANK(RTS28_R_Zinsderivate!B13),"",RTS28_R_Zinsderivate!B13) | C13: =IF(ISBLANK(RTS28_R_Zinsderivate!C13),"",RTS28_R_Zinsderivate!C13) | D13: =IF(ISBLANK(RTS28_R_Zinsderivate!D13),"",RTS28_R_Zinsderivate!D13) | E13: =IF(ISBLANK(RTS28_R_Zinsderivate!E13),"",RTS28_R_Zinsderivate!E13) | F13: =IF(ISBLANK(RTS28_R_Zinsderivate!F13),"",RTS28_R_Zinsderivate!F13)
A14: =IF(ISBLANK(RTS28_R_Zinsderivate!A14),"",RTS28_R_Zinsderivate!A14) | B14: =IF(ISBLANK(RTS28_R_Zinsderivate!B14),"",RTS28_R_Zinsderivate!B14) | C14: =IF(ISBLANK(RTS28_R_Zinsderivate!C14),"",RTS28_R_Zinsderivate!C14) | D14: =IF(ISBLANK(RTS28_R_Zinsderivate!D14),"",RTS28_R_Zinsderivate!D14) | E14: =IF(ISBLANK(RTS28_R_Zinsderivate!E14),"",RTS28_R_Zinsderivate!E14) | F14: =IF(ISBLANK(RTS28_R_Zinsderivate!F14),"",RTS28_R_Zinsderivate!F14)
A15: =IF(ISBLANK(RTS28_R_Zinsderivate!A15),"",RTS28_R_Zinsderivate!A15) | B15: =IF(ISBLANK(RTS28_R_Zinsderivate!B15),"",RTS28_R_Zinsderivate!B15) | C15: =IF(ISBLANK(RTS28_R_Zinsderivate!C15),"",RTS28_R_Zinsderivate!C15) | D15: =IF(ISBLANK(RTS28_R_Zinsderivate!D15),"",RTS28_R_Zinsderivate!D15) | E15: =IF(ISBLANK(RTS28_R_Zinsderivate!E15),"",RTS28_R_Zinsderivate!E15) | F15: =IF(ISBLANK(RTS28_R_Zinsderivate!F15),"",RTS28_R_Zinsderivate!F15)

Sheet RTS28_R_Currency_derivates
A1: =RTS28_R_Equity_Derivates!A1 -> Trading volumes of top five execution venues 2024
A3: Retail clients
A7: Class of Instrument | B7: Currency Derivates
A8: Notification if <1 average trade per business day in the previous year | B8: =IF(RTS28_R_Währungsderivate!B8="Ja","Yes","No") -> No
A10: Top five execution venues ranked in terms of trading volumes (descending order) | B10: Proportion of volume traded as a percentage of total in that class | C10: Proportion of orders executed as percentage of total in that class | D10: Percentage of passive orders | E10: Percentage of aggressive orders | F10: Percentage of directed orders
A11: =IF(ISBLANK(RTS28_R_Währungsderivate!A11),"",RTS28_R_Währungsderivate!A11) -> Kaiser Partner Privatbank AG (529900DPOQPLDSF3R482) | B11: =IF(ISBLANK(RTS28_R_Währungsderivate!B11),"",RTS28_R_Währungsderivate!B11) -> 0.34483185 | C11: =IF(ISBLANK(RTS28_R_Währungsderivate!C11),"",RTS28_R_Währungsderivate!C11) -> 0.84758545 | D11: =IF(ISBLANK(RTS28_R_Währungsderivate!D11),"",RTS28_R_Währungsderivate!D11) -> 0 | E11: =IF(ISBLANK(RTS28_R_Währungsderivate!E11),"",RTS28_R_Währungsderivate!E11) -> 1 | F11: =IF(ISBLANK(RTS28_R_Währungsderivate!F11),"",RTS28_R_Währungsderivate!F11) -> 0
A12: =IF(ISBLANK(RTS28_R_Währungsderivate!A12),"",RTS28_R_Währungsderivate!A12) | B12: =IF(ISBLANK(RTS28_R_Währungsderivate!B12),"",RTS28_R_Währungsderivate!B12) | C12: =IF(ISBLANK(RTS28_R_Währungsderivate!C12),"",RTS28_R_Währungsderivate!C12) | D12: =IF(ISBLANK(RTS28_R_Währungsderivate!D12),"",RTS28_R_Währungsderivate!D12) | E12: =IF(ISBLANK(RTS28_R_Währungsderivate!E12),"",RTS28_R_Währungsderivate!E12) | F12: =IF(ISBLANK(RTS28_R_Währungsderivate!F12),"",RTS28_R_Währungsderivate!F12)
A13: =IF(ISBLANK(RTS28_R_Währungsderivate!A13),"",RTS28_R_Währungsderivate!A13) | B13: =IF(ISBLANK(RTS28_R_Währungsderivate!B13),"",RTS28_R_Währungsderivate!B13) | C13: =IF(ISBLANK(RTS28_R_Währungsderivate!C13),"",RTS28_R_Währungsderivate!C13) | D13: =IF(ISBLANK(RTS28_R_Währungsderivate!D13),"",RTS28_R_Währungsderivate!D13) | E13: =IF(ISBLANK(RTS28_R_Währungsderivate!E13),"",RTS28_R_Währungsderivate!E13) | F13: =IF(ISBLANK(RTS28_R_Währungsderivate!F13),"",RTS28_R_Währungsderivate!F13)
A14: =IF(ISBLANK(RTS28_R_Währungsderivate!A14),"",RTS28_R_Währungsderivate!A14) | B14: =IF(ISBLANK(RTS28_R_Währungsderivate!B14),"",RTS28_R_Währungsderivate!B14) | C14: =IF(ISBLANK(RTS28_R_Währungsderivate!C14),"",RTS28_R_Währungsderivate!C14) | D14: =IF(ISBLANK(RTS28_R_Währungsderivate!D14),"",RTS28_R_Währungsderivate!D14) | E14: =IF(ISBLANK(RTS28_R_Währungsderivate!E14),"",RTS28_R_Währungsderivate!E14) | F14: =IF(ISBLANK(RTS28_R_Währungsderivate!F14),"",RTS28_R_Währungsderivate!F14)
A15: =IF(ISBLANK(RTS28_R_Währungsderivate!A15),"",RTS28_R_Währungsderivate!A15) | B15: =IF(ISBLANK(RTS28_R_Währungsderivate!B15),"",RTS28_R_Währungsderivate!B15) | C15: =IF(ISBLANK(RTS28_R_Währungsderivate!C15),"",RTS28_R_Währungsderivate!C15) | D15: =IF(ISBLANK(RTS28_R_Währungsderivate!D15),"",RTS28_R_Währungsderivate!D15) | E15: =IF(ISBLANK(RTS28_R_Währungsderivate!E15),"",RTS28_R_Währungsderivate!E15) | F15: =IF(ISBLANK(RTS28_R_Währungsderivate!F15),"",RTS28_R_Währungsderivate!F15)

Sheet RTS28_P_Equity_Derivates
A1: =RTS28_R_Equity_Derivates!A1 -> Trading volumes of top five execution venues 2024
A3: Professional clients
